BEGIN:VCALENDAR
VERSION:2.0
PRODID:-//Young Naperville Singers - ECPv6.8.0//NONSGML v1.0//EN
CALSCALE:GREGORIAN
METHOD:PUBLISH
X-WR-CALNAME:Young Naperville Singers
X-ORIGINAL-URL:https://ynschoirs.org
X-WR-CALDESC:Events for Young Naperville Singers
REFRESH-INTERVAL;VALUE=DURATION:PT1H
X-Robots-Tag:noindex
X-PUBLISHED-TTL:PT1H
BEGIN:VTIMEZONE
TZID:America/Chicago
BEGIN:DAYLIGHT
TZOFFSETFROM:-0600
TZOFFSETTO:-0500
TZNAME:CDT
DTSTART:20210314T080000
END:DAYLIGHT
BEGIN:STANDARD
TZOFFSETFROM:-0500
TZOFFSETTO:-0600
TZNAME:CST
DTSTART:20211107T070000
END:STANDARD
END:VTIMEZONE
BEGIN:VEVENT
DTSTART;TZID=America/Chicago:20210223T163000
DTEND;TZID=America/Chicago:20210223T174500
DTSTAMP:20260424T215919
CREATED:20210211T155804Z
LAST-MODIFIED:20210211T155804Z
UID:10001181-1614097800-1614102300@ynschoirs.org
SUMMARY:Brio - Virtual Rehearsal
DESCRIPTION:Brio – Virtual Rehearsal\nZoom – 4:30pm-5:45pm
URL:https://ynschoirs.org/calendar/brio-virtual-rehearsal-2/2021-02-23/
CATEGORIES:Brio,Parents
END:VEVENT
BEGIN:VEVENT
DTSTART;TZID=America/Chicago:20210223T164500
DTEND;TZID=America/Chicago:20210223T180000
DTSTAMP:20260424T215919
CREATED:20210211T202357Z
LAST-MODIFIED:20210211T202357Z
UID:10001200-1614098700-1614103200@ynschoirs.org
SUMMARY:Ragazzi - In-Person Rehearsal
DESCRIPTION:Ragazzi – In-Person Rehearsal\nFaith Lutheran Church \n4:45pm-6:00pm
URL:https://ynschoirs.org/calendar/ragazzi-in-person-rehearsal/
LOCATION:Faith Lutheran Church\, 3000 Liberty Street\, Aurora\, IL\, 60502
CATEGORIES:Parents,Ragazzi
END:VEVENT
BEGIN:VEVENT
DTSTART;TZID=America/Chicago:20210223T174500
DTEND;TZID=America/Chicago:20210223T203000
DTSTAMP:20260424T215919
CREATED:20210211T201133Z
LAST-MODIFIED:20210211T201414Z
UID:10001197-1614102300-1614112200@ynschoirs.org
SUMMARY:BV - In-Person Rehearsal
DESCRIPTION:Bella Voce – In-Person Rehearsal\nCalvary Church \nGroup One: 5:45-7:00pm    Group Two: 7:15pm-8:30pm
URL:https://ynschoirs.org/calendar/bv-in-person-rehearsal/
LOCATION:Calvary Church\, 9S200 Illinois Route 59\, Naperville\, IL\, 60564
CATEGORIES:Bella Voce,Parents
END:VEVENT
BEGIN:VEVENT
DTSTART;TZID=America/Chicago:20210223T183000
DTEND;TZID=America/Chicago:20210223T194500
DTSTAMP:20260424T215919
CREATED:20210211T203745Z
LAST-MODIFIED:20210211T203749Z
UID:10001229-1614105000-1614109500@ynschoirs.org
SUMMARY:Canto Vivo - In-Person Rehearsal
DESCRIPTION:Canto Vivo – In-Person Rehearsal\nFaith Lutheran Church \n6:30pm-7:45pm
URL:https://ynschoirs.org/calendar/canto-vivo-in-person-rehearsal/
LOCATION:Faith Lutheran Church\, 3000 Liberty Street\, Aurora\, IL\, 60502
CATEGORIES:Canto Vivo,Parents
END:VEVENT
BEGIN:VEVENT
DTSTART;TZID=America/Chicago:20210223T183000
DTEND;TZID=America/Chicago:20210223T200000
DTSTAMP:20260424T215919
CREATED:20210212T013555Z
LAST-MODIFIED:20210212T013555Z
UID:10001273-1614105000-1614110400@ynschoirs.org
SUMMARY:Cantabile - Virtual Rehearsal
DESCRIPTION:Cantabile – Virtual Rehearsal\nZoom 6:30pm-8:00pm \n 
URL:https://ynschoirs.org/calendar/cantabile-virtual-rehearsal-5/
LOCATION:Zoom
CATEGORIES:Cantabile,Parents
END:VEVENT
END:VCALENDAR