BEGIN:VCALENDAR
VERSION:2.0
PRODID:-//Young Naperville Singers - ECPv6.8.0//NONSGML v1.0//EN
CALSCALE:GREGORIAN
METHOD:PUBLISH
X-WR-CALNAME:Young Naperville Singers
X-ORIGINAL-URL:https://ynschoirs.org
X-WR-CALDESC:Events for Young Naperville Singers
REFRESH-INTERVAL;VALUE=DURATION:PT1H
X-Robots-Tag:noindex
X-PUBLISHED-TTL:PT1H
BEGIN:VTIMEZONE
TZID:America/Chicago
BEGIN:DAYLIGHT
TZOFFSETFROM:-0600
TZOFFSETTO:-0500
TZNAME:CDT
DTSTART:20210314T080000
END:DAYLIGHT
BEGIN:STANDARD
TZOFFSETFROM:-0500
TZOFFSETTO:-0600
TZNAME:CST
DTSTART:20211107T070000
END:STANDARD
END:VTIMEZONE
BEGIN:VEVENT
DTSTART;TZID=America/Chicago:20210413T163000
DTEND;TZID=America/Chicago:20210413T174500
DTSTAMP:20260424T184705
CREATED:20210323T174849Z
LAST-MODIFIED:20210323T174849Z
UID:10001299-1618331400-1618335900@ynschoirs.org
SUMMARY:Brio - Virtual Rehearsal
DESCRIPTION:Brio – Virtual Rehearsal\nZoom
URL:https://ynschoirs.org/calendar/brio-virtual-rehearsal-3/
LOCATION:Zoom
CATEGORIES:Brio,Parents
END:VEVENT
BEGIN:VEVENT
DTSTART;TZID=America/Chicago:20210413T164500
DTEND;TZID=America/Chicago:20210413T180000
DTSTAMP:20260424T184705
CREATED:20210323T180655Z
LAST-MODIFIED:20210323T180705Z
UID:10001305-1618332300-1618336800@ynschoirs.org
SUMMARY:Ragazzi - In-Person Rehearsal
DESCRIPTION:Ragazzi – In-Person Rehearsal\nFaith Lutheran Church
URL:https://ynschoirs.org/calendar/3865/2021-04-13/
LOCATION:Faith Lutheran Church\, 3000 Liberty Street\, Aurora\, IL\, 60502
CATEGORIES:Parents,Ragazzi
END:VEVENT
BEGIN:VEVENT
DTSTART;TZID=America/Chicago:20210413T173000
DTEND;TZID=America/Chicago:20210413T193000
DTSTAMP:20260424T184705
CREATED:20210323T183754Z
LAST-MODIFIED:20210323T183941Z
UID:10001323-1618335000-1618342200@ynschoirs.org
SUMMARY:Cantabile - In-Person Rehearsal
DESCRIPTION:Cantabile – In-Person Rehearsal\nRiverwalk Grand Pavilion Group One: 5:30-6:45pm  Group Two: 6:15-7:30pm \nCombined Rehearsal: Group One 5:30-6:15; Combined 6:15-6:45pm; Group Two 6:45-7:30pm
URL:https://ynschoirs.org/calendar/cantabile-in-person-rehearsal-6/
LOCATION:Riverwalk Grand Pavilion\, 912 Honaray Sindt Memorial Court\, Naperville\, IL
CATEGORIES:Cantabile,Parents
END:VEVENT
BEGIN:VEVENT
DTSTART;TZID=America/Chicago:20210413T181500
DTEND;TZID=America/Chicago:20210413T201500
DTSTAMP:20260424T184705
CREATED:20210323T185108Z
LAST-MODIFIED:20210323T185108Z
UID:10001334-1618337700-1618344900@ynschoirs.org
SUMMARY:BV - In-Person Rehearsal
DESCRIPTION:Bella Voce – In-Person Rehearsal\nCalvary Church \nGroup One: 6:15-7:30pm  Group Two: 7:00-8:15pm \nCombined Rehearsal: Group One 6:15-7:00; Combined 7:00-7:30pm; Group Two 7:30-8:15pm
URL:https://ynschoirs.org/calendar/bv-in-person-rehearsal-3/
LOCATION:Calvary Church\, 9S200 Illinois Route 59\, Naperville\, IL\, 60564
CATEGORIES:Bella Voce,Parents
END:VEVENT
BEGIN:VEVENT
DTSTART;TZID=America/Chicago:20210413T183000
DTEND;TZID=America/Chicago:20210413T194500
DTSTAMP:20260424T184705
CREATED:20210323T181306Z
LAST-MODIFIED:20210323T181306Z
UID:10001309-1618338600-1618343100@ynschoirs.org
SUMMARY:CV - In-Person Rehearsal
DESCRIPTION:Canto Vivo – In-Person Rehearsal\nFaith Lutheran Church
URL:https://ynschoirs.org/calendar/cv-in-person-rehearsal/2021-04-13/
LOCATION:Faith Lutheran Church\, 3000 Liberty Street\, Aurora\, IL\, 60502
CATEGORIES:Canto Vivo,Parents
END:VEVENT
END:VCALENDAR