BEGIN:VCALENDAR
VERSION:2.0
PRODID:-//Young Naperville Singers - ECPv6.8.0//NONSGML v1.0//EN
CALSCALE:GREGORIAN
METHOD:PUBLISH
X-WR-CALNAME:Young Naperville Singers
X-ORIGINAL-URL:https://ynschoirs.org
X-WR-CALDESC:Events for Young Naperville Singers
REFRESH-INTERVAL;VALUE=DURATION:PT1H
X-Robots-Tag:noindex
X-PUBLISHED-TTL:PT1H
BEGIN:VTIMEZONE
TZID:America/Chicago
BEGIN:DAYLIGHT
TZOFFSETFROM:-0600
TZOFFSETTO:-0500
TZNAME:CDT
DTSTART:20210314T080000
END:DAYLIGHT
BEGIN:STANDARD
TZOFFSETFROM:-0500
TZOFFSETTO:-0600
TZNAME:CST
DTSTART:20211107T070000
END:STANDARD
END:VTIMEZONE
BEGIN:VEVENT
DTSTART;TZID=America/Chicago:20210420T163000
DTEND;TZID=America/Chicago:20210420T171500
DTSTAMP:20260424T184642
CREATED:20210323T174745Z
LAST-MODIFIED:20210323T174745Z
UID:10001298-1618936200-1618938900@ynschoirs.org
SUMMARY:Brio - In-Person Rehearsal
DESCRIPTION:Brio – In-Person Rehearsal\nCalvary Church
URL:https://ynschoirs.org/calendar/brio-in-person-rehearsal-2/
LOCATION:Calvary Church\, 9S200 Illinois Route 59\, Naperville\, IL\, 60564
CATEGORIES:Brio,Parents
END:VEVENT
BEGIN:VEVENT
DTSTART;TZID=America/Chicago:20210420T164500
DTEND;TZID=America/Chicago:20210420T180000
DTSTAMP:20260424T184642
CREATED:20210323T180655Z
LAST-MODIFIED:20210323T180705Z
UID:10001306-1618937100-1618941600@ynschoirs.org
SUMMARY:Ragazzi - In-Person Rehearsal
DESCRIPTION:Ragazzi – In-Person Rehearsal\nFaith Lutheran Church
URL:https://ynschoirs.org/calendar/3865/2021-04-20/
LOCATION:Faith Lutheran Church\, 3000 Liberty Street\, Aurora\, IL\, 60502
CATEGORIES:Parents,Ragazzi
END:VEVENT
BEGIN:VEVENT
DTSTART;TZID=America/Chicago:20210420T173000
DTEND;TZID=America/Chicago:20210420T193000
DTSTAMP:20260424T184642
CREATED:20210323T183626Z
LAST-MODIFIED:20210323T183856Z
UID:10001322-1618939800-1618947000@ynschoirs.org
SUMMARY:Cantabile - In-Person Rehearsal
DESCRIPTION:Cantabile – In-Person Rehearsal\nCalvary Church Group One: 5:30-6:45pm  Group Two: 6:15-7:30pm \nCombined Rehearsal: Group One 5:30-6:15; Combined 6:15-6:45pm; Group Two 6:45-7:30pm
URL:https://ynschoirs.org/calendar/cantabile-in-person-rehearsal-5/
LOCATION:Calvary Church\, 9S200 Illinois Route 59\, Naperville\, IL\, 60564
CATEGORIES:Cantabile,Parents
END:VEVENT
BEGIN:VEVENT
DTSTART;TZID=America/Chicago:20210420T181500
DTEND;TZID=America/Chicago:20210420T201500
DTSTAMP:20260424T184642
CREATED:20210323T185404Z
LAST-MODIFIED:20210323T185404Z
UID:10001353-1618942500-1618949700@ynschoirs.org
SUMMARY:BV - In-Person Rehearsal
DESCRIPTION:Bella Voce – In-Person Rehearsal\nRiverwalk Grand Pavilion \nGroup One: 6:15-7:30pm  Group Two: 7:00-8:15pm \nCombined Rehearsal: Group One 6:15-7:00; Combined 7:00-7:30pm; Group Two 7:30-8:15pm
URL:https://ynschoirs.org/calendar/bv-in-person-rehearsal-6/
LOCATION:Riverwalk Grand Pavilion\, 912 Honaray Sindt Memorial Court\, Naperville\, IL
CATEGORIES:Bella Voce,Parents
END:VEVENT
BEGIN:VEVENT
DTSTART;TZID=America/Chicago:20210420T183000
DTEND;TZID=America/Chicago:20210420T194500
DTSTAMP:20260424T184642
CREATED:20210323T181306Z
LAST-MODIFIED:20210323T181306Z
UID:10001310-1618943400-1618947900@ynschoirs.org
SUMMARY:CV - In-Person Rehearsal
DESCRIPTION:Canto Vivo – In-Person Rehearsal\nFaith Lutheran Church
URL:https://ynschoirs.org/calendar/cv-in-person-rehearsal/2021-04-20/
LOCATION:Faith Lutheran Church\, 3000 Liberty Street\, Aurora\, IL\, 60502
CATEGORIES:Canto Vivo,Parents
END:VEVENT
END:VCALENDAR