BEGIN:VCALENDAR
VERSION:2.0
PRODID:-//Young Naperville Singers - ECPv6.8.0//NONSGML v1.0//EN
CALSCALE:GREGORIAN
METHOD:PUBLISH
X-WR-CALNAME:Young Naperville Singers
X-ORIGINAL-URL:https://ynschoirs.org
X-WR-CALDESC:Events for Young Naperville Singers
REFRESH-INTERVAL;VALUE=DURATION:PT1H
X-Robots-Tag:noindex
X-PUBLISHED-TTL:PT1H
BEGIN:VTIMEZONE
TZID:America/Chicago
BEGIN:DAYLIGHT
TZOFFSETFROM:-0600
TZOFFSETTO:-0500
TZNAME:CDT
DTSTART:20210314T080000
END:DAYLIGHT
BEGIN:STANDARD
TZOFFSETFROM:-0500
TZOFFSETTO:-0600
TZNAME:CST
DTSTART:20211107T070000
END:STANDARD
END:VTIMEZONE
BEGIN:VEVENT
DTSTART;TZID=America/Chicago:20210918T164500
DTEND;TZID=America/Chicago:20210918T210000
DTSTAMP:20260424T104754
CREATED:20210902T201726Z
LAST-MODIFIED:20210913T175940Z
UID:10001514-1631983500-1631998800@ynschoirs.org
SUMMARY:Bella Cantare Retreat
DESCRIPTION:4:45pm-9:00pm Camp Greene Wood \n*Bring water\, beach towel\, & bug spray.  Wear tennis shoes and socks (no sandals) and bring a rain coat and/or sweatshirt if necessary.
URL:https://ynschoirs.org/calendar/bella-cantare-retreat/
LOCATION:Camp Greene Wood\, 3125 71st Street\, Woodridge\, IL\, 60517
CATEGORIES:Bella Cantare,Parents
END:VEVENT
BEGIN:VEVENT
DTSTART;TZID=America/Chicago:20210918T190000
DTEND;TZID=America/Chicago:20210918T200000
DTSTAMP:20260424T104754
CREATED:20210902T203108Z
LAST-MODIFIED:20210902T203108Z
UID:10001515-1631991600-1631995200@ynschoirs.org
SUMMARY:Ragazzi Sister Cities Performance
DESCRIPTION:Ragazzi Sister Cities Performance\n7:00pm arrival at the Community Concert Center (Performance at 7:30 or 7:45pm with dismissal after the performance)  *Please wear jeans\, tennis shoes\, and your YNS t-shirt \n 
URL:https://ynschoirs.org/calendar/ragazzi-sister-cities-performance/
LOCATION:Community Concert Center\, 55 Concert Lane\, Naperville\, IL\, 60540
CATEGORIES:Parents,Ragazzi
END:VEVENT
END:VCALENDAR