BEGIN:VCALENDAR
VERSION:2.0
PRODID:-//Young Naperville Singers - ECPv6.8.0//NONSGML v1.0//EN
CALSCALE:GREGORIAN
METHOD:PUBLISH
X-ORIGINAL-URL:https://ynschoirs.org
X-WR-CALDESC:Events for Young Naperville Singers
REFRESH-INTERVAL;VALUE=DURATION:PT1H
X-Robots-Tag:noindex
X-PUBLISHED-TTL:PT1H
BEGIN:VTIMEZONE
TZID:America/Chicago
BEGIN:DAYLIGHT
TZOFFSETFROM:-0600
TZOFFSETTO:-0500
TZNAME:CDT
DTSTART:20210314T080000
END:DAYLIGHT
BEGIN:STANDARD
TZOFFSETFROM:-0500
TZOFFSETTO:-0600
TZNAME:CST
DTSTART:20211107T070000
END:STANDARD
END:VTIMEZONE
BEGIN:VEVENT
DTSTART;TZID=America/Chicago:20210928T163000
DTEND;TZID=America/Chicago:20210928T174500
DTSTAMP:20260424T090450
CREATED:20210831T223447Z
LAST-MODIFIED:20210831T223447Z
UID:10001449-1632846600-1632851100@ynschoirs.org
SUMMARY:Brio Rehearsal
DESCRIPTION:Brio Rehearsal\n4:30pm-5:45pm Faith Lutheran Church
URL:https://ynschoirs.org/calendar/brio-rehearsal/2021-09-28/
LOCATION:Faith Lutheran Church\, 3000 Liberty Street\, Aurora\, IL\, 60502
CATEGORIES:Brio,Parents
END:VEVENT
BEGIN:VEVENT
DTSTART;TZID=America/Chicago:20210928T164500
DTEND;TZID=America/Chicago:20210928T181500
DTSTAMP:20260424T090450
CREATED:20210831T224727Z
LAST-MODIFIED:20210831T224727Z
UID:10001215-1632847500-1632852900@ynschoirs.org
SUMMARY:Ragazzi Rehearsal
DESCRIPTION:Ragazzi Rehearsal\n4:45pm-6:15pm Community Concert Center
URL:https://ynschoirs.org/calendar/ragazzi-rehearsal/2021-09-28/
LOCATION:Community Concert Center\, 55 Concert Lane\, Naperville\, IL\, 60540
CATEGORIES:Parents,Ragazzi
END:VEVENT
BEGIN:VEVENT
DTSTART;TZID=America/Chicago:20210928T181500
DTEND;TZID=America/Chicago:20210928T201500
DTSTAMP:20260424T090450
CREATED:20210902T185637Z
LAST-MODIFIED:20210902T185637Z
UID:10001252-1632852900-1632860100@ynschoirs.org
SUMMARY:Bella Voce Rehearsal
DESCRIPTION:Bella Voce Rehearsal\n6:15pm-8:15pm Faith Lutheran Church
URL:https://ynschoirs.org/calendar/bella-voce-rehearsal/2021-09-28/
LOCATION:Faith Lutheran Church\, 3000 Liberty Street\, Aurora\, IL\, 60502
CATEGORIES:Bella Voce,Parents
END:VEVENT
BEGIN:VEVENT
DTSTART;TZID=America/Chicago:20210928T184500
DTEND;TZID=America/Chicago:20210928T201500
DTSTAMP:20260424T090450
CREATED:20210902T160618Z
LAST-MODIFIED:20210902T160618Z
UID:10001233-1632854700-1632860100@ynschoirs.org
SUMMARY:Cantabile Rehearsal
DESCRIPTION:Cantabile Rehearsal\n6:45pm-8:15pm Community Concert Center
URL:https://ynschoirs.org/calendar/cantabile-rehearsal/2021-09-28/
LOCATION:Community Concert Center\, 55 Concert Lane\, Naperville\, IL\, 60540
CATEGORIES:Cantabile,Parents
END:VEVENT
END:VCALENDAR