BEGIN:VCALENDAR
VERSION:2.0
PRODID:-//Young Naperville Singers - ECPv6.8.0//NONSGML v1.0//EN
CALSCALE:GREGORIAN
METHOD:PUBLISH
X-WR-CALNAME:Young Naperville Singers
X-ORIGINAL-URL:https://ynschoirs.org
X-WR-CALDESC:Events for Young Naperville Singers
REFRESH-INTERVAL;VALUE=DURATION:PT1H
X-Robots-Tag:noindex
X-PUBLISHED-TTL:PT1H
BEGIN:VTIMEZONE
TZID:America/Chicago
BEGIN:DAYLIGHT
TZOFFSETFROM:-0600
TZOFFSETTO:-0500
TZNAME:CDT
DTSTART:20220313T080000
END:DAYLIGHT
BEGIN:STANDARD
TZOFFSETFROM:-0500
TZOFFSETTO:-0600
TZNAME:CST
DTSTART:20221106T070000
END:STANDARD
END:VTIMEZONE
BEGIN:VEVENT
DTSTART;TZID=America/Chicago:20220425T164500
DTEND;TZID=America/Chicago:20220425T174500
DTSTAMP:20260423T212345
CREATED:20220112T174546Z
LAST-MODIFIED:20220307T154347Z
UID:10001597-1650905100-1650908700@ynschoirs.org
SUMMARY:Dolce Showcase Performance
DESCRIPTION:Dolce Showcase Performance\nAlden of Waterford 4:45pm arrival\, 5:00pm performance
URL:https://ynschoirs.org/calendar/dolce-rehearsal-4-2022-04-25/
LOCATION:ServBank\, 3201 Orchard Road\, Oswego\, IL\, 60543
CATEGORIES:Dolce,Parents
END:VEVENT
BEGIN:VEVENT
DTSTART;TZID=America/Chicago:20220425T181500
DTEND;TZID=America/Chicago:20220425T200000
DTSTAMP:20260423T212345
CREATED:20220112T174345Z
LAST-MODIFIED:20220112T174345Z
UID:10001582-1650910500-1650916800@ynschoirs.org
SUMMARY:Canto Vivo Rehearsal
DESCRIPTION:Canto Vivo Rehearsal\nFaith Lutheran Church 6:15-8:00pm
URL:https://ynschoirs.org/calendar/canto-vivo-rehearsal-2/2022-04-25/
LOCATION:Faith Lutheran Church\, 3000 Liberty Street\, Aurora\, IL\, 60502
CATEGORIES:Canto Vivo,Parents
END:VEVENT
BEGIN:VEVENT
DTSTART;TZID=America/Chicago:20220425T181500
DTEND;TZID=America/Chicago:20220425T201500
DTSTAMP:20260423T212345
CREATED:20220112T174209Z
LAST-MODIFIED:20220112T174209Z
UID:10001568-1650910500-1650917700@ynschoirs.org
SUMMARY:Bella Cantare Rehearsal
DESCRIPTION:Bella Cantare Rehearsal\nFaith Lutheran Church 6:15-8:15pm
URL:https://ynschoirs.org/calendar/bella-cantare-rehearsal-2/2022-04-25/
LOCATION:Faith Lutheran Church\, 3000 Liberty Street\, Aurora\, IL\, 60502
CATEGORIES:Bella Cantare,Parents
END:VEVENT
END:VCALENDAR