BEGIN:VCALENDAR
VERSION:2.0
PRODID:-//Young Naperville Singers - ECPv6.8.0//NONSGML v1.0//EN
CALSCALE:GREGORIAN
METHOD:PUBLISH
X-ORIGINAL-URL:https://ynschoirs.org
X-WR-CALDESC:Events for Young Naperville Singers
REFRESH-INTERVAL;VALUE=DURATION:PT1H
X-Robots-Tag:noindex
X-PUBLISHED-TTL:PT1H
BEGIN:VTIMEZONE
TZID:America/Chicago
BEGIN:DAYLIGHT
TZOFFSETFROM:-0600
TZOFFSETTO:-0500
TZNAME:CDT
DTSTART:20220313T080000
END:DAYLIGHT
BEGIN:STANDARD
TZOFFSETFROM:-0500
TZOFFSETTO:-0600
TZNAME:CST
DTSTART:20221106T070000
END:STANDARD
END:VTIMEZONE
BEGIN:VEVENT
DTSTART;TZID=America/Chicago:20220909T164500
DTEND;TZID=America/Chicago:20220910T173000
DTSTAMP:20260423T151142
CREATED:20220801T201144Z
LAST-MODIFIED:20220801T201654Z
UID:10001684-1662741900-1662831000@ynschoirs.org
SUMMARY:Bella Voce Retreat
DESCRIPTION:Overnight Retreat at Camp Duncan… \nDrop off and pick up is at Our Saviour’s Church – Celebration Campus located at 919 S. Washington St in Naperville
URL:https://ynschoirs.org/calendar/bella-voce-retreat-2/
LOCATION:Camp Duncan\, 32405 N. US Hwy 12\, Ingleside\, IL\, 60041
CATEGORIES:Bella Voce,Parents
END:VEVENT
BEGIN:VEVENT
DTSTART;TZID=America/Chicago:20220910T141500
DTEND;TZID=America/Chicago:20220911T173000
DTSTAMP:20260423T151142
CREATED:20220801T201636Z
LAST-MODIFIED:20220801T201636Z
UID:10001685-1662819300-1662917400@ynschoirs.org
SUMMARY:Bella Cantare & Canto Vivo Retreat
DESCRIPTION:Overnight Retreat at Camp Duncan… \nDrop off and pick up is at Our Saviour’s Church – Celebration Campus located at 919 S. Washington St in Naperville
URL:https://ynschoirs.org/calendar/bella-voce-retreat-2-2/
LOCATION:Camp Duncan\, 32405 N. US Hwy 12\, Ingleside\, IL\, 60041
CATEGORIES:Bella Cantare,Canto Vivo,Parents
END:VEVENT
END:VCALENDAR