BEGIN:VCALENDAR
VERSION:2.0
PRODID:-//Young Naperville Singers - ECPv6.8.0//NONSGML v1.0//EN
CALSCALE:GREGORIAN
METHOD:PUBLISH
X-WR-CALNAME:Young Naperville Singers
X-ORIGINAL-URL:https://ynschoirs.org
X-WR-CALDESC:Events for Young Naperville Singers
REFRESH-INTERVAL;VALUE=DURATION:PT1H
X-Robots-Tag:noindex
X-PUBLISHED-TTL:PT1H
BEGIN:VTIMEZONE
TZID:America/Chicago
BEGIN:DAYLIGHT
TZOFFSETFROM:-0600
TZOFFSETTO:-0500
TZNAME:CDT
DTSTART:20220313T080000
END:DAYLIGHT
BEGIN:STANDARD
TZOFFSETFROM:-0500
TZOFFSETTO:-0600
TZNAME:CST
DTSTART:20221106T070000
END:STANDARD
END:VTIMEZONE
BEGIN:VEVENT
DTSTART;TZID=America/Chicago:20220917T090000
DTEND;TZID=America/Chicago:20220917T113000
DTSTAMP:20260423T151133
CREATED:20220801T202326Z
LAST-MODIFIED:20220801T202326Z
UID:10001689-1663405200-1663414200@ynschoirs.org
SUMMARY:Aria Retreat
DESCRIPTION:Morning retreat at Camp Greene Wood
URL:https://ynschoirs.org/calendar/cantabile-retreat-2-2-3/
LOCATION:Camp Greene Wood\, 3125 71st Street\, Woodridge\, IL\, 60517
CATEGORIES:Aria,Parents
END:VEVENT
BEGIN:VEVENT
DTSTART;TZID=America/Chicago:20220917T130000
DTEND;TZID=America/Chicago:20220917T163000
DTSTAMP:20260423T151133
CREATED:20220801T202205Z
LAST-MODIFIED:20220801T202205Z
UID:10001688-1663419600-1663432200@ynschoirs.org
SUMMARY:Brillante Retreat
DESCRIPTION:Afternoon retreat at Camp Greene Wood
URL:https://ynschoirs.org/calendar/cantabile-retreat-2-2-2/
LOCATION:Camp Greene Wood\, 3125 71st Street\, Woodridge\, IL\, 60517
CATEGORIES:Brillante,Parents
END:VEVENT
BEGIN:VEVENT
DTSTART;TZID=America/Chicago:20220917T170000
DTEND;TZID=America/Chicago:20220917T203000
DTSTAMP:20260423T151133
CREATED:20220801T202051Z
LAST-MODIFIED:20220801T202051Z
UID:10001687-1663434000-1663446600@ynschoirs.org
SUMMARY:Ragazzi Retreat
DESCRIPTION:Evening retreat at Camp Greene Wood
URL:https://ynschoirs.org/calendar/cantabile-retreat-2-2/
LOCATION:Camp Greene Wood\, 3125 71st Street\, Woodridge\, IL\, 60517
CATEGORIES:Parents,Ragazzi
END:VEVENT
END:VCALENDAR