BEGIN:VCALENDAR
VERSION:2.0
PRODID:-//Young Naperville Singers - ECPv6.8.0//NONSGML v1.0//EN
CALSCALE:GREGORIAN
METHOD:PUBLISH
X-ORIGINAL-URL:https://ynschoirs.org
X-WR-CALDESC:Events for Young Naperville Singers
REFRESH-INTERVAL;VALUE=DURATION:PT1H
X-Robots-Tag:noindex
X-PUBLISHED-TTL:PT1H
BEGIN:VTIMEZONE
TZID:America/Chicago
BEGIN:DAYLIGHT
TZOFFSETFROM:-0600
TZOFFSETTO:-0500
TZNAME:CDT
DTSTART:20220313T080000
END:DAYLIGHT
BEGIN:STANDARD
TZOFFSETFROM:-0500
TZOFFSETTO:-0600
TZNAME:CST
DTSTART:20221106T070000
END:STANDARD
END:VTIMEZONE
BEGIN:VEVENT
DTSTART;TZID=America/Chicago:20221210T083000
DTEND;TZID=America/Chicago:20221210T100000
DTSTAMP:20260423T091130
CREATED:20220801T210447Z
LAST-MODIFIED:20221027T145510Z
UID:10001333-1670661000-1670666400@ynschoirs.org
SUMMARY:Choirs Connect Aria & Cantabile
DESCRIPTION:Aria & Cantabile 8:30am-10am \n 
URL:https://ynschoirs.org/calendar/choirs-connect/
LOCATION:St. Timothy Church\, 1313 N. Mill Street\, Naperville\, IL\, 60563
CATEGORIES:Aria,Cantabile,Parents
END:VEVENT
BEGIN:VEVENT
DTSTART;TZID=America/Chicago:20221210T103000
DTEND;TZID=America/Chicago:20221210T120000
DTSTAMP:20260423T091130
CREATED:20221027T145622Z
LAST-MODIFIED:20221027T145622Z
UID:10001816-1670668200-1670673600@ynschoirs.org
SUMMARY:Choirs Connect Brillante & Bella Voce
DESCRIPTION:Brillante and Bella Voce 10:30am-12:00pm \n 
URL:https://ynschoirs.org/calendar/choirs-connect-2/
LOCATION:St. Timothy Church\, 1313 N. Mill Street\, Naperville\, IL\, 60563
CATEGORIES:Bella Voce,Brillante,Parents
END:VEVENT
BEGIN:VEVENT
DTSTART;TZID=America/Chicago:20221210T130000
DTEND;TZID=America/Chicago:20221210T140000
DTSTAMP:20260423T091130
CREATED:20220801T205337Z
LAST-MODIFIED:20220801T210108Z
UID:10001330-1670677200-1670680800@ynschoirs.org
SUMMARY:Brio & Ragazzi Showcase Performance
DESCRIPTION:Monarch Landing – Arrival 1:00pm and performance at 1:30pm
URL:https://ynschoirs.org/calendar/brio-ragazzi-showcase-performance/
LOCATION:Monarch Landing\, 2255 Monarch Drive\, Naperville\, IL\, 60563
CATEGORIES:Brio,Parents,Ragazzi
END:VEVENT
END:VCALENDAR