BEGIN:VCALENDAR
VERSION:2.0
PRODID:-//Young Naperville Singers - ECPv6.8.0//NONSGML v1.0//EN
CALSCALE:GREGORIAN
METHOD:PUBLISH
X-WR-CALNAME:Young Naperville Singers
X-ORIGINAL-URL:https://ynschoirs.org
X-WR-CALDESC:Events for Young Naperville Singers
REFRESH-INTERVAL;VALUE=DURATION:PT1H
X-Robots-Tag:noindex
X-PUBLISHED-TTL:PT1H
BEGIN:VTIMEZONE
TZID:America/Chicago
BEGIN:DAYLIGHT
TZOFFSETFROM:-0600
TZOFFSETTO:-0500
TZNAME:CDT
DTSTART:20230312T080000
END:DAYLIGHT
BEGIN:STANDARD
TZOFFSETFROM:-0500
TZOFFSETTO:-0600
TZNAME:CST
DTSTART:20231105T070000
END:STANDARD
END:VTIMEZONE
BEGIN:VEVENT
DTSTART;TZID=America/Chicago:20230418T164500
DTEND;TZID=America/Chicago:20230418T173000
DTSTAMP:20260423T005845
CREATED:20230405T170922Z
LAST-MODIFIED:20230405T170922Z
UID:10002013-1681836300-1681839000@ynschoirs.org
SUMMARY:Brio Showcase
DESCRIPTION:Martin Avenue 4:45-5:30pm (Wear Concert Attire)
URL:https://ynschoirs.org/calendar/brio-showcase/
LOCATION:Martin Avenue\, 310 W. Martin Avenue\, Naperville\, IL\, 60540
CATEGORIES:Brio,Parents
END:VEVENT
BEGIN:VEVENT
DTSTART;TZID=America/Chicago:20230418T164500
DTEND;TZID=America/Chicago:20230418T181500
DTSTAMP:20260423T005845
CREATED:20230110T202301Z
LAST-MODIFIED:20230110T202301Z
UID:10001924-1681836300-1681841700@ynschoirs.org
SUMMARY:Ragazzi Rehearsal
DESCRIPTION:Community Concert Center
URL:https://ynschoirs.org/calendar/ragazzi-rehearsal-5/2023-04-18/
LOCATION:Community Concert Center\, 55 Concert Lane\, Naperville\, IL\, 60540
CATEGORIES:Parents,Ragazzi
END:VEVENT
BEGIN:VEVENT
DTSTART;TZID=America/Chicago:20230418T181500
DTEND;TZID=America/Chicago:20230418T201500
DTSTAMP:20260423T005845
CREATED:20230110T200915Z
LAST-MODIFIED:20230110T200915Z
UID:10001877-1681841700-1681848900@ynschoirs.org
SUMMARY:Bella Voce Rehearsal
DESCRIPTION:Community Concert Center
URL:https://ynschoirs.org/calendar/bella-voce-rehearsal-5/2023-04-18/
LOCATION:Community Concert Center\, 55 Concert Lane\, Naperville\, IL\, 60540
CATEGORIES:Bella Voce,Parents
END:VEVENT
BEGIN:VEVENT
DTSTART;TZID=America/Chicago:20230418T183000
DTEND;TZID=America/Chicago:20230418T200000
DTSTAMP:20260423T005845
CREATED:20230110T201710Z
LAST-MODIFIED:20230110T201710Z
UID:10001908-1681842600-1681848000@ynschoirs.org
SUMMARY:Cantabile Rehearsal
DESCRIPTION:Community Concert Center
URL:https://ynschoirs.org/calendar/cantabile-rehearsal-5/2023-04-18/
LOCATION:Community Concert Center\, 55 Concert Lane\, Naperville\, IL\, 60540
CATEGORIES:Cantabile,Parents
END:VEVENT
END:VCALENDAR