BEGIN:VCALENDAR
VERSION:2.0
PRODID:-//Young Naperville Singers - ECPv6.8.0//NONSGML v1.0//EN
CALSCALE:GREGORIAN
METHOD:PUBLISH
X-WR-CALNAME:Young Naperville Singers
X-ORIGINAL-URL:https://ynschoirs.org
X-WR-CALDESC:Events for Young Naperville Singers
REFRESH-INTERVAL;VALUE=DURATION:PT1H
X-Robots-Tag:noindex
X-PUBLISHED-TTL:PT1H
BEGIN:VTIMEZONE
TZID:America/Chicago
BEGIN:DAYLIGHT
TZOFFSETFROM:-0600
TZOFFSETTO:-0500
TZNAME:CDT
DTSTART:20230312T080000
END:DAYLIGHT
BEGIN:STANDARD
TZOFFSETFROM:-0500
TZOFFSETTO:-0600
TZNAME:CST
DTSTART:20231105T070000
END:STANDARD
END:VTIMEZONE
BEGIN:VEVENT
DTSTART;TZID=America/Chicago:20230904T181500
DTEND;TZID=America/Chicago:20230904T200000
DTSTAMP:20260422T173748
CREATED:20230918T152049Z
LAST-MODIFIED:20230918T152049Z
UID:10002035-1693851300-1693857600@ynschoirs.org
SUMMARY:Canto Vivo Rehearsal
DESCRIPTION:
URL:https://ynschoirs.org/calendar/canto-vivo-rehearsal-5/2023-09-04/
LOCATION:Our Saviour’s Lutheran Church\, 815 S. Washington Street\, Naperville\, IL\, 60540
CATEGORIES:Canto Vivo,Parents
END:VEVENT
BEGIN:VEVENT
DTSTART;TZID=America/Chicago:20230904T181500
DTEND;TZID=America/Chicago:20230904T201500
DTSTAMP:20260422T173748
CREATED:20230918T151655Z
LAST-MODIFIED:20230918T151655Z
UID:10002020-1693851300-1693858500@ynschoirs.org
SUMMARY:Bella Cantare Rehearsal
DESCRIPTION:
URL:https://ynschoirs.org/calendar/bella-cantare-rehearsal-6/2023-09-04/
LOCATION:Our Saviour’s Lutheran Church\, 815 S. Washington Street\, Naperville\, IL\, 60540
CATEGORIES:Bella Cantare,Parents
END:VEVENT
END:VCALENDAR