BEGIN:VCALENDAR
VERSION:2.0
PRODID:-//Young Naperville Singers - ECPv6.8.0//NONSGML v1.0//EN
CALSCALE:GREGORIAN
METHOD:PUBLISH
X-WR-CALNAME:Young Naperville Singers
X-ORIGINAL-URL:https://ynschoirs.org
X-WR-CALDESC:Events for Young Naperville Singers
REFRESH-INTERVAL;VALUE=DURATION:PT1H
X-Robots-Tag:noindex
X-PUBLISHED-TTL:PT1H
BEGIN:VTIMEZONE
TZID:America/Chicago
BEGIN:DAYLIGHT
TZOFFSETFROM:-0600
TZOFFSETTO:-0500
TZNAME:CDT
DTSTART:20230312T080000
END:DAYLIGHT
BEGIN:STANDARD
TZOFFSETFROM:-0500
TZOFFSETTO:-0600
TZNAME:CST
DTSTART:20231105T070000
END:STANDARD
END:VTIMEZONE
BEGIN:VEVENT
DTSTART;TZID=America/Chicago:20230914T163000
DTEND;TZID=America/Chicago:20230914T180000
DTSTAMP:20260422T173747
CREATED:20230918T155253Z
LAST-MODIFIED:20230918T155253Z
UID:10002196-1694709000-1694714400@ynschoirs.org
SUMMARY:Brillante Rehearsal
DESCRIPTION:
URL:https://ynschoirs.org/calendar/brillante-rehearsal-6/2023-09-14/
LOCATION:Community Concert Center\, 55 Concert Lane\, Naperville\, IL\, 60540
CATEGORIES:Brillante,Parents
END:VEVENT
BEGIN:VEVENT
DTSTART;TZID=America/Chicago:20230914T164500
DTEND;TZID=America/Chicago:20230914T174500
DTSTAMP:20260422T173747
CREATED:20230918T154151Z
LAST-MODIFIED:20231018T174814Z
UID:10002144-1694709900-1694713500@ynschoirs.org
SUMMARY:Primo Thursday Rehearsal
DESCRIPTION:
URL:https://ynschoirs.org/calendar/primo-thursday-rehearsal-2/2023-09-14/
LOCATION:Community Concert Center\, 55 Concert Lane\, Naperville\, IL\, 60540
CATEGORIES:Parents,Primo
END:VEVENT
BEGIN:VEVENT
DTSTART;TZID=America/Chicago:20230914T164500
DTEND;TZID=America/Chicago:20230914T180000
DTSTAMP:20260422T173747
CREATED:20230918T155046Z
LAST-MODIFIED:20230918T155046Z
UID:10002164-1694709900-1694714400@ynschoirs.org
SUMMARY:Aria 4:45 Rehearsal
DESCRIPTION:
URL:https://ynschoirs.org/calendar/aria-445-rehearsal/2023-09-14/
LOCATION:Our Saviour’s Lutheran Church\, 815 S. Washington Street\, Naperville\, IL\, 60540
CATEGORIES:Aria,Parents
END:VEVENT
BEGIN:VEVENT
DTSTART;TZID=America/Chicago:20230914T181500
DTEND;TZID=America/Chicago:20230914T193000
DTSTAMP:20260422T173747
CREATED:20230918T155151Z
LAST-MODIFIED:20230921T162103Z
UID:10002235-1694715300-1694719800@ynschoirs.org
SUMMARY:Aria 6:15 Rehearsal
DESCRIPTION:
URL:https://ynschoirs.org/calendar/aria-615-rehearsal/2023-09-14/
LOCATION:Our Saviour’s Lutheran Church\, 815 S. Washington Street\, Naperville\, IL\, 60540
CATEGORIES:Aria,Parents
END:VEVENT
END:VCALENDAR