BEGIN:VCALENDAR
VERSION:2.0
PRODID:-//Young Naperville Singers - ECPv6.8.0//NONSGML v1.0//EN
CALSCALE:GREGORIAN
METHOD:PUBLISH
X-ORIGINAL-URL:https://ynschoirs.org
X-WR-CALDESC:Events for Young Naperville Singers
REFRESH-INTERVAL;VALUE=DURATION:PT1H
X-Robots-Tag:noindex
X-PUBLISHED-TTL:PT1H
BEGIN:VTIMEZONE
TZID:America/Chicago
BEGIN:DAYLIGHT
TZOFFSETFROM:-0600
TZOFFSETTO:-0500
TZNAME:CDT
DTSTART:20230312T080000
END:DAYLIGHT
BEGIN:STANDARD
TZOFFSETFROM:-0500
TZOFFSETTO:-0600
TZNAME:CST
DTSTART:20231105T070000
END:STANDARD
END:VTIMEZONE
BEGIN:VEVENT
DTSTART;TZID=America/Chicago:20230919T163000
DTEND;TZID=America/Chicago:20230919T174500
DTSTAMP:20260422T173806
CREATED:20230918T153502Z
LAST-MODIFIED:20230918T153502Z
UID:10002069-1695141000-1695145500@ynschoirs.org
SUMMARY:Brio Rehearsal
DESCRIPTION:
URL:https://ynschoirs.org/calendar/brio-rehearsal-6/2023-09-19/
LOCATION:Community Concert Center\, 55 Concert Lane\, Naperville\, IL\, 60540
CATEGORIES:Brio,Parents
END:VEVENT
BEGIN:VEVENT
DTSTART;TZID=America/Chicago:20230919T164500
DTEND;TZID=America/Chicago:20230919T173000
DTSTAMP:20260422T173806
CREATED:20230918T200452Z
LAST-MODIFIED:20231024T153536Z
UID:10002223-1695141900-1695144600@ynschoirs.org
SUMMARY:Voci Rehearsal
DESCRIPTION:
URL:https://ynschoirs.org/calendar/voci-rehearsal/2023-09-19/
LOCATION:Our Saviour’s Lutheran Church\, 815 S. Washington Street\, Naperville\, IL\, 60540
CATEGORIES:Parents,Voci
END:VEVENT
BEGIN:VEVENT
DTSTART;TZID=America/Chicago:20230919T164500
DTEND;TZID=America/Chicago:20230919T181500
DTSTAMP:20260422T173806
CREATED:20230918T153617Z
LAST-MODIFIED:20230918T153617Z
UID:10002084-1695141900-1695147300@ynschoirs.org
SUMMARY:Ragazzi Rehearsal
DESCRIPTION:
URL:https://ynschoirs.org/calendar/ragazzi-rehearsal-6/2023-09-19/
LOCATION:Community Concert Center\, 55 Concert Lane\, Naperville\, IL\, 60540
CATEGORIES:Parents,Ragazzi
END:VEVENT
BEGIN:VEVENT
DTSTART;TZID=America/Chicago:20230919T181500
DTEND;TZID=America/Chicago:20230919T201500
DTSTAMP:20260422T173806
CREATED:20230918T153726Z
LAST-MODIFIED:20230918T153726Z
UID:10002099-1695147300-1695154500@ynschoirs.org
SUMMARY:Bella Voce Rehearsal
DESCRIPTION:
URL:https://ynschoirs.org/calendar/bella-voce-rehearsal-6/2023-09-19/
LOCATION:Community Concert Center\, 55 Concert Lane\, Naperville\, IL\, 60540
CATEGORIES:Bella Voce,Parents
END:VEVENT
BEGIN:VEVENT
DTSTART;TZID=America/Chicago:20230919T183000
DTEND;TZID=America/Chicago:20230919T200000
DTSTAMP:20260422T173806
CREATED:20230918T153828Z
LAST-MODIFIED:20230918T153828Z
UID:10002114-1695148200-1695153600@ynschoirs.org
SUMMARY:Cantabile Rehearsal
DESCRIPTION:
URL:https://ynschoirs.org/calendar/cantabile-rehearsal-6/2023-09-19/
LOCATION:Community Concert Center\, 55 Concert Lane\, Naperville\, IL\, 60540
CATEGORIES:Cantabile,Parents
END:VEVENT
END:VCALENDAR