BEGIN:VCALENDAR
VERSION:2.0
PRODID:-//Young Naperville Singers - ECPv6.8.0//NONSGML v1.0//EN
CALSCALE:GREGORIAN
METHOD:PUBLISH
X-ORIGINAL-URL:https://ynschoirs.org
X-WR-CALDESC:Events for Young Naperville Singers
REFRESH-INTERVAL;VALUE=DURATION:PT1H
X-Robots-Tag:noindex
X-PUBLISHED-TTL:PT1H
BEGIN:VTIMEZONE
TZID:America/Chicago
BEGIN:DAYLIGHT
TZOFFSETFROM:-0600
TZOFFSETTO:-0500
TZNAME:CDT
DTSTART:20240310T080000
END:DAYLIGHT
BEGIN:STANDARD
TZOFFSETFROM:-0500
TZOFFSETTO:-0600
TZNAME:CST
DTSTART:20241103T070000
END:STANDARD
END:VTIMEZONE
BEGIN:VEVENT
DTSTART;VALUE=DATE:20240512
DTEND;VALUE=DATE:20240513
DTSTAMP:20260422T051710
CREATED:20240213T212233Z
LAST-MODIFIED:20240221T194938Z
UID:10002498-1715472000-1715558399@ynschoirs.org
SUMMARY:40th Anniversary Spring Concerts
DESCRIPTION:40th Anniversary Spring Concerts\nRagazzi\, Cantabile\, Bella Voce\, Bella Cantare & Canto Vivo \n3:30 & 6:30pm Concerts – All Groups Will Perform in both Concerts (concerts will have identical programming)
URL:https://ynschoirs.org/calendar/40th-anniversary-spring-concerts/
LOCATION:Wentz Concert Hall\, 171 E Chicago Avenue\, Naperville\, IL\, 60540
CATEGORIES:Bella Cantare,Bella Voce,Cantabile,Canto Vivo,Parents,Ragazzi
END:VEVENT
END:VCALENDAR