BEGIN:VCALENDAR
VERSION:2.0
PRODID:-//Young Naperville Singers - ECPv6.8.0//NONSGML v1.0//EN
CALSCALE:GREGORIAN
METHOD:PUBLISH
X-ORIGINAL-URL:https://ynschoirs.org
X-WR-CALDESC:Events for Young Naperville Singers
REFRESH-INTERVAL;VALUE=DURATION:PT1H
X-Robots-Tag:noindex
X-PUBLISHED-TTL:PT1H
BEGIN:VTIMEZONE
TZID:America/Chicago
BEGIN:DAYLIGHT
TZOFFSETFROM:-0600
TZOFFSETTO:-0500
TZNAME:CDT
DTSTART:20240310T080000
END:DAYLIGHT
BEGIN:STANDARD
TZOFFSETFROM:-0500
TZOFFSETTO:-0600
TZNAME:CST
DTSTART:20241103T070000
END:STANDARD
END:VTIMEZONE
BEGIN:VEVENT
DTSTART;VALUE=DATE:20241125
DTEND;VALUE=DATE:20241126
DTSTAMP:20260421T195910
CREATED:20241021T165241Z
LAST-MODIFIED:20241021T165241Z
UID:10002516-1732492800-1732579199@ynschoirs.org
SUMMARY:Dolce - No Rehearsal
DESCRIPTION:
URL:https://ynschoirs.org/calendar/dolce-no-rehearsal-7/
CATEGORIES:Dolce,Parents
END:VEVENT
BEGIN:VEVENT
DTSTART;TZID=America/Chicago:20241125T080000
DTEND;TZID=America/Chicago:20241125T170000
DTSTAMP:20260421T195910
CREATED:20241021T164922Z
LAST-MODIFIED:20241021T164922Z
UID:10002514-1732521600-1732554000@ynschoirs.org
SUMMARY:BC & CV Rehearsals
DESCRIPTION:BC & CV have normal rehearsals tonight: 6:15-8:15pm BC and 6:15-8:00pm for CV
URL:https://ynschoirs.org/calendar/bc-cv-rehearsals/
CATEGORIES:Bella Cantare,Canto Vivo,Parents
END:VEVENT
END:VCALENDAR