BEGIN:VCALENDAR
VERSION:2.0
PRODID:-//Young Naperville Singers - ECPv6.8.0//NONSGML v1.0//EN
CALSCALE:GREGORIAN
METHOD:PUBLISH
X-ORIGINAL-URL:https://ynschoirs.org
X-WR-CALDESC:Events for Young Naperville Singers
REFRESH-INTERVAL;VALUE=DURATION:PT1H
X-Robots-Tag:noindex
X-PUBLISHED-TTL:PT1H
BEGIN:VTIMEZONE
TZID:America/Chicago
BEGIN:DAYLIGHT
TZOFFSETFROM:-0600
TZOFFSETTO:-0500
TZNAME:CDT
DTSTART:20230312T080000
END:DAYLIGHT
BEGIN:STANDARD
TZOFFSETFROM:-0500
TZOFFSETTO:-0600
TZNAME:CST
DTSTART:20231105T070000
END:STANDARD
END:VTIMEZONE
BEGIN:VEVENT
DTSTART;TZID=America/Chicago:20230406T170000
DTEND;TZID=America/Chicago:20230406T181500
DTSTAMP:20260423T040158
CREATED:20230110T203316Z
LAST-MODIFIED:20230405T174033Z
UID:10001971-1680800400-1680804900@ynschoirs.org
SUMMARY:Aria Rehearsal
DESCRIPTION:Community Concert Center
URL:https://ynschoirs.org/calendar/aria-rehearsal-5/2023-04-06/
LOCATION:Community Concert Center\, 55 Concert Lane\, Naperville\, IL\, 60540
CATEGORIES:Aria,Parents
END:VEVENT
BEGIN:VEVENT
DTSTART;TZID=America/Chicago:20230413T170000
DTEND;TZID=America/Chicago:20230413T181500
DTSTAMP:20260423T040158
CREATED:20230110T203316Z
LAST-MODIFIED:20230405T174033Z
UID:10001972-1681405200-1681409700@ynschoirs.org
SUMMARY:Aria Rehearsal
DESCRIPTION:Community Concert Center
URL:https://ynschoirs.org/calendar/aria-rehearsal-5/2023-04-13/
LOCATION:Community Concert Center\, 55 Concert Lane\, Naperville\, IL\, 60540
CATEGORIES:Aria,Parents
END:VEVENT
BEGIN:VEVENT
DTSTART;TZID=America/Chicago:20230420T170000
DTEND;TZID=America/Chicago:20230420T181500
DTSTAMP:20260423T040158
CREATED:20230110T203316Z
LAST-MODIFIED:20230405T174033Z
UID:10001973-1682010000-1682014500@ynschoirs.org
SUMMARY:Aria Rehearsal
DESCRIPTION:Community Concert Center
URL:https://ynschoirs.org/calendar/aria-rehearsal-5/2023-04-20/
LOCATION:Community Concert Center\, 55 Concert Lane\, Naperville\, IL\, 60540
CATEGORIES:Aria,Parents
END:VEVENT
BEGIN:VEVENT
DTSTART;TZID=America/Chicago:20230427T164500
DTEND;TZID=America/Chicago:20230427T173000
DTSTAMP:20260423T040158
CREATED:20230405T171531Z
LAST-MODIFIED:20230405T171531Z
UID:10002015-1682613900-1682616600@ynschoirs.org
SUMMARY:Aria Showcase
DESCRIPTION:Martin Avenue 4:45-5:30pm (Wear Concert Attire)
URL:https://ynschoirs.org/calendar/aria-showcase/
LOCATION:Martin Avenue\, 310 W. Martin Avenue\, Naperville\, IL\, 60540
CATEGORIES:Aria,Parents
END:VEVENT
BEGIN:VEVENT
DTSTART;TZID=America/Chicago:20230430T153000
DTEND;TZID=America/Chicago:20230430T170000
DTSTAMP:20260423T040158
CREATED:20230110T203948Z
LAST-MODIFIED:20230316T154311Z
UID:10001996-1682868600-1682874000@ynschoirs.org
SUMMARY:Spring Concert - St. Thomas Church
DESCRIPTION:Primo\, Aria\, Brio\, Dolce\, Ragazzi & Bella Voce \n\nSpring Concert at St. Thomas the Apostle Catholic Church\n3:30pm Concert – Singers will need to arrive earlier than that for a rehearsal (Time TBD)
URL:https://ynschoirs.org/calendar/spring-concert-st-thomas-church/
LOCATION:St. Thomas the Apostle Catholic Church\, 1500 Brookdale Road\, Naperville\, IL\, 60563
CATEGORIES:Aria,Bella Voce,Brio,Community Events,Dolce,Parents,Primo,Ragazzi
END:VEVENT
END:VCALENDAR