BEGIN:VCALENDAR
VERSION:2.0
PRODID:-//Young Naperville Singers - ECPv6.8.0//NONSGML v1.0//EN
CALSCALE:GREGORIAN
METHOD:PUBLISH
X-WR-CALNAME:Young Naperville Singers
X-ORIGINAL-URL:https://ynschoirs.org
X-WR-CALDESC:Events for Young Naperville Singers
REFRESH-INTERVAL;VALUE=DURATION:PT1H
X-Robots-Tag:noindex
X-PUBLISHED-TTL:PT1H
BEGIN:VTIMEZONE
TZID:America/Chicago
BEGIN:DAYLIGHT
TZOFFSETFROM:-0600
TZOFFSETTO:-0500
TZNAME:CDT
DTSTART:20230312T080000
END:DAYLIGHT
BEGIN:STANDARD
TZOFFSETFROM:-0500
TZOFFSETTO:-0600
TZNAME:CST
DTSTART:20231105T070000
END:STANDARD
END:VTIMEZONE
BEGIN:VEVENT
DTSTART;TZID=America/Chicago:20230907T164500
DTEND;TZID=America/Chicago:20230907T180000
DTSTAMP:20260422T200021
CREATED:20230918T155046Z
LAST-MODIFIED:20230918T155046Z
UID:10002163-1694105100-1694109600@ynschoirs.org
SUMMARY:Aria 4:45 Rehearsal
DESCRIPTION:
URL:https://ynschoirs.org/calendar/aria-445-rehearsal/2023-09-07/
LOCATION:Our Saviour’s Lutheran Church\, 815 S. Washington Street\, Naperville\, IL\, 60540
CATEGORIES:Aria,Parents
END:VEVENT
BEGIN:VEVENT
DTSTART;TZID=America/Chicago:20230907T181500
DTEND;TZID=America/Chicago:20230907T193000
DTSTAMP:20260422T200021
CREATED:20230918T155151Z
LAST-MODIFIED:20230921T162103Z
UID:10002234-1694110500-1694115000@ynschoirs.org
SUMMARY:Aria 6:15 Rehearsal
DESCRIPTION:
URL:https://ynschoirs.org/calendar/aria-615-rehearsal/2023-09-07/
LOCATION:Our Saviour’s Lutheran Church\, 815 S. Washington Street\, Naperville\, IL\, 60540
CATEGORIES:Aria,Parents
END:VEVENT
BEGIN:VEVENT
DTSTART;TZID=America/Chicago:20230914T164500
DTEND;TZID=America/Chicago:20230914T180000
DTSTAMP:20260422T200021
CREATED:20230918T155046Z
LAST-MODIFIED:20230918T155046Z
UID:10002164-1694709900-1694714400@ynschoirs.org
SUMMARY:Aria 4:45 Rehearsal
DESCRIPTION:
URL:https://ynschoirs.org/calendar/aria-445-rehearsal/2023-09-14/
LOCATION:Our Saviour’s Lutheran Church\, 815 S. Washington Street\, Naperville\, IL\, 60540
CATEGORIES:Aria,Parents
END:VEVENT
BEGIN:VEVENT
DTSTART;TZID=America/Chicago:20230914T181500
DTEND;TZID=America/Chicago:20230914T193000
DTSTAMP:20260422T200021
CREATED:20230918T155151Z
LAST-MODIFIED:20230921T162103Z
UID:10002235-1694715300-1694719800@ynschoirs.org
SUMMARY:Aria 6:15 Rehearsal
DESCRIPTION:
URL:https://ynschoirs.org/calendar/aria-615-rehearsal/2023-09-14/
LOCATION:Our Saviour’s Lutheran Church\, 815 S. Washington Street\, Naperville\, IL\, 60540
CATEGORIES:Aria,Parents
END:VEVENT
BEGIN:VEVENT
DTSTART;TZID=America/Chicago:20230921T164500
DTEND;TZID=America/Chicago:20230921T180000
DTSTAMP:20260422T200021
CREATED:20230918T155046Z
LAST-MODIFIED:20230918T155046Z
UID:10002165-1695314700-1695319200@ynschoirs.org
SUMMARY:Aria 4:45 Rehearsal
DESCRIPTION:
URL:https://ynschoirs.org/calendar/aria-445-rehearsal/2023-09-21/
LOCATION:Our Saviour’s Lutheran Church\, 815 S. Washington Street\, Naperville\, IL\, 60540
CATEGORIES:Aria,Parents
END:VEVENT
BEGIN:VEVENT
DTSTART;TZID=America/Chicago:20230921T181500
DTEND;TZID=America/Chicago:20230921T193000
DTSTAMP:20260422T200021
CREATED:20230918T155151Z
LAST-MODIFIED:20230921T162103Z
UID:10002236-1695320100-1695324600@ynschoirs.org
SUMMARY:Aria 6:15 Rehearsal
DESCRIPTION:
URL:https://ynschoirs.org/calendar/aria-615-rehearsal/2023-09-21/
LOCATION:Our Saviour’s Lutheran Church\, 815 S. Washington Street\, Naperville\, IL\, 60540
CATEGORIES:Aria,Parents
END:VEVENT
BEGIN:VEVENT
DTSTART;TZID=America/Chicago:20230928T164500
DTEND;TZID=America/Chicago:20230928T180000
DTSTAMP:20260422T200021
CREATED:20230918T155046Z
LAST-MODIFIED:20230918T155046Z
UID:10002166-1695919500-1695924000@ynschoirs.org
SUMMARY:Aria 4:45 Rehearsal
DESCRIPTION:
URL:https://ynschoirs.org/calendar/aria-445-rehearsal/2023-09-28/
LOCATION:Our Saviour’s Lutheran Church\, 815 S. Washington Street\, Naperville\, IL\, 60540
CATEGORIES:Aria,Parents
END:VEVENT
BEGIN:VEVENT
DTSTART;TZID=America/Chicago:20230928T181500
DTEND;TZID=America/Chicago:20230928T193000
DTSTAMP:20260422T200021
CREATED:20230918T155151Z
LAST-MODIFIED:20230921T162103Z
UID:10002237-1695924900-1695929400@ynschoirs.org
SUMMARY:Aria 6:15 Rehearsal
DESCRIPTION:
URL:https://ynschoirs.org/calendar/aria-615-rehearsal/2023-09-28/
LOCATION:Our Saviour’s Lutheran Church\, 815 S. Washington Street\, Naperville\, IL\, 60540
CATEGORIES:Aria,Parents
END:VEVENT
BEGIN:VEVENT
DTSTART;TZID=America/Chicago:20230930T093000
DTEND;TZID=America/Chicago:20230930T130000
DTSTAMP:20260422T200021
CREATED:20230928T160428Z
LAST-MODIFIED:20230928T160505Z
UID:10002249-1696066200-1696078800@ynschoirs.org
SUMMARY:YNS Family Fest
DESCRIPTION:Schedule for the day:\n\nAria: Line Up 9:15am\, Perform 9:30am\nBella Voce: Line Up 9:45am\, Perform 10am\nBrillante: Line Up 10:15am\, Perform 10:30am\nRagazzi: Line Up 10:45am\, Perform 11am\nCantabile Line Up 11:15am\, Perform 11:30am\nDolce: Line Up 11:45am\, Perform 12pm\nPrimo: Line Up 12:15pm\, Perform 12:30pm\n\n*Brio & Voci – please come and join in the fun anytime between 10:00am and 12:30pm! \nYNS Family Fest Information and Schedule \n*YNS Family Fest activities will be held from 10:00am-12:30pm. There will be musical activities\, a craft\, and YNS info tables for the singers and their families to enjoy before or after their performance. \n 
URL:https://ynschoirs.org/calendar/yns-family-fest/
LOCATION:St. John’s Episcopal Church\, 750 Aurora Ave\, Naperville\, IL\, 60540
CATEGORIES:Aria,Bella Voce,Brillante,Brio,Cantabile,Dolce,Parents,Primo,Ragazzi,Voci
END:VEVENT
END:VCALENDAR