BEGIN:VCALENDAR
VERSION:2.0
PRODID:-//Young Naperville Singers - ECPv6.8.0//NONSGML v1.0//EN
CALSCALE:GREGORIAN
METHOD:PUBLISH
X-WR-CALNAME:Young Naperville Singers
X-ORIGINAL-URL:https://ynschoirs.org
X-WR-CALDESC:Events for Young Naperville Singers
REFRESH-INTERVAL;VALUE=DURATION:PT1H
X-Robots-Tag:noindex
X-PUBLISHED-TTL:PT1H
BEGIN:VTIMEZONE
TZID:America/Chicago
BEGIN:DAYLIGHT
TZOFFSETFROM:-0600
TZOFFSETTO:-0500
TZNAME:CDT
DTSTART:20230312T080000
END:DAYLIGHT
BEGIN:STANDARD
TZOFFSETFROM:-0500
TZOFFSETTO:-0600
TZNAME:CST
DTSTART:20231105T070000
END:STANDARD
END:VTIMEZONE
BEGIN:VEVENT
DTSTART;TZID=America/Chicago:20231102T164500
DTEND;TZID=America/Chicago:20231102T180000
DTSTAMP:20260422T171153
CREATED:20230918T155046Z
LAST-MODIFIED:20230918T155046Z
UID:10002171-1698943500-1698948000@ynschoirs.org
SUMMARY:Aria 4:45 Rehearsal
DESCRIPTION:
URL:https://ynschoirs.org/calendar/aria-445-rehearsal/2023-11-02/
LOCATION:Our Saviour’s Lutheran Church\, 815 S. Washington Street\, Naperville\, IL\, 60540
CATEGORIES:Aria,Parents
END:VEVENT
BEGIN:VEVENT
DTSTART;TZID=America/Chicago:20231102T181500
DTEND;TZID=America/Chicago:20231102T193000
DTSTAMP:20260422T171153
CREATED:20230918T155151Z
LAST-MODIFIED:20230921T162103Z
UID:10002242-1698948900-1698953400@ynschoirs.org
SUMMARY:Aria 6:15 Rehearsal
DESCRIPTION:
URL:https://ynschoirs.org/calendar/aria-615-rehearsal/2023-11-02/
LOCATION:Our Saviour’s Lutheran Church\, 815 S. Washington Street\, Naperville\, IL\, 60540
CATEGORIES:Aria,Parents
END:VEVENT
BEGIN:VEVENT
DTSTART;VALUE=DATE:20231103
DTEND;VALUE=DATE:20231104
DTSTAMP:20260422T171153
CREATED:20230918T155751Z
LAST-MODIFIED:20230918T155751Z
UID:10002213-1698969600-1699055999@ynschoirs.org
SUMMARY:YNS Butter Braid Fundraiser Ends
DESCRIPTION:All orders and payments are due online/to the YNS office.
URL:https://ynschoirs.org/calendar/yns-butter-braid-fundraiser-ends/
LOCATION:IL
CATEGORIES:Aria,Bella Cantare,Bella Voce,Brillante,Brio,Cantabile,Canto Vivo,Dolce,Parents,Primo,Ragazzi
END:VEVENT
BEGIN:VEVENT
DTSTART;TZID=America/Chicago:20231105T153000
DTEND;TZID=America/Chicago:20231105T163000
DTSTAMP:20260422T171153
CREATED:20231023T151420Z
LAST-MODIFIED:20231023T151420Z
UID:10002252-1699198200-1699201800@ynschoirs.org
SUMMARY:Photo for the 40th!
DESCRIPTION:Be a part of a HISTORIC 40th Anniversary photo!  Have your singer wear their 40th Anniversary choir t-shirt they received in September and meet us in the gym at Naperville Central High School.  Enter through Door 9 (the athletic door).   We can’t wait to have you be a part of this photo!  There will of course be some singing too!
URL:https://ynschoirs.org/calendar/photo-for-the-40th/
LOCATION:Naperville Central High School\, 440 Aurora Ave (Door 9)\, Naperville\, IL\, 60540
CATEGORIES:Aria,Bella Cantare,Bella Voce,Brillante,Brio,Cantabile,Canto Vivo,Dolce,Parents,Primo,Ragazzi,Voci
END:VEVENT
BEGIN:VEVENT
DTSTART;TZID=America/Chicago:20231109T164500
DTEND;TZID=America/Chicago:20231109T180000
DTSTAMP:20260422T171153
CREATED:20230918T155046Z
LAST-MODIFIED:20230918T155046Z
UID:10002172-1699548300-1699552800@ynschoirs.org
SUMMARY:Aria 4:45 Rehearsal
DESCRIPTION:
URL:https://ynschoirs.org/calendar/aria-445-rehearsal/2023-11-09/
LOCATION:Our Saviour’s Lutheran Church\, 815 S. Washington Street\, Naperville\, IL\, 60540
CATEGORIES:Aria,Parents
END:VEVENT
BEGIN:VEVENT
DTSTART;TZID=America/Chicago:20231109T181500
DTEND;TZID=America/Chicago:20231109T193000
DTSTAMP:20260422T171153
CREATED:20230918T155151Z
LAST-MODIFIED:20230921T162103Z
UID:10002243-1699553700-1699558200@ynschoirs.org
SUMMARY:Aria 6:15 Rehearsal
DESCRIPTION:
URL:https://ynschoirs.org/calendar/aria-615-rehearsal/2023-11-09/
LOCATION:Our Saviour’s Lutheran Church\, 815 S. Washington Street\, Naperville\, IL\, 60540
CATEGORIES:Aria,Parents
END:VEVENT
BEGIN:VEVENT
DTSTART;TZID=America/Chicago:20231111T090000
DTEND;TZID=America/Chicago:20231111T110000
DTSTAMP:20260422T171153
CREATED:20230918T155925Z
LAST-MODIFIED:20230918T155925Z
UID:10002214-1699693200-1699700400@ynschoirs.org
SUMMARY:Butter Braid Pick-Up
DESCRIPTION:All families who participated in the Butter Braid Fundraiser must pick up their orders at the Community Concert Center.
URL:https://ynschoirs.org/calendar/butter-braid-pick-up-3/
LOCATION:Community Concert Center\, 55 Concert Lane\, Naperville\, IL\, 60540
CATEGORIES:Aria,Bella Cantare,Bella Voce,Brillante,Brio,Cantabile,Canto Vivo,Dolce,Parents,Primo,Ragazzi
END:VEVENT
BEGIN:VEVENT
DTSTART;TZID=America/Chicago:20231116T164500
DTEND;TZID=America/Chicago:20231116T180000
DTSTAMP:20260422T171153
CREATED:20230918T155046Z
LAST-MODIFIED:20230918T155046Z
UID:10002173-1700153100-1700157600@ynschoirs.org
SUMMARY:Aria 4:45 Rehearsal
DESCRIPTION:
URL:https://ynschoirs.org/calendar/aria-445-rehearsal/2023-11-16/
LOCATION:Our Saviour’s Lutheran Church\, 815 S. Washington Street\, Naperville\, IL\, 60540
CATEGORIES:Aria,Parents
END:VEVENT
BEGIN:VEVENT
DTSTART;TZID=America/Chicago:20231116T181500
DTEND;TZID=America/Chicago:20231116T193000
DTSTAMP:20260422T171153
CREATED:20230918T155151Z
LAST-MODIFIED:20230921T162103Z
UID:10002244-1700158500-1700163000@ynschoirs.org
SUMMARY:Aria 6:15 Rehearsal
DESCRIPTION:
URL:https://ynschoirs.org/calendar/aria-615-rehearsal/2023-11-16/
LOCATION:Our Saviour’s Lutheran Church\, 815 S. Washington Street\, Naperville\, IL\, 60540
CATEGORIES:Aria,Parents
END:VEVENT
BEGIN:VEVENT
DTSTART;VALUE=DATE:20231121
DTEND;VALUE=DATE:20231124
DTSTAMP:20260422T171153
CREATED:20230918T155416Z
LAST-MODIFIED:20230918T155416Z
UID:10002210-1700524800-1700783999@ynschoirs.org
SUMMARY:No Rehersals
DESCRIPTION:Thanksgiving Break – Voci\, Brio\, Ragazzi\, Cantabile\, Bella Voce\, Primo\, Aria & Brillante
URL:https://ynschoirs.org/calendar/no-rehersals/
LOCATION:IL
CATEGORIES:Aria,Bella Voce,Brillante,Brio,Cantabile,Canto Vivo,Parents,Primo,Ragazzi
END:VEVENT
BEGIN:VEVENT
DTSTART;TZID=America/Chicago:20231130T164500
DTEND;TZID=America/Chicago:20231130T180000
DTSTAMP:20260422T171153
CREATED:20230918T155046Z
LAST-MODIFIED:20230918T155046Z
UID:10002174-1701362700-1701367200@ynschoirs.org
SUMMARY:Aria 4:45 Rehearsal
DESCRIPTION:
URL:https://ynschoirs.org/calendar/aria-445-rehearsal/2023-11-30/
LOCATION:Our Saviour’s Lutheran Church\, 815 S. Washington Street\, Naperville\, IL\, 60540
CATEGORIES:Aria,Parents
END:VEVENT
BEGIN:VEVENT
DTSTART;TZID=America/Chicago:20231130T181500
DTEND;TZID=America/Chicago:20231130T193000
DTSTAMP:20260422T171153
CREATED:20230918T155151Z
LAST-MODIFIED:20230921T162103Z
UID:10002245-1701368100-1701372600@ynschoirs.org
SUMMARY:Aria 6:15 Rehearsal
DESCRIPTION:
URL:https://ynschoirs.org/calendar/aria-615-rehearsal/2023-11-30/
LOCATION:Our Saviour’s Lutheran Church\, 815 S. Washington Street\, Naperville\, IL\, 60540
CATEGORIES:Aria,Parents
END:VEVENT
END:VCALENDAR