BEGIN:VCALENDAR
VERSION:2.0
PRODID:-//Young Naperville Singers - ECPv6.8.0//NONSGML v1.0//EN
CALSCALE:GREGORIAN
METHOD:PUBLISH
X-WR-CALNAME:Young Naperville Singers
X-ORIGINAL-URL:https://ynschoirs.org
X-WR-CALDESC:Events for Young Naperville Singers
REFRESH-INTERVAL;VALUE=DURATION:PT1H
X-Robots-Tag:noindex
X-PUBLISHED-TTL:PT1H
BEGIN:VTIMEZONE
TZID:America/Chicago
BEGIN:DAYLIGHT
TZOFFSETFROM:-0600
TZOFFSETTO:-0500
TZNAME:CDT
DTSTART:20250309T080000
END:DAYLIGHT
BEGIN:STANDARD
TZOFFSETFROM:-0500
TZOFFSETTO:-0600
TZNAME:CST
DTSTART:20251102T070000
END:STANDARD
END:VTIMEZONE
BEGIN:VEVENT
DTSTART;TZID=America/Chicago:20250501T164500
DTEND;TZID=America/Chicago:20250501T180000
DTSTAMP:20260421T171906
CREATED:20250127T210443Z
LAST-MODIFIED:20250318T234100Z
UID:10002971-1746117900-1746122400@ynschoirs.org
SUMMARY:Aria 4:45 Rehearsal
DESCRIPTION:
URL:https://ynschoirs.org/calendar/aria-445-rehearsal-3/2025-05-01/
LOCATION:Our Saviour’s Lutheran Church\, 815 S. Washington Street\, Naperville\, IL\, 60540
CATEGORIES:Aria,Parents
END:VEVENT
BEGIN:VEVENT
DTSTART;TZID=America/Chicago:20250501T181500
DTEND;TZID=America/Chicago:20250501T193000
DTSTAMP:20260421T171906
CREATED:20250127T210525Z
LAST-MODIFIED:20250318T233350Z
UID:10002987-1746123300-1746127800@ynschoirs.org
SUMMARY:Aria 6:15 Rehearsal
DESCRIPTION:
URL:https://ynschoirs.org/calendar/aria-445-rehearsal-3-2/2025-05-01/
LOCATION:Our Saviour’s Lutheran Church\, 815 S. Washington Street\, Naperville\, IL\, 60540
CATEGORIES:Aria,Parents
END:VEVENT
BEGIN:VEVENT
DTSTART;VALUE=DATE:20250503
DTEND;VALUE=DATE:20250504
DTSTAMP:20260421T171906
CREATED:20250210T190853Z
LAST-MODIFIED:20250403T203037Z
UID:10003073-1746230400-1746316799@ynschoirs.org
SUMMARY:Voci\, Primo\, Aria\, Brio\, Dolce\,  Brillante\, Ragazzi - Mandatory Rehearsal
DESCRIPTION:Voci\, Primo\, Aria\, Brio\, Dolce\,  Brillante\, Ragazzi – Mandatory Rehearsals for the Spring Concert at Neuqua Valley High School \nVoci 11:05am-12:20pm; Primo 10:45am-12:00pm; Dolce 8:30-10:15am; Brio 9:00-10:35am; Aria 8:15-10:15am; Brillante 10:45am-12:45pm; Ragazzi 10:25-11:45am
URL:https://ynschoirs.org/calendar/voci-primo-aria-brio-dolce-brillante-ragazzi-mandatory-rehearsal/
LOCATION:Neuqua Valley High School\, 2360 95th Street\, Naperville\, IL\, 60564
CATEGORIES:Aria,Brillante,Brio,Dolce,Parents,Primo,Ragazzi,Voci
END:VEVENT
BEGIN:VEVENT
DTSTART;VALUE=DATE:20250504
DTEND;VALUE=DATE:20250505
DTSTAMP:20260421T171906
CREATED:20250210T191448Z
LAST-MODIFIED:20250403T202813Z
UID:10003074-1746316800-1746403199@ynschoirs.org
SUMMARY:Voci\, Primo\, Aria\, Brio\, Dolce\, Brillante\, Ragazzi - Spring Concerts
DESCRIPTION:Spring Concerts Sunday\, May 4 – Neuqua Valley High School \n2:30pm \n\nAria – Arrive at 1:30pm\nBrio – Arrive at 1:30pm\nDolce – Arrive at 1:30pm\nRagazzi – Arrive at 1:30pm\n\n5:00pm \n\nVoci – Arrive at 4:30pm\nPrimo – Arrive at 4:00pm\nBrillante – Arrive at 4:00pm\nRagazzi – Already at Neuqua
URL:https://ynschoirs.org/calendar/voci-primo-aria-brio-dolce-brillante-ragazzi-spring-concerts/
LOCATION:Neuqua Valley High School\, 2360 95th Street\, Naperville\, IL\, 60564
CATEGORIES:Aria,Brillante,Brio,Dolce,Parents,Primo,Ragazzi,Voci
END:VEVENT
BEGIN:VEVENT
DTSTART;TZID=America/Chicago:20250508T164500
DTEND;TZID=America/Chicago:20250508T180000
DTSTAMP:20260421T171906
CREATED:20250319T000037Z
LAST-MODIFIED:20250319T000037Z
UID:10003080-1746722700-1746727200@ynschoirs.org
SUMMARY:Aria - Last Rehearsal
DESCRIPTION:Aria will COMBINE for their last rehearsal and GLOW party! \nAll Aria singers will come to rehearsal from 4:45pm-6:00pm at Our Saviour’s Lutheran Church. \n(There will be NO Aria rehearsal at 6:15pm tonight.)
URL:https://ynschoirs.org/calendar/aria-last-rehearsal/
LOCATION:Our Saviour’s Lutheran Church\, 815 S. Washington Street\, Naperville\, IL\, 60540
CATEGORIES:Aria,Parents
END:VEVENT
END:VCALENDAR