BEGIN:VCALENDAR
VERSION:2.0
PRODID:-//Young Naperville Singers - ECPv6.8.0//NONSGML v1.0//EN
CALSCALE:GREGORIAN
METHOD:PUBLISH
X-ORIGINAL-URL:https://ynschoirs.org
X-WR-CALDESC:Events for Young Naperville Singers
REFRESH-INTERVAL;VALUE=DURATION:PT1H
X-Robots-Tag:noindex
X-PUBLISHED-TTL:PT1H
BEGIN:VTIMEZONE
TZID:America/Chicago
BEGIN:DAYLIGHT
TZOFFSETFROM:-0600
TZOFFSETTO:-0500
TZNAME:CDT
DTSTART:20230312T080000
END:DAYLIGHT
BEGIN:STANDARD
TZOFFSETFROM:-0500
TZOFFSETTO:-0600
TZNAME:CST
DTSTART:20231105T070000
END:STANDARD
END:VTIMEZONE
BEGIN:VEVENT
DTSTART;TZID=America/Chicago:20231209T083000
DTEND;TZID=America/Chicago:20231209T103000
DTSTAMP:20260422T171557
CREATED:20230918T164550Z
LAST-MODIFIED:20230918T164550Z
UID:10002217-1702110600-1702117800@ynschoirs.org
SUMMARY:Choirs Connect - Aria & Cantabile
DESCRIPTION:Aria & Cantabile 8:30am-10:30am – Wear your choir t-shirt and jeans. (Aria – orange; Cantabile – pink)
URL:https://ynschoirs.org/calendar/choirs-connect-aria-cantabile/
LOCATION:St. Timothy Church\, 1313 N. Mill Street\, Naperville\, IL\, 60563
CATEGORIES:Aria,Cantabile,Parents
END:VEVENT
END:VCALENDAR