BEGIN:VCALENDAR
VERSION:2.0
PRODID:-//Young Naperville Singers - ECPv6.8.0//NONSGML v1.0//EN
CALSCALE:GREGORIAN
METHOD:PUBLISH
X-WR-CALNAME:Young Naperville Singers
X-ORIGINAL-URL:https://ynschoirs.org
X-WR-CALDESC:Events for Young Naperville Singers
REFRESH-INTERVAL;VALUE=DURATION:PT1H
X-Robots-Tag:noindex
X-PUBLISHED-TTL:PT1H
BEGIN:VTIMEZONE
TZID:America/Chicago
BEGIN:DAYLIGHT
TZOFFSETFROM:-0600
TZOFFSETTO:-0500
TZNAME:CDT
DTSTART:20230312T080000
END:DAYLIGHT
BEGIN:STANDARD
TZOFFSETFROM:-0500
TZOFFSETTO:-0600
TZNAME:CST
DTSTART:20231105T070000
END:STANDARD
END:VTIMEZONE
BEGIN:VEVENT
DTSTART;VALUE=DATE:20231217
DTEND;VALUE=DATE:20231218
DTSTAMP:20260422T171323
CREATED:20230918T165215Z
LAST-MODIFIED:20231018T205537Z
UID:10002221-1702771200-1702857599@ynschoirs.org
SUMMARY:Winter Concerts
DESCRIPTION:Concert Line Up*:\nConcert One – 1:30pm  Primo\, Ragazzi\, Cantabile\, Bella Cantare (limited repertoire) & Canto Vivo (limited repertoire) \nConcert Two – 4:00pm  Brio\, Dolce\, Brillante\, Bella Voce\, Bella Cantare (limited repertoire) & Canto Vivo (limited repertoire) \nConcert Three – 6:30pm  Aria\, Bella Cantare\, Canto Vivo & Bella Voce (limited repertoire) \n*Call times will be coming soon.
URL:https://ynschoirs.org/calendar/winter-concerts-2/
LOCATION:IL
CATEGORIES:Aria,Bella Cantare,Bella Voce,Brillante,Brio,Cantabile,Canto Vivo,Dolce,Parents,Ragazzi
END:VEVENT
END:VCALENDAR