BEGIN:VCALENDAR
VERSION:2.0
PRODID:-//Young Naperville Singers - ECPv6.8.0//NONSGML v1.0//EN
CALSCALE:GREGORIAN
METHOD:PUBLISH
X-ORIGINAL-URL:https://ynschoirs.org
X-WR-CALDESC:Events for Young Naperville Singers
REFRESH-INTERVAL;VALUE=DURATION:PT1H
X-Robots-Tag:noindex
X-PUBLISHED-TTL:PT1H
BEGIN:VTIMEZONE
TZID:America/Chicago
BEGIN:DAYLIGHT
TZOFFSETFROM:-0600
TZOFFSETTO:-0500
TZNAME:CDT
DTSTART:20250309T080000
END:DAYLIGHT
BEGIN:STANDARD
TZOFFSETFROM:-0500
TZOFFSETTO:-0600
TZNAME:CST
DTSTART:20251102T070000
END:STANDARD
END:VTIMEZONE
BEGIN:VEVENT
DTSTART;TZID=America/Chicago:20250327T164500
DTEND;TZID=America/Chicago:20250327T180000
DTSTAMP:20260421T211258
CREATED:20250318T234321Z
LAST-MODIFIED:20250319T153530Z
UID:10003078-1743093900-1743098400@ynschoirs.org
SUMMARY:Combined Aria Rehearsal at OSLC
DESCRIPTION:BOTH Aria choirs will rehearse from 4:45-6pm today at Our Saviour’s Lutheran Church. \n(There is NO Aria rehearsal from 6:15-7:30pm today.)
URL:https://ynschoirs.org/calendar/combined-aria-rehearsal-at-oscl/
LOCATION:Our Saviour’s Lutheran Church\, 815 S. Washington Street\, Naperville\, IL\, 60540
CATEGORIES:Aria,Parents
END:VEVENT
END:VCALENDAR