BEGIN:VCALENDAR
VERSION:2.0
PRODID:-//Young Naperville Singers - ECPv6.8.0//NONSGML v1.0//EN
CALSCALE:GREGORIAN
METHOD:PUBLISH
X-WR-CALNAME:Young Naperville Singers
X-ORIGINAL-URL:https://ynschoirs.org
X-WR-CALDESC:Events for Young Naperville Singers
REFRESH-INTERVAL;VALUE=DURATION:PT1H
X-Robots-Tag:noindex
X-PUBLISHED-TTL:PT1H
BEGIN:VTIMEZONE
TZID:America/Chicago
BEGIN:DAYLIGHT
TZOFFSETFROM:-0600
TZOFFSETTO:-0500
TZNAME:CDT
DTSTART:20240310T080000
END:DAYLIGHT
BEGIN:STANDARD
TZOFFSETFROM:-0500
TZOFFSETTO:-0600
TZNAME:CST
DTSTART:20241103T070000
END:STANDARD
END:VTIMEZONE
BEGIN:VEVENT
DTSTART;TZID=America/Chicago:20240202T183000
DTEND;TZID=America/Chicago:20240202T193000
DTSTAMP:20260423T103824
CREATED:20240117T165703Z
LAST-MODIFIED:20240117T202412Z
UID:10002484-1706898600-1706902200@ynschoirs.org
SUMMARY:Workshop with Maria Ellis - Bella Voce
DESCRIPTION:Workshop with Maria Ellis – Bella Voce\nCommunity Concert Center – Arrival 6:15pm (please do not arrive before then)  Workshop 6:30-7:30pm
URL:https://ynschoirs.org/calendar/workshop-with-maria-ellis-aria-brillante-2/
LOCATION:Community Concert Center\, 55 Concert Lane\, Naperville\, IL\, 60540
CATEGORIES:Bella Voce,Parents
END:VEVENT
BEGIN:VEVENT
DTSTART;TZID=America/Chicago:20240206T181500
DTEND;TZID=America/Chicago:20240206T201500
DTSTAMP:20260423T103824
CREATED:20240105T175021Z
LAST-MODIFIED:20240105T175559Z
UID:10002313-1707243300-1707250500@ynschoirs.org
SUMMARY:Bella Voce Rehearsal
DESCRIPTION:
URL:https://ynschoirs.org/calendar/bella-voce-rehearsal-7/2024-02-06/
LOCATION:Community Concert Center\, 55 Concert Lane\, Naperville\, IL\, 60540
CATEGORIES:Bella Voce,Parents
END:VEVENT
BEGIN:VEVENT
DTSTART;TZID=America/Chicago:20240213T181500
DTEND;TZID=America/Chicago:20240213T201500
DTSTAMP:20260423T103824
CREATED:20240105T175021Z
LAST-MODIFIED:20240105T175559Z
UID:10002314-1707848100-1707855300@ynschoirs.org
SUMMARY:Bella Voce Rehearsal
DESCRIPTION:
URL:https://ynschoirs.org/calendar/bella-voce-rehearsal-7/2024-02-13/
LOCATION:Community Concert Center\, 55 Concert Lane\, Naperville\, IL\, 60540
CATEGORIES:Bella Voce,Parents
END:VEVENT
BEGIN:VEVENT
DTSTART;TZID=America/Chicago:20240220T181500
DTEND;TZID=America/Chicago:20240220T201500
DTSTAMP:20260423T103824
CREATED:20240105T175021Z
LAST-MODIFIED:20240105T175559Z
UID:10002315-1708452900-1708460100@ynschoirs.org
SUMMARY:Bella Voce Rehearsal
DESCRIPTION:
URL:https://ynschoirs.org/calendar/bella-voce-rehearsal-7/2024-02-20/
LOCATION:Community Concert Center\, 55 Concert Lane\, Naperville\, IL\, 60540
CATEGORIES:Bella Voce,Parents
END:VEVENT
BEGIN:VEVENT
DTSTART;TZID=America/Chicago:20240227T181500
DTEND;TZID=America/Chicago:20240227T201500
DTSTAMP:20260423T103824
CREATED:20240105T175021Z
LAST-MODIFIED:20240105T175559Z
UID:10002316-1709057700-1709064900@ynschoirs.org
SUMMARY:Bella Voce Rehearsal
DESCRIPTION:
URL:https://ynschoirs.org/calendar/bella-voce-rehearsal-7/2024-02-27/
LOCATION:Community Concert Center\, 55 Concert Lane\, Naperville\, IL\, 60540
CATEGORIES:Bella Voce,Parents
END:VEVENT
END:VCALENDAR