BEGIN:VCALENDAR
VERSION:2.0
PRODID:-//Young Naperville Singers - ECPv6.8.0//NONSGML v1.0//EN
CALSCALE:GREGORIAN
METHOD:PUBLISH
X-ORIGINAL-URL:https://ynschoirs.org
X-WR-CALDESC:Events for Young Naperville Singers
REFRESH-INTERVAL;VALUE=DURATION:PT1H
X-Robots-Tag:noindex
X-PUBLISHED-TTL:PT1H
BEGIN:VTIMEZONE
TZID:America/Chicago
BEGIN:DAYLIGHT
TZOFFSETFROM:-0600
TZOFFSETTO:-0500
TZNAME:CDT
DTSTART:20250309T080000
END:DAYLIGHT
BEGIN:STANDARD
TZOFFSETFROM:-0500
TZOFFSETTO:-0600
TZNAME:CST
DTSTART:20251102T070000
END:STANDARD
END:VTIMEZONE
BEGIN:VEVENT
DTSTART;TZID=America/Chicago:20250304T181500
DTEND;TZID=America/Chicago:20250304T201500
DTSTAMP:20260422T133955
CREATED:20250127T201638Z
LAST-MODIFIED:20250127T205740Z
UID:10002672-1741112100-1741119300@ynschoirs.org
SUMMARY:Bella Voce Rehearsal
DESCRIPTION:
URL:https://ynschoirs.org/calendar/bella-voce-rehearsal-8/2025-03-04/
LOCATION:Community Concert Center\, 55 Concert Lane\, Naperville\, IL\, 60540
CATEGORIES:Bella Voce,Parents
END:VEVENT
BEGIN:VEVENT
DTSTART;TZID=America/Chicago:20250304T183000
DTEND;TZID=America/Chicago:20250304T200000
DTSTAMP:20260422T133955
CREATED:20250127T201904Z
LAST-MODIFIED:20250127T205617Z
UID:10002742-1741113000-1741118400@ynschoirs.org
SUMMARY:Cantabile Rehearsal
DESCRIPTION:
URL:https://ynschoirs.org/calendar/cantabile-rehearsal-9/2025-03-04/
LOCATION:IL
CATEGORIES:Bella Voce,Parents
END:VEVENT
BEGIN:VEVENT
DTSTART;TZID=America/Chicago:20250311T181500
DTEND;TZID=America/Chicago:20250311T201500
DTSTAMP:20260422T133955
CREATED:20250127T201638Z
LAST-MODIFIED:20250127T205740Z
UID:10002673-1741716900-1741724100@ynschoirs.org
SUMMARY:Bella Voce Rehearsal
DESCRIPTION:
URL:https://ynschoirs.org/calendar/bella-voce-rehearsal-8/2025-03-11/
LOCATION:Community Concert Center\, 55 Concert Lane\, Naperville\, IL\, 60540
CATEGORIES:Bella Voce,Parents
END:VEVENT
BEGIN:VEVENT
DTSTART;TZID=America/Chicago:20250311T183000
DTEND;TZID=America/Chicago:20250311T200000
DTSTAMP:20260422T133955
CREATED:20250127T201904Z
LAST-MODIFIED:20250127T205617Z
UID:10002743-1741717800-1741723200@ynschoirs.org
SUMMARY:Cantabile Rehearsal
DESCRIPTION:
URL:https://ynschoirs.org/calendar/cantabile-rehearsal-9/2025-03-11/
LOCATION:IL
CATEGORIES:Bella Voce,Parents
END:VEVENT
BEGIN:VEVENT
DTSTART;TZID=America/Chicago:20250315T190000
DTEND;TZID=America/Chicago:20250315T204500
DTSTAMP:20260422T133955
CREATED:20250210T172213Z
LAST-MODIFIED:20250210T172213Z
UID:10003054-1742065200-1742071500@ynschoirs.org
SUMMARY:Feed My Starving Children - Bella Voce
DESCRIPTION:Bella Voce – Feed My Starving Children Event \n7-8:45pm at the Naperville location.  Please make sure you’ve filled out the sign up that was emailed to you.
URL:https://ynschoirs.org/calendar/feed-my-starving-children-cantabile-2/
LOCATION:Feed My Starving Children\, 555 Exchange Court\, Aurora\, IL\, 60504
CATEGORIES:Bella Voce
END:VEVENT
BEGIN:VEVENT
DTSTART;TZID=America/Chicago:20250318T181500
DTEND;TZID=America/Chicago:20250318T201500
DTSTAMP:20260422T133955
CREATED:20250127T201638Z
LAST-MODIFIED:20250127T205740Z
UID:10002674-1742321700-1742328900@ynschoirs.org
SUMMARY:Bella Voce Rehearsal
DESCRIPTION:
URL:https://ynschoirs.org/calendar/bella-voce-rehearsal-8/2025-03-18/
LOCATION:Community Concert Center\, 55 Concert Lane\, Naperville\, IL\, 60540
CATEGORIES:Bella Voce,Parents
END:VEVENT
BEGIN:VEVENT
DTSTART;TZID=America/Chicago:20250318T183000
DTEND;TZID=America/Chicago:20250318T200000
DTSTAMP:20260422T133955
CREATED:20250127T201904Z
LAST-MODIFIED:20250127T205617Z
UID:10002744-1742322600-1742328000@ynschoirs.org
SUMMARY:Cantabile Rehearsal
DESCRIPTION:
URL:https://ynschoirs.org/calendar/cantabile-rehearsal-9/2025-03-18/
LOCATION:IL
CATEGORIES:Bella Voce,Parents
END:VEVENT
BEGIN:VEVENT
DTSTART;TZID=America/Chicago:20250325T181500
DTEND;TZID=America/Chicago:20250325T201500
DTSTAMP:20260422T133955
CREATED:20250127T201638Z
LAST-MODIFIED:20250127T205740Z
UID:10002675-1742926500-1742933700@ynschoirs.org
SUMMARY:Bella Voce Rehearsal
DESCRIPTION:
URL:https://ynschoirs.org/calendar/bella-voce-rehearsal-8/2025-03-25/
LOCATION:Community Concert Center\, 55 Concert Lane\, Naperville\, IL\, 60540
CATEGORIES:Bella Voce,Parents
END:VEVENT
BEGIN:VEVENT
DTSTART;TZID=America/Chicago:20250325T183000
DTEND;TZID=America/Chicago:20250325T200000
DTSTAMP:20260422T133955
CREATED:20250127T201904Z
LAST-MODIFIED:20250127T205617Z
UID:10002745-1742927400-1742932800@ynschoirs.org
SUMMARY:Cantabile Rehearsal
DESCRIPTION:
URL:https://ynschoirs.org/calendar/cantabile-rehearsal-9/2025-03-25/
LOCATION:IL
CATEGORIES:Bella Voce,Parents
END:VEVENT
BEGIN:VEVENT
DTSTART;VALUE=DATE:20250331
DTEND;VALUE=DATE:20250405
DTSTAMP:20260422T133955
CREATED:20250127T195421Z
LAST-MODIFIED:20250127T195421Z
UID:10002595-1743379200-1743811199@ynschoirs.org
SUMMARY:No Rehearsals - Spring Break
DESCRIPTION:
URL:https://ynschoirs.org/calendar/no-rehearsals-spring-break/
LOCATION:IL
CATEGORIES:Aria,Bella Cantare,Bella Voce,Brillante,Brio,Cantabile,Canto Vivo,Dolce,Parents,Primo,Ragazzi,Voci
END:VEVENT
END:VCALENDAR