BEGIN:VCALENDAR
VERSION:2.0
PRODID:-//Young Naperville Singers - ECPv6.8.0//NONSGML v1.0//EN
CALSCALE:GREGORIAN
METHOD:PUBLISH
X-WR-CALNAME:Young Naperville Singers
X-ORIGINAL-URL:https://ynschoirs.org
X-WR-CALDESC:Events for Young Naperville Singers
REFRESH-INTERVAL;VALUE=DURATION:PT1H
X-Robots-Tag:noindex
X-PUBLISHED-TTL:PT1H
BEGIN:VTIMEZONE
TZID:America/Chicago
BEGIN:DAYLIGHT
TZOFFSETFROM:-0600
TZOFFSETTO:-0500
TZNAME:CDT
DTSTART:20240310T080000
END:DAYLIGHT
BEGIN:STANDARD
TZOFFSETFROM:-0500
TZOFFSETTO:-0600
TZNAME:CST
DTSTART:20241103T070000
END:STANDARD
BEGIN:DAYLIGHT
TZOFFSETFROM:-0600
TZOFFSETTO:-0500
TZNAME:CDT
DTSTART:20250309T080000
END:DAYLIGHT
BEGIN:STANDARD
TZOFFSETFROM:-0500
TZOFFSETTO:-0600
TZNAME:CST
DTSTART:20251102T070000
END:STANDARD
END:VTIMEZONE
BEGIN:VEVENT
DTSTART;TZID=America/Chicago:20250311T163000
DTEND;TZID=America/Chicago:20250311T174500
DTSTAMP:20260422T095640
CREATED:20250127T210724Z
LAST-MODIFIED:20250127T210724Z
UID:10002997-1741710600-1741715100@ynschoirs.org
SUMMARY:Brio Rehearsal
DESCRIPTION:
URL:https://ynschoirs.org/calendar/brio-rehearsal-8/2025-03-11/
LOCATION:Community Concert Center\, 55 Concert Lane\, Naperville\, IL\, 60540
CATEGORIES:Brio,Parents
END:VEVENT
BEGIN:VEVENT
DTSTART;TZID=America/Chicago:20250304T163000
DTEND;TZID=America/Chicago:20250304T174500
DTSTAMP:20260422T095640
CREATED:20250127T210724Z
LAST-MODIFIED:20250127T210724Z
UID:10002996-1741105800-1741110300@ynschoirs.org
SUMMARY:Brio Rehearsal
DESCRIPTION:
URL:https://ynschoirs.org/calendar/brio-rehearsal-8/2025-03-04/
LOCATION:Community Concert Center\, 55 Concert Lane\, Naperville\, IL\, 60540
CATEGORIES:Brio,Parents
END:VEVENT
BEGIN:VEVENT
DTSTART;TZID=America/Chicago:20250225T163000
DTEND;TZID=America/Chicago:20250225T174500
DTSTAMP:20260422T095640
CREATED:20250127T210724Z
LAST-MODIFIED:20250127T210724Z
UID:10002995-1740501000-1740505500@ynschoirs.org
SUMMARY:Brio Rehearsal
DESCRIPTION:
URL:https://ynschoirs.org/calendar/brio-rehearsal-8/2025-02-25/
LOCATION:Community Concert Center\, 55 Concert Lane\, Naperville\, IL\, 60540
CATEGORIES:Brio,Parents
END:VEVENT
BEGIN:VEVENT
DTSTART;TZID=America/Chicago:20250218T163000
DTEND;TZID=America/Chicago:20250218T174500
DTSTAMP:20260422T095640
CREATED:20250127T210724Z
LAST-MODIFIED:20250127T210724Z
UID:10002994-1739896200-1739900700@ynschoirs.org
SUMMARY:Brio Rehearsal
DESCRIPTION:
URL:https://ynschoirs.org/calendar/brio-rehearsal-8/2025-02-18/
LOCATION:Community Concert Center\, 55 Concert Lane\, Naperville\, IL\, 60540
CATEGORIES:Brio,Parents
END:VEVENT
BEGIN:VEVENT
DTSTART;TZID=America/Chicago:20250211T163000
DTEND;TZID=America/Chicago:20250211T174500
DTSTAMP:20260422T095640
CREATED:20250127T210724Z
LAST-MODIFIED:20250127T210724Z
UID:10002993-1739291400-1739295900@ynschoirs.org
SUMMARY:Brio Rehearsal
DESCRIPTION:
URL:https://ynschoirs.org/calendar/brio-rehearsal-8/2025-02-11/
LOCATION:Community Concert Center\, 55 Concert Lane\, Naperville\, IL\, 60540
CATEGORIES:Brio,Parents
END:VEVENT
BEGIN:VEVENT
DTSTART;TZID=America/Chicago:20250204T163000
DTEND;TZID=America/Chicago:20250204T174500
DTSTAMP:20260422T095640
CREATED:20250127T210724Z
LAST-MODIFIED:20250127T210724Z
UID:10002992-1738686600-1738691100@ynschoirs.org
SUMMARY:Brio Rehearsal
DESCRIPTION:
URL:https://ynschoirs.org/calendar/brio-rehearsal-8/2025-02-04/
LOCATION:Community Concert Center\, 55 Concert Lane\, Naperville\, IL\, 60540
CATEGORIES:Brio,Parents
END:VEVENT
BEGIN:VEVENT
DTSTART;TZID=America/Chicago:20250128T163000
DTEND;TZID=America/Chicago:20250128T174500
DTSTAMP:20260422T095640
CREATED:20250127T210724Z
LAST-MODIFIED:20250127T210724Z
UID:10002991-1738081800-1738086300@ynschoirs.org
SUMMARY:Brio Rehearsal
DESCRIPTION:
URL:https://ynschoirs.org/calendar/brio-rehearsal-8/2025-01-28/
LOCATION:Community Concert Center\, 55 Concert Lane\, Naperville\, IL\, 60540
CATEGORIES:Brio,Parents
END:VEVENT
BEGIN:VEVENT
DTSTART;TZID=America/Chicago:20250121T163000
DTEND;TZID=America/Chicago:20250121T174500
DTSTAMP:20260422T095640
CREATED:20250127T210724Z
LAST-MODIFIED:20250127T210724Z
UID:10002990-1737477000-1737481500@ynschoirs.org
SUMMARY:Brio Rehearsal
DESCRIPTION:
URL:https://ynschoirs.org/calendar/brio-rehearsal-8/2025-01-21/
LOCATION:Community Concert Center\, 55 Concert Lane\, Naperville\, IL\, 60540
CATEGORIES:Brio,Parents
END:VEVENT
BEGIN:VEVENT
DTSTART;TZID=America/Chicago:20250114T163000
DTEND;TZID=America/Chicago:20250114T174500
DTSTAMP:20260422T095640
CREATED:20250127T210724Z
LAST-MODIFIED:20250127T210724Z
UID:10002989-1736872200-1736876700@ynschoirs.org
SUMMARY:Brio Rehearsal
DESCRIPTION:
URL:https://ynschoirs.org/calendar/brio-rehearsal-8/2025-01-14/
LOCATION:Community Concert Center\, 55 Concert Lane\, Naperville\, IL\, 60540
CATEGORIES:Brio,Parents
END:VEVENT
BEGIN:VEVENT
DTSTART;VALUE=DATE:20250113
DTEND;VALUE=DATE:20250117
DTSTAMP:20260422T095640
CREATED:20241021T172217Z
LAST-MODIFIED:20241021T172217Z
UID:10002527-1736726400-1737071999@ynschoirs.org
SUMMARY:Rehearsals Resume - Younger Choirs
DESCRIPTION:Rehearsals Resume – Younger Choirs\nBrillante\, Aria\, Primo\, Brio\, Dolce & Voci rehearsals resume this week at your normal choir time \nDolce: 4:45-5:45pm; Voci: 4:45-5:30pm; Brio: 4:30-5:15pm; Primo: 4:45-5:45pm (Wed or Thurs); Aria: 4:45-6pm or 6:15-7:30pm; Brillante: 4:30-6pm
URL:https://ynschoirs.org/calendar/rehearsals-resume-younger-choirs/
LOCATION:IL
CATEGORIES:Aria,Brillante,Brio,Dolce,Parents,Primo,Voci
END:VEVENT
BEGIN:VEVENT
DTSTART;VALUE=DATE:20241223
DTEND;VALUE=DATE:20250104
DTSTAMP:20260422T095640
CREATED:20241021T171807Z
LAST-MODIFIED:20241021T171807Z
UID:10002526-1734912000-1735948799@ynschoirs.org
SUMMARY:Winter Break
DESCRIPTION:No Rehearsals
URL:https://ynschoirs.org/calendar/winter-break/
LOCATION:IL
CATEGORIES:Aria,Bella Cantare,Bella Voce,Brillante,Brio,Cantabile,Canto Vivo,Dolce,Parents,Primo,Ragazzi,Voci
END:VEVENT
BEGIN:VEVENT
DTSTART;VALUE=DATE:20241215
DTEND;VALUE=DATE:20241216
DTSTAMP:20260422T095640
CREATED:20241021T171231Z
LAST-MODIFIED:20241021T171231Z
UID:10002523-1734220800-1734307199@ynschoirs.org
SUMMARY:YNS Winter Concerts
DESCRIPTION:The Winter Concerts are on Dec. 15th at 1:30pm\, 4:00pm and 6:30pm.  See image for concert line-ups.
URL:https://ynschoirs.org/calendar/yns-winter-concerts-2/
LOCATION:Neuqua Valley High School\, 2360 95th Street\, Naperville\, IL\, 60564
CATEGORIES:Aria,Bella Cantare,Bella Voce,Brillante,Brio,Cantabile,Canto Vivo,Dolce,Parents,Primo,Ragazzi
END:VEVENT
BEGIN:VEVENT
DTSTART;VALUE=DATE:20241214
DTEND;VALUE=DATE:20241215
DTSTAMP:20260422T095640
CREATED:20241021T171350Z
LAST-MODIFIED:20241021T171350Z
UID:10002524-1734134400-1734220799@ynschoirs.org
SUMMARY:Mandatory Rehearsal for Winter Concerts
DESCRIPTION:Mandatory Rehearsal for Winter Concerts\nTimes coming soon – morning and early afternoon depending on your choir
URL:https://ynschoirs.org/calendar/mandatory-rehearsal-for-winter-concerts-2/
LOCATION:Neuqua Valley High School\, 2360 95th Street\, Naperville\, IL\, 60564
CATEGORIES:Aria,Bella Cantare,Bella Voce,Brillante,Brio,Cantabile,Canto Vivo,Dolce,Parents,Primo,Ragazzi
END:VEVENT
BEGIN:VEVENT
DTSTART;TZID=America/Chicago:20241210T164500
DTEND;TZID=America/Chicago:20241210T173000
DTSTAMP:20260422T095640
CREATED:20241021T170106Z
LAST-MODIFIED:20241021T170106Z
UID:10002520-1733849100-1733851800@ynschoirs.org
SUMMARY:Brio- Showcase Performance
DESCRIPTION:Brio – Showcase Performance\n4:45pm arrival; 5:00pm Performance; 5:30pm Dismissal
URL:https://ynschoirs.org/calendar/primo-showcase-performance-3-2/
LOCATION:Martin Avenue\, 310 W. Martin Avenue\, Naperville\, IL\, 60540
CATEGORIES:Brio,Parents
END:VEVENT
BEGIN:VEVENT
DTSTART;VALUE=DATE:20241129
DTEND;VALUE=DATE:20241130
DTSTAMP:20260422T095640
CREATED:20241021T165605Z
LAST-MODIFIED:20241021T165605Z
UID:10002517-1732838400-1732924799@ynschoirs.org
SUMMARY:Naperville's Rotary Parade of Lights
DESCRIPTION:Come walk with YNS in the parade with our float!  Check your newsletters for details and times.
URL:https://ynschoirs.org/calendar/napervilles-rotary-parade-of-lights/
LOCATION:IL
CATEGORIES:Aria,Bella Cantare,Bella Voce,Brillante,Brio,Cantabile,Canto Vivo,Dolce,Parents,Primo,Ragazzi,Voci
END:VEVENT
BEGIN:VEVENT
DTSTART;VALUE=DATE:20241126
DTEND;VALUE=DATE:20241130
DTSTAMP:20260422T095640
CREATED:20241021T165107Z
LAST-MODIFIED:20241021T165107Z
UID:10002515-1732579200-1732924799@ynschoirs.org
SUMMARY:No Rehearsals - Thanksgiving Break
DESCRIPTION:No Rehearsals – Thanksgiving Break\nNo rehearsals for BV\, Cantabile\, Voci\, Brio\, Ragazzi\, Primo\, Brillante & Aria this week
URL:https://ynschoirs.org/calendar/no-rehearsals-thanksgiving-break-2/
LOCATION:IL
CATEGORIES:Aria,Bella Voce,Brillante,Brio,Cantabile,Dolce,Parents,Primo,Ragazzi,Voci
END:VEVENT
BEGIN:VEVENT
DTSTART;TZID=America/Chicago:20241109T090000
DTEND;TZID=America/Chicago:20241109T110000
DTSTAMP:20260422T095640
CREATED:20241021T164333Z
LAST-MODIFIED:20241021T164333Z
UID:10002511-1731142800-1731150000@ynschoirs.org
SUMMARY:Butter Braid Pick-Up
DESCRIPTION:Butter Braid Pick-Up is today…if you ordered Butter Braids\, you must pick up your order as they come frozen.
URL:https://ynschoirs.org/calendar/butter-braid-pick-up-4/
LOCATION:Community Concert Center\, 55 Concert Lane\, Naperville\, IL\, 60540
CATEGORIES:Aria,Bella Cantare,Bella Voce,Brillante,Brio,Cantabile,Canto Vivo,Dolce,Parents,Primo,Ragazzi,Voci
END:VEVENT
BEGIN:VEVENT
DTSTART;VALUE=DATE:20241101
DTEND;VALUE=DATE:20241102
DTSTAMP:20260422T095640
CREATED:20241021T164212Z
LAST-MODIFIED:20241021T164212Z
UID:10002510-1730419200-1730505599@ynschoirs.org
SUMMARY:Butter Braid Sales End
DESCRIPTION:Butter Braid sales end today…your orders should be placed online or paper orders should be at the office with payment
URL:https://ynschoirs.org/calendar/butter-braid-sales-end/
LOCATION:IL
CATEGORIES:Aria,Bella Cantare,Bella Voce,Brillante,Brio,Cantabile,Canto Vivo,Dolce,Parents,Primo,Ragazzi,Voci
END:VEVENT
BEGIN:VEVENT
DTSTART;TZID=America/Chicago:20240430T163000
DTEND;TZID=America/Chicago:20240430T174500
DTSTAMP:20260422T095640
CREATED:20240105T180139Z
LAST-MODIFIED:20240105T181447Z
UID:10002378-1714494600-1714499100@ynschoirs.org
SUMMARY:Brio Rehearsal
DESCRIPTION:
URL:https://ynschoirs.org/calendar/brio-rehearsal-7/2024-04-30/
LOCATION:Community Concert Center\, 55 Concert Lane\, Naperville\, IL\, 60540
CATEGORIES:Brio,Parents
END:VEVENT
BEGIN:VEVENT
DTSTART;TZID=America/Chicago:20240429T080000
DTEND;TZID=America/Chicago:20240502T183000
DTSTAMP:20260422T095640
CREATED:20240213T203442Z
LAST-MODIFIED:20240213T203442Z
UID:10002496-1714377600-1714674600@ynschoirs.org
SUMMARY:Last Rehearsals/Evaluations
DESCRIPTION:Voci\, Primo\, Aria\, Brio\, Dolce & Brillante will have their last rehearsals/evaluations the week of April 29th.
URL:https://ynschoirs.org/calendar/last-rehearsals-evaluations/
LOCATION:IL
CATEGORIES:Aria,Brillante,Brio,Dolce,Parents,Primo,Voci
END:VEVENT
BEGIN:VEVENT
DTSTART;VALUE=DATE:20240428
DTEND;VALUE=DATE:20240429
DTSTAMP:20260422T095640
CREATED:20240213T201840Z
LAST-MODIFIED:20240221T195205Z
UID:10002495-1714262400-1714348799@ynschoirs.org
SUMMARY:40th Anniversary Spring Concerts - Younger Choirs
DESCRIPTION:40th Anniversary Spring Concerts – Younger Choirs\nVoci\, Primo\, Aria\, Brio Dolce & Brillante \nConcerts at 2:30pm (Brillante\, Voci\, & Primo) and 5:00pm (Aria\, Brio\, Dolce\, Bella Voce-limited repertoire)
URL:https://ynschoirs.org/calendar/40th-anniversary-spring-concerts-younger-choirs/
LOCATION:Wentz Concert Hall\, 171 E Chicago Avenue\, Naperville\, IL\, 60540
CATEGORIES:Aria,Brillante,Brio,Dolce,Parents,Primo,Voci
END:VEVENT
BEGIN:VEVENT
DTSTART;VALUE=DATE:20240427
DTEND;VALUE=DATE:20240428
DTSTAMP:20260422T095640
CREATED:20240213T201646Z
LAST-MODIFIED:20240213T201646Z
UID:10002494-1714176000-1714262399@ynschoirs.org
SUMMARY:Spring Concert - Mandatory Rehearsal
DESCRIPTION:Voci\, Primo\, Aria\, Brio\, Dolce & Brillante – Morning Times TBD
URL:https://ynschoirs.org/calendar/spring-concert-mandatory-rehearsal/
LOCATION:Wentz Concert Hall\, 171 E Chicago Avenue\, Naperville\, IL\, 60540
CATEGORIES:Aria,Brillante,Brio,Dolce,Parents,Primo,Voci
END:VEVENT
BEGIN:VEVENT
DTSTART;TZID=America/Chicago:20240423T163000
DTEND;TZID=America/Chicago:20240423T174500
DTSTAMP:20260422T095640
CREATED:20240105T180139Z
LAST-MODIFIED:20240105T181447Z
UID:10002377-1713889800-1713894300@ynschoirs.org
SUMMARY:Brio Rehearsal
DESCRIPTION:
URL:https://ynschoirs.org/calendar/brio-rehearsal-7/2024-04-23/
LOCATION:Community Concert Center\, 55 Concert Lane\, Naperville\, IL\, 60540
CATEGORIES:Brio,Parents
END:VEVENT
BEGIN:VEVENT
DTSTART;TZID=America/Chicago:20240420T153000
DTEND;TZID=America/Chicago:20240420T173000
DTSTAMP:20260422T095640
CREATED:20240213T200937Z
LAST-MODIFIED:20240213T200937Z
UID:10002490-1713627000-1713634200@ynschoirs.org
SUMMARY:Choirs Connect - Brio & Ragazzi
DESCRIPTION:Choirs Connect – Brio & Ragazzi \nSt. Timothy Church; 3:30-5:30pm \n 
URL:https://ynschoirs.org/calendar/choirs-connect-brio-ragazzi/
LOCATION:St. Timothy Church\, 1313 N. Mill Street\, Naperville\, IL\, 60563
CATEGORIES:Brio,Parents,Ragazzi
END:VEVENT
BEGIN:VEVENT
DTSTART;TZID=America/Chicago:20240416T163000
DTEND;TZID=America/Chicago:20240416T174500
DTSTAMP:20260422T095640
CREATED:20240105T180139Z
LAST-MODIFIED:20240105T181447Z
UID:10002376-1713285000-1713289500@ynschoirs.org
SUMMARY:Brio Rehearsal
DESCRIPTION:
URL:https://ynschoirs.org/calendar/brio-rehearsal-7/2024-04-16/
LOCATION:Community Concert Center\, 55 Concert Lane\, Naperville\, IL\, 60540
CATEGORIES:Brio,Parents
END:VEVENT
BEGIN:VEVENT
DTSTART;TZID=America/Chicago:20240409T163000
DTEND;TZID=America/Chicago:20240409T174500
DTSTAMP:20260422T095640
CREATED:20240105T180139Z
LAST-MODIFIED:20240105T181447Z
UID:10002375-1712680200-1712684700@ynschoirs.org
SUMMARY:Brio Rehearsal
DESCRIPTION:
URL:https://ynschoirs.org/calendar/brio-rehearsal-7/2024-04-09/
LOCATION:Community Concert Center\, 55 Concert Lane\, Naperville\, IL\, 60540
CATEGORIES:Brio,Parents
END:VEVENT
BEGIN:VEVENT
DTSTART;TZID=America/Chicago:20240402T163000
DTEND;TZID=America/Chicago:20240402T174500
DTSTAMP:20260422T095640
CREATED:20240105T180139Z
LAST-MODIFIED:20240105T181447Z
UID:10002374-1712075400-1712079900@ynschoirs.org
SUMMARY:Brio Rehearsal
DESCRIPTION:
URL:https://ynschoirs.org/calendar/brio-rehearsal-7/2024-04-02/
LOCATION:Community Concert Center\, 55 Concert Lane\, Naperville\, IL\, 60540
CATEGORIES:Brio,Parents
END:VEVENT
BEGIN:VEVENT
DTSTART;VALUE=DATE:20240325
DTEND;VALUE=DATE:20240330
DTSTAMP:20260422T095640
CREATED:20240105T172904Z
LAST-MODIFIED:20240105T172904Z
UID:10002260-1711324800-1711756799@ynschoirs.org
SUMMARY:Spring Break - No Rehearsals
DESCRIPTION:Spring Break for all Choirs – No Rehearsals
URL:https://ynschoirs.org/calendar/spring-break-no-rehearsals-2/
LOCATION:IL
CATEGORIES:Aria,Bella Cantare,Bella Voce,Brillante,Brio,Cantabile,Canto Vivo,Dolce,Parents,Primo,Ragazzi,Voci
END:VEVENT
BEGIN:VEVENT
DTSTART;TZID=America/Chicago:20240319T163000
DTEND;TZID=America/Chicago:20240319T174500
DTSTAMP:20260422T095640
CREATED:20240105T180139Z
LAST-MODIFIED:20240105T181447Z
UID:10002373-1710865800-1710870300@ynschoirs.org
SUMMARY:Brio Rehearsal
DESCRIPTION:
URL:https://ynschoirs.org/calendar/brio-rehearsal-7/2024-03-19/
LOCATION:Community Concert Center\, 55 Concert Lane\, Naperville\, IL\, 60540
CATEGORIES:Brio,Parents
END:VEVENT
BEGIN:VEVENT
DTSTART;TZID=America/Chicago:20240312T163000
DTEND;TZID=America/Chicago:20240312T174500
DTSTAMP:20260422T095640
CREATED:20240105T180139Z
LAST-MODIFIED:20240105T181447Z
UID:10002372-1710261000-1710265500@ynschoirs.org
SUMMARY:Brio Rehearsal
DESCRIPTION:
URL:https://ynschoirs.org/calendar/brio-rehearsal-7/2024-03-12/
LOCATION:Community Concert Center\, 55 Concert Lane\, Naperville\, IL\, 60540
CATEGORIES:Brio,Parents
END:VEVENT
END:VCALENDAR