BEGIN:VCALENDAR
VERSION:2.0
PRODID:-//Young Naperville Singers - ECPv6.8.0//NONSGML v1.0//EN
CALSCALE:GREGORIAN
METHOD:PUBLISH
X-ORIGINAL-URL:https://ynschoirs.org
X-WR-CALDESC:Events for Young Naperville Singers
REFRESH-INTERVAL;VALUE=DURATION:PT1H
X-Robots-Tag:noindex
X-PUBLISHED-TTL:PT1H
BEGIN:VTIMEZONE
TZID:America/Chicago
BEGIN:DAYLIGHT
TZOFFSETFROM:-0600
TZOFFSETTO:-0500
TZNAME:CDT
DTSTART:20230312T080000
END:DAYLIGHT
BEGIN:STANDARD
TZOFFSETFROM:-0500
TZOFFSETTO:-0600
TZNAME:CST
DTSTART:20231105T070000
END:STANDARD
END:VTIMEZONE
BEGIN:VEVENT
DTSTART;TZID=America/Chicago:20231205T163000
DTEND;TZID=America/Chicago:20231205T174500
DTSTAMP:20260423T004517
CREATED:20230918T153502Z
LAST-MODIFIED:20230918T153502Z
UID:10002078-1701793800-1701798300@ynschoirs.org
SUMMARY:Brio Rehearsal
DESCRIPTION:
URL:https://ynschoirs.org/calendar/brio-rehearsal-6/2023-12-05/
LOCATION:Community Concert Center\, 55 Concert Lane\, Naperville\, IL\, 60540
CATEGORIES:Brio,Parents
END:VEVENT
BEGIN:VEVENT
DTSTART;TZID=America/Chicago:20231205T164500
DTEND;TZID=America/Chicago:20231205T173000
DTSTAMP:20260423T004517
CREATED:20230918T164342Z
LAST-MODIFIED:20230918T164342Z
UID:10002216-1701794700-1701797400@ynschoirs.org
SUMMARY:Brio Showcase Performance
DESCRIPTION:Full concert uniform for the performance at Martin Ave.
URL:https://ynschoirs.org/calendar/brio-showcase-performance/
LOCATION:Martin Avenue\, 310 W. Martin Avenue\, Naperville\, IL\, 60540
CATEGORIES:Brio,Parents
END:VEVENT
BEGIN:VEVENT
DTSTART;TZID=America/Chicago:20231205T164500
DTEND;TZID=America/Chicago:20231205T181500
DTSTAMP:20260423T004517
CREATED:20230918T153617Z
LAST-MODIFIED:20230918T153617Z
UID:10002093-1701794700-1701800100@ynschoirs.org
SUMMARY:Ragazzi Rehearsal
DESCRIPTION:
URL:https://ynschoirs.org/calendar/ragazzi-rehearsal-6/2023-12-05/
LOCATION:Community Concert Center\, 55 Concert Lane\, Naperville\, IL\, 60540
CATEGORIES:Parents,Ragazzi
END:VEVENT
BEGIN:VEVENT
DTSTART;TZID=America/Chicago:20231205T181500
DTEND;TZID=America/Chicago:20231205T201500
DTSTAMP:20260423T004517
CREATED:20230918T153726Z
LAST-MODIFIED:20230918T153726Z
UID:10002108-1701800100-1701807300@ynschoirs.org
SUMMARY:Bella Voce Rehearsal
DESCRIPTION:
URL:https://ynschoirs.org/calendar/bella-voce-rehearsal-6/2023-12-05/
LOCATION:Community Concert Center\, 55 Concert Lane\, Naperville\, IL\, 60540
CATEGORIES:Bella Voce,Parents
END:VEVENT
BEGIN:VEVENT
DTSTART;TZID=America/Chicago:20231205T183000
DTEND;TZID=America/Chicago:20231205T200000
DTSTAMP:20260423T004517
CREATED:20230918T153828Z
LAST-MODIFIED:20230918T153828Z
UID:10002123-1701801000-1701806400@ynschoirs.org
SUMMARY:Cantabile Rehearsal
DESCRIPTION:
URL:https://ynschoirs.org/calendar/cantabile-rehearsal-6/2023-12-05/
LOCATION:Community Concert Center\, 55 Concert Lane\, Naperville\, IL\, 60540
CATEGORIES:Cantabile,Parents
END:VEVENT
END:VCALENDAR