BEGIN:VCALENDAR
VERSION:2.0
PRODID:-//Young Naperville Singers - ECPv6.8.0//NONSGML v1.0//EN
CALSCALE:GREGORIAN
METHOD:PUBLISH
X-ORIGINAL-URL:https://ynschoirs.org
X-WR-CALDESC:Events for Young Naperville Singers
REFRESH-INTERVAL;VALUE=DURATION:PT1H
X-Robots-Tag:noindex
X-PUBLISHED-TTL:PT1H
BEGIN:VTIMEZONE
TZID:America/Chicago
BEGIN:DAYLIGHT
TZOFFSETFROM:-0600
TZOFFSETTO:-0500
TZNAME:CDT
DTSTART:20240310T080000
END:DAYLIGHT
BEGIN:STANDARD
TZOFFSETFROM:-0500
TZOFFSETTO:-0600
TZNAME:CST
DTSTART:20241103T070000
END:STANDARD
END:VTIMEZONE
BEGIN:VEVENT
DTSTART;TZID=America/Chicago:20240126T164500
DTEND;TZID=America/Chicago:20240126T190000
DTSTAMP:20260422T233251
CREATED:20240117T170050Z
LAST-MODIFIED:20240117T170050Z
UID:10002486-1706287500-1706295600@ynschoirs.org
SUMMARY:Winter Retreat - Bella Voce
DESCRIPTION:Winter Retreat – Ragazzi & Cantabile \n4:45pm-7pm Community Concert Center
URL:https://ynschoirs.org/calendar/winter-retreat-bella-voce-2/
LOCATION:Community Concert Center\, 55 Concert Lane\, Naperville\, IL\, 60540
CATEGORIES:Cantabile,Parents,Ragazzi
END:VEVENT
BEGIN:VEVENT
DTSTART;TZID=America/Chicago:20240126T171500
DTEND;TZID=America/Chicago:20240126T201500
DTSTAMP:20260422T233251
CREATED:20240117T165905Z
LAST-MODIFIED:20240117T165935Z
UID:10002485-1706289300-1706300100@ynschoirs.org
SUMMARY:Winter Retreat - Bella Voce
DESCRIPTION:Winter Retreat – Bella Voce \n5:15-8:15pm Community Concert Center
URL:https://ynschoirs.org/calendar/winter-retreat-bella-voce/
LOCATION:Community Concert Center\, 55 Concert Lane\, Naperville\, IL\, 60540
CATEGORIES:Bella Voce,Parents
END:VEVENT
END:VCALENDAR