BEGIN:VCALENDAR
VERSION:2.0
PRODID:-//Young Naperville Singers - ECPv6.8.0//NONSGML v1.0//EN
CALSCALE:GREGORIAN
METHOD:PUBLISH
X-ORIGINAL-URL:https://ynschoirs.org
X-WR-CALDESC:Events for Young Naperville Singers
REFRESH-INTERVAL;VALUE=DURATION:PT1H
X-Robots-Tag:noindex
X-PUBLISHED-TTL:PT1H
BEGIN:VTIMEZONE
TZID:America/Chicago
BEGIN:DAYLIGHT
TZOFFSETFROM:-0600
TZOFFSETTO:-0500
TZNAME:CDT
DTSTART:20240310T080000
END:DAYLIGHT
BEGIN:STANDARD
TZOFFSETFROM:-0500
TZOFFSETTO:-0600
TZNAME:CST
DTSTART:20241103T070000
END:STANDARD
END:VTIMEZONE
BEGIN:VEVENT
DTSTART;TZID=America/Chicago:20240226T164500
DTEND;TZID=America/Chicago:20240226T174500
DTSTAMP:20260422T193325
CREATED:20240105T174502Z
LAST-MODIFIED:20240105T180807Z
UID:10002299-1708965900-1708969500@ynschoirs.org
SUMMARY:Dolce Rehearsal
DESCRIPTION:
URL:https://ynschoirs.org/calendar/bella-cantare-rehearsal-7-2-2/2024-02-26/
LOCATION:ServBank\, 3201 Orchard Road\, Oswego\, IL\, 60543
CATEGORIES:Dolce,Parents
END:VEVENT
BEGIN:VEVENT
DTSTART;TZID=America/Chicago:20240226T181500
DTEND;TZID=America/Chicago:20240226T200000
DTSTAMP:20260422T193325
CREATED:20240105T174212Z
LAST-MODIFIED:20240105T174307Z
UID:10002284-1708971300-1708977600@ynschoirs.org
SUMMARY:Canto Vivo Rehearsal
DESCRIPTION:
URL:https://ynschoirs.org/calendar/bella-cantare-rehearsal-7-2/2024-02-26/
LOCATION:Our Saviour’s Lutheran Church\, 815 S. Washington Street\, Naperville\, IL\, 60540
CATEGORIES:Canto Vivo,Parents
END:VEVENT
BEGIN:VEVENT
DTSTART;TZID=America/Chicago:20240226T181500
DTEND;TZID=America/Chicago:20240226T201500
DTSTAMP:20260422T193325
CREATED:20240105T173752Z
LAST-MODIFIED:20240304T201203Z
UID:10002268-1708971300-1708978500@ynschoirs.org
SUMMARY:Bella Cantare Rehearsal
DESCRIPTION:
URL:https://ynschoirs.org/calendar/bella-cantare-rehearsal-7/2024-02-26/
LOCATION:Our Saviour’s Lutheran Church\, 815 S. Washington Street\, Naperville\, IL\, 60540
CATEGORIES:Bella Cantare,Parents
END:VEVENT
END:VCALENDAR