BEGIN:VCALENDAR
VERSION:2.0
PRODID:-//Young Naperville Singers - ECPv6.8.0//NONSGML v1.0//EN
CALSCALE:GREGORIAN
METHOD:PUBLISH
X-WR-CALNAME:Young Naperville Singers
X-ORIGINAL-URL:https://ynschoirs.org
X-WR-CALDESC:Events for Young Naperville Singers
REFRESH-INTERVAL;VALUE=DURATION:PT1H
X-Robots-Tag:noindex
X-PUBLISHED-TTL:PT1H
BEGIN:VTIMEZONE
TZID:America/Chicago
BEGIN:DAYLIGHT
TZOFFSETFROM:-0600
TZOFFSETTO:-0500
TZNAME:CDT
DTSTART:20240310T080000
END:DAYLIGHT
BEGIN:STANDARD
TZOFFSETFROM:-0500
TZOFFSETTO:-0600
TZNAME:CST
DTSTART:20241103T070000
END:STANDARD
END:VTIMEZONE
BEGIN:VEVENT
DTSTART;TZID=America/Chicago:20240402T163000
DTEND;TZID=America/Chicago:20240402T174500
DTSTAMP:20260422T180427
CREATED:20240105T180139Z
LAST-MODIFIED:20240105T181447Z
UID:10002374-1712075400-1712079900@ynschoirs.org
SUMMARY:Brio Rehearsal
DESCRIPTION:
URL:https://ynschoirs.org/calendar/brio-rehearsal-7/2024-04-02/
LOCATION:Community Concert Center\, 55 Concert Lane\, Naperville\, IL\, 60540
CATEGORIES:Brio,Parents
END:VEVENT
BEGIN:VEVENT
DTSTART;TZID=America/Chicago:20240402T164500
DTEND;TZID=America/Chicago:20240402T173000
DTSTAMP:20260422T180427
CREATED:20240105T180344Z
LAST-MODIFIED:20240105T180835Z
UID:10002390-1712076300-1712079000@ynschoirs.org
SUMMARY:Voci Rehearsal
DESCRIPTION:
URL:https://ynschoirs.org/calendar/voci-rehearsal-2/2024-04-02/
LOCATION:Our Saviour’s Lutheran Church\, 815 S. Washington Street\, Naperville\, IL\, 60540
CATEGORIES:Parents,Voci
END:VEVENT
BEGIN:VEVENT
DTSTART;TZID=America/Chicago:20240402T164500
DTEND;TZID=America/Chicago:20240402T181500
DTSTAMP:20260422T180427
CREATED:20240105T175745Z
LAST-MODIFIED:20240304T200701Z
UID:10002339-1712076300-1712081700@ynschoirs.org
SUMMARY:Ragazzi Rehearsal
DESCRIPTION:
URL:https://ynschoirs.org/calendar/ragazzi-rehearsal-7/2024-04-02/
LOCATION:Community Concert Center\, 55 Concert Lane\, Naperville\, IL\, 60540
CATEGORIES:Ragazzi
END:VEVENT
BEGIN:VEVENT
DTSTART;TZID=America/Chicago:20240402T181500
DTEND;TZID=America/Chicago:20240402T201500
DTSTAMP:20260422T180427
CREATED:20240105T175021Z
LAST-MODIFIED:20240105T175559Z
UID:10002321-1712081700-1712088900@ynschoirs.org
SUMMARY:Bella Voce Rehearsal
DESCRIPTION:
URL:https://ynschoirs.org/calendar/bella-voce-rehearsal-7/2024-04-02/
LOCATION:Community Concert Center\, 55 Concert Lane\, Naperville\, IL\, 60540
CATEGORIES:Bella Voce,Parents
END:VEVENT
BEGIN:VEVENT
DTSTART;TZID=America/Chicago:20240402T183000
DTEND;TZID=America/Chicago:20240402T200000
DTSTAMP:20260422T180427
CREATED:20240105T175955Z
LAST-MODIFIED:20240304T200132Z
UID:10002357-1712082600-1712088000@ynschoirs.org
SUMMARY:Cantabile Rehearsal
DESCRIPTION:
URL:https://ynschoirs.org/calendar/cantabile-rehearsal-7/2024-04-02/
LOCATION:Community Concert Center\, 55 Concert Lane\, Naperville\, IL\, 60540
CATEGORIES:Cantabile,Parents
END:VEVENT
END:VCALENDAR