BEGIN:VCALENDAR
VERSION:2.0
PRODID:-//Young Naperville Singers - ECPv6.8.0//NONSGML v1.0//EN
CALSCALE:GREGORIAN
METHOD:PUBLISH
X-ORIGINAL-URL:https://ynschoirs.org
X-WR-CALDESC:Events for Young Naperville Singers
REFRESH-INTERVAL;VALUE=DURATION:PT1H
X-Robots-Tag:noindex
X-PUBLISHED-TTL:PT1H
BEGIN:VTIMEZONE
TZID:America/Chicago
BEGIN:DAYLIGHT
TZOFFSETFROM:-0600
TZOFFSETTO:-0500
TZNAME:CDT
DTSTART:20240310T080000
END:DAYLIGHT
BEGIN:STANDARD
TZOFFSETFROM:-0500
TZOFFSETTO:-0600
TZNAME:CST
DTSTART:20241103T070000
END:STANDARD
END:VTIMEZONE
BEGIN:VEVENT
DTSTART;TZID=America/Chicago:20240415T164500
DTEND;TZID=America/Chicago:20240415T174500
DTSTAMP:20260422T180513
CREATED:20240105T174502Z
LAST-MODIFIED:20240105T180807Z
UID:10002305-1713199500-1713203100@ynschoirs.org
SUMMARY:Dolce Rehearsal
DESCRIPTION:
URL:https://ynschoirs.org/calendar/bella-cantare-rehearsal-7-2-2/2024-04-15/
LOCATION:ServBank\, 3201 Orchard Road\, Oswego\, IL\, 60543
CATEGORIES:Dolce,Parents
END:VEVENT
BEGIN:VEVENT
DTSTART;TZID=America/Chicago:20240415T181500
DTEND;TZID=America/Chicago:20240415T200000
DTSTAMP:20260422T180513
CREATED:20240105T174212Z
LAST-MODIFIED:20240105T174307Z
UID:10002290-1713204900-1713211200@ynschoirs.org
SUMMARY:Canto Vivo Rehearsal
DESCRIPTION:
URL:https://ynschoirs.org/calendar/bella-cantare-rehearsal-7-2/2024-04-15/
LOCATION:Our Saviour’s Lutheran Church\, 815 S. Washington Street\, Naperville\, IL\, 60540
CATEGORIES:Canto Vivo,Parents
END:VEVENT
BEGIN:VEVENT
DTSTART;TZID=America/Chicago:20240415T181500
DTEND;TZID=America/Chicago:20240415T203000
DTSTAMP:20260422T180513
CREATED:20240304T201313Z
LAST-MODIFIED:20240304T201313Z
UID:10002506-1713204900-1713213000@ynschoirs.org
SUMMARY:Bella Cantare Rehearsal
DESCRIPTION:Special Rehearsal Time: 6:15pm-8:30pm
URL:https://ynschoirs.org/calendar/bella-cantare-rehearsal-8/2024-04-15/
LOCATION:Our Saviour’s Lutheran Church\, 815 S. Washington Street\, Naperville\, IL\, 60540
CATEGORIES:Bella Cantare,Parents
END:VEVENT
END:VCALENDAR