BEGIN:VCALENDAR
VERSION:2.0
PRODID:-//Young Naperville Singers - ECPv6.8.0//NONSGML v1.0//EN
CALSCALE:GREGORIAN
METHOD:PUBLISH
X-ORIGINAL-URL:https://ynschoirs.org
X-WR-CALDESC:Events for Young Naperville Singers
REFRESH-INTERVAL;VALUE=DURATION:PT1H
X-Robots-Tag:noindex
X-PUBLISHED-TTL:PT1H
BEGIN:VTIMEZONE
TZID:America/Chicago
BEGIN:DAYLIGHT
TZOFFSETFROM:-0600
TZOFFSETTO:-0500
TZNAME:CDT
DTSTART:20240310T080000
END:DAYLIGHT
BEGIN:STANDARD
TZOFFSETFROM:-0500
TZOFFSETTO:-0600
TZNAME:CST
DTSTART:20241103T070000
END:STANDARD
END:VTIMEZONE
BEGIN:VEVENT
DTSTART;TZID=America/Chicago:20240420T130000
DTEND;TZID=America/Chicago:20240420T141500
DTSTAMP:20260422T180516
CREATED:20240213T201157Z
LAST-MODIFIED:20240213T201157Z
UID:10002491-1713618000-1713622500@ynschoirs.org
SUMMARY:Brillante & Cantabile Showcase
DESCRIPTION:Brillante & Cantabile Showcase\nMonarch Landing: \nBrillante Arrive at 1:00pm; Perform at 1:30pm – Cantabile Arrive at 1:15pm; Finished by 2:15pm
URL:https://ynschoirs.org/calendar/brillante-cantabile-showcase-2/
LOCATION:Monarch Landing\, 2255 Monarch Drive\, Naperville\, IL\, 60563
CATEGORIES:Brillante,Cantabile,Parents
END:VEVENT
BEGIN:VEVENT
DTSTART;TZID=America/Chicago:20240420T153000
DTEND;TZID=America/Chicago:20240420T173000
DTSTAMP:20260422T180516
CREATED:20240213T200937Z
LAST-MODIFIED:20240213T200937Z
UID:10002490-1713627000-1713634200@ynschoirs.org
SUMMARY:Choirs Connect - Brio & Ragazzi
DESCRIPTION:Choirs Connect – Brio & Ragazzi \nSt. Timothy Church; 3:30-5:30pm \n 
URL:https://ynschoirs.org/calendar/choirs-connect-brio-ragazzi/
LOCATION:St. Timothy Church\, 1313 N. Mill Street\, Naperville\, IL\, 60563
CATEGORIES:Brio,Parents,Ragazzi
END:VEVENT
END:VCALENDAR