BEGIN:VCALENDAR
VERSION:2.0
PRODID:-//Young Naperville Singers - ECPv6.8.0//NONSGML v1.0//EN
CALSCALE:GREGORIAN
METHOD:PUBLISH
X-ORIGINAL-URL:https://ynschoirs.org
X-WR-CALDESC:Events for Young Naperville Singers
REFRESH-INTERVAL;VALUE=DURATION:PT1H
X-Robots-Tag:noindex
X-PUBLISHED-TTL:PT1H
BEGIN:VTIMEZONE
TZID:America/Chicago
BEGIN:DAYLIGHT
TZOFFSETFROM:-0600
TZOFFSETTO:-0500
TZNAME:CDT
DTSTART:20220313T080000
END:DAYLIGHT
BEGIN:STANDARD
TZOFFSETFROM:-0500
TZOFFSETTO:-0600
TZNAME:CST
DTSTART:20221106T070000
END:STANDARD
END:VTIMEZONE
BEGIN:VEVENT
DTSTART;TZID=America/Chicago:20221102T164500
DTEND;TZID=America/Chicago:20221102T174500
DTSTAMP:20260424T033439
CREATED:20220804T182750Z
LAST-MODIFIED:20220901T024655Z
UID:10001756-1667407500-1667411100@ynschoirs.org
SUMMARY:Primo Wednesday Rehearsal
DESCRIPTION:Community Concert Center
URL:https://ynschoirs.org/calendar/primo-1-rehearsal/2022-11-02/
LOCATION:Community Concert Center\, 55 Concert Lane\, Naperville\, IL\, 60540
CATEGORIES:Parents,Primo
END:VEVENT
BEGIN:VEVENT
DTSTART;TZID=America/Chicago:20221103T164500
DTEND;TZID=America/Chicago:20221103T174500
DTSTAMP:20260424T033439
CREATED:20220804T183138Z
LAST-MODIFIED:20220901T024524Z
UID:10001771-1667493900-1667497500@ynschoirs.org
SUMMARY:Primo Thursday Rehearsal
DESCRIPTION:Our Saviour’s Church
URL:https://ynschoirs.org/calendar/primo-2-rehearsal/2022-11-03/
LOCATION:Our Saviour’s Lutheran Church\, 815 S. Washington Street\, Naperville\, IL\, 60540
CATEGORIES:Parents,Primo
END:VEVENT
BEGIN:VEVENT
DTSTART;VALUE=DATE:20221104
DTEND;VALUE=DATE:20221105
DTSTAMP:20260424T033439
CREATED:20220801T203503Z
LAST-MODIFIED:20220801T203503Z
UID:10001693-1667520000-1667606399@ynschoirs.org
SUMMARY:Butter Braid Sale Ends
DESCRIPTION:All orders are due today\, 11/4.
URL:https://ynschoirs.org/calendar/butter-braid-sale-ends/
CATEGORIES:Aria,Bella Cantare,Bella Voce,Brillante,Brio,Cantabile,Canto Vivo,Dolce,Parents,Primo,Ragazzi
END:VEVENT
BEGIN:VEVENT
DTSTART;TZID=America/Chicago:20221109T164500
DTEND;TZID=America/Chicago:20221109T174500
DTSTAMP:20260424T033439
CREATED:20220804T182750Z
LAST-MODIFIED:20220901T024655Z
UID:10001757-1668012300-1668015900@ynschoirs.org
SUMMARY:Primo Wednesday Rehearsal
DESCRIPTION:Community Concert Center
URL:https://ynschoirs.org/calendar/primo-1-rehearsal/2022-11-09/
LOCATION:Community Concert Center\, 55 Concert Lane\, Naperville\, IL\, 60540
CATEGORIES:Parents,Primo
END:VEVENT
BEGIN:VEVENT
DTSTART;TZID=America/Chicago:20221110T164500
DTEND;TZID=America/Chicago:20221110T174500
DTSTAMP:20260424T033439
CREATED:20220804T183138Z
LAST-MODIFIED:20220901T024524Z
UID:10001772-1668098700-1668102300@ynschoirs.org
SUMMARY:Primo Thursday Rehearsal
DESCRIPTION:Our Saviour’s Church
URL:https://ynschoirs.org/calendar/primo-2-rehearsal/2022-11-10/
LOCATION:Our Saviour’s Lutheran Church\, 815 S. Washington Street\, Naperville\, IL\, 60540
CATEGORIES:Parents,Primo
END:VEVENT
BEGIN:VEVENT
DTSTART;TZID=America/Chicago:20221112T090000
DTEND;TZID=America/Chicago:20221112T110000
DTSTAMP:20260424T033439
CREATED:20220801T203615Z
LAST-MODIFIED:20220801T203708Z
UID:10001694-1668243600-1668250800@ynschoirs.org
SUMMARY:Butter Braid Pick Up
DESCRIPTION:All orders must be picked up at the Community Concert Center.
URL:https://ynschoirs.org/calendar/butter-braid-pick-up-2/
LOCATION:Community Concert Center\, 55 Concert Lane\, Naperville\, IL\, 60540
CATEGORIES:Aria,Bella Cantare,Bella Voce,Brillante,Brio,Cantabile,Canto Vivo,Dolce,Parents,Primo,Ragazzi
END:VEVENT
BEGIN:VEVENT
DTSTART;TZID=America/Chicago:20221116T164500
DTEND;TZID=America/Chicago:20221116T174500
DTSTAMP:20260424T033439
CREATED:20220804T182750Z
LAST-MODIFIED:20220901T024655Z
UID:10001758-1668617100-1668620700@ynschoirs.org
SUMMARY:Primo Wednesday Rehearsal
DESCRIPTION:Community Concert Center
URL:https://ynschoirs.org/calendar/primo-1-rehearsal/2022-11-16/
LOCATION:Community Concert Center\, 55 Concert Lane\, Naperville\, IL\, 60540
CATEGORIES:Parents,Primo
END:VEVENT
BEGIN:VEVENT
DTSTART;TZID=America/Chicago:20221117T164500
DTEND;TZID=America/Chicago:20221117T174500
DTSTAMP:20260424T033439
CREATED:20220804T183138Z
LAST-MODIFIED:20220901T024524Z
UID:10001773-1668703500-1668707100@ynschoirs.org
SUMMARY:Primo Thursday Rehearsal
DESCRIPTION:Our Saviour’s Church
URL:https://ynschoirs.org/calendar/primo-2-rehearsal/2022-11-17/
LOCATION:Our Saviour’s Lutheran Church\, 815 S. Washington Street\, Naperville\, IL\, 60540
CATEGORIES:Parents,Primo
END:VEVENT
BEGIN:VEVENT
DTSTART;VALUE=DATE:20221122
DTEND;VALUE=DATE:20221126
DTSTAMP:20260424T033439
CREATED:20220804T185212Z
LAST-MODIFIED:20220804T185212Z
UID:10001814-1669075200-1669420799@ynschoirs.org
SUMMARY:No Rehearsals - Thanksgiving Break
DESCRIPTION:
URL:https://ynschoirs.org/calendar/no-rehearsals-thanksgiving-break/
CATEGORIES:Aria,Bella Voce,Brillante,Brio,Cantabile,Parents,Primo,Ragazzi
END:VEVENT
BEGIN:VEVENT
DTSTART;TZID=America/Chicago:20221130T164500
DTEND;TZID=America/Chicago:20221130T174500
DTSTAMP:20260424T033439
CREATED:20220804T182750Z
LAST-MODIFIED:20220901T024655Z
UID:10001759-1669826700-1669830300@ynschoirs.org
SUMMARY:Primo Wednesday Rehearsal
DESCRIPTION:Community Concert Center
URL:https://ynschoirs.org/calendar/primo-1-rehearsal/2022-11-30/
LOCATION:Community Concert Center\, 55 Concert Lane\, Naperville\, IL\, 60540
CATEGORIES:Parents,Primo
END:VEVENT
END:VCALENDAR