BEGIN:VCALENDAR
VERSION:2.0
PRODID:-//Young Naperville Singers - ECPv6.8.0//NONSGML v1.0//EN
CALSCALE:GREGORIAN
METHOD:PUBLISH
X-WR-CALNAME:Young Naperville Singers
X-ORIGINAL-URL:https://ynschoirs.org
X-WR-CALDESC:Events for Young Naperville Singers
REFRESH-INTERVAL;VALUE=DURATION:PT1H
X-Robots-Tag:noindex
X-PUBLISHED-TTL:PT1H
BEGIN:VTIMEZONE
TZID:America/Chicago
BEGIN:DAYLIGHT
TZOFFSETFROM:-0600
TZOFFSETTO:-0500
TZNAME:CDT
DTSTART:20220313T080000
END:DAYLIGHT
BEGIN:STANDARD
TZOFFSETFROM:-0500
TZOFFSETTO:-0600
TZNAME:CST
DTSTART:20221106T070000
END:STANDARD
BEGIN:DAYLIGHT
TZOFFSETFROM:-0600
TZOFFSETTO:-0500
TZNAME:CDT
DTSTART:20230312T080000
END:DAYLIGHT
BEGIN:STANDARD
TZOFFSETFROM:-0500
TZOFFSETTO:-0600
TZNAME:CST
DTSTART:20231105T070000
END:STANDARD
END:VTIMEZONE
BEGIN:VEVENT
DTSTART;TZID=America/Chicago:20221201T164500
DTEND;TZID=America/Chicago:20221201T174500
DTSTAMP:20260424T020238
CREATED:20220804T183138Z
LAST-MODIFIED:20220901T024524Z
UID:10001774-1669913100-1669916700@ynschoirs.org
SUMMARY:Primo Thursday Rehearsal
DESCRIPTION:Our Saviour’s Church
URL:https://ynschoirs.org/calendar/primo-2-rehearsal/2022-12-01/
LOCATION:Our Saviour’s Lutheran Church\, 815 S. Washington Street\, Naperville\, IL\, 60540
CATEGORIES:Parents,Primo
END:VEVENT
BEGIN:VEVENT
DTSTART;TZID=America/Chicago:20221207T164500
DTEND;TZID=America/Chicago:20221207T174500
DTSTAMP:20260424T020238
CREATED:20220804T182750Z
LAST-MODIFIED:20220901T024655Z
UID:10001760-1670431500-1670435100@ynschoirs.org
SUMMARY:Primo Wednesday Rehearsal
DESCRIPTION:Community Concert Center
URL:https://ynschoirs.org/calendar/primo-1-rehearsal/2022-12-07/
LOCATION:Community Concert Center\, 55 Concert Lane\, Naperville\, IL\, 60540
CATEGORIES:Parents,Primo
END:VEVENT
BEGIN:VEVENT
DTSTART;TZID=America/Chicago:20221208T164500
DTEND;TZID=America/Chicago:20221208T174500
DTSTAMP:20260424T020238
CREATED:20220804T183138Z
LAST-MODIFIED:20220901T024524Z
UID:10001775-1670517900-1670521500@ynschoirs.org
SUMMARY:Primo Thursday Rehearsal
DESCRIPTION:Our Saviour’s Church
URL:https://ynschoirs.org/calendar/primo-2-rehearsal/2022-12-08/
LOCATION:Our Saviour’s Lutheran Church\, 815 S. Washington Street\, Naperville\, IL\, 60540
CATEGORIES:Parents,Primo
END:VEVENT
BEGIN:VEVENT
DTSTART;TZID=America/Chicago:20221214T164500
DTEND;TZID=America/Chicago:20221214T173000
DTSTAMP:20260424T020238
CREATED:20220801T210230Z
LAST-MODIFIED:20220804T184216Z
UID:10001331-1671036300-1671039000@ynschoirs.org
SUMMARY:Primo Showcase Performance
DESCRIPTION:Primo 1 and Primo 2 – Please arrive at Martin Ave Apartments no later than 4:45pm
URL:https://ynschoirs.org/calendar/primo-showcase-performance/
LOCATION:Martin Avenue\, 310 W. Martin Avenue\, Naperville\, IL\, 60540
CATEGORIES:Parents,Primo
END:VEVENT
BEGIN:VEVENT
DTSTART;VALUE=DATE:20221215
DTEND;VALUE=DATE:20221216
DTSTAMP:20260424T020239
CREATED:20220804T184245Z
LAST-MODIFIED:20220901T024629Z
UID:10001809-1671062400-1671148799@ynschoirs.org
SUMMARY:No Primo Thursday Rehearsal
DESCRIPTION:
URL:https://ynschoirs.org/calendar/no-primo-2-rehearsal/
CATEGORIES:Parents,Primo
END:VEVENT
BEGIN:VEVENT
DTSTART;VALUE=DATE:20221217
DTEND;VALUE=DATE:20221218
DTSTAMP:20260424T020239
CREATED:20220801T210703Z
LAST-MODIFIED:20220801T210703Z
UID:10001335-1671235200-1671321599@ynschoirs.org
SUMMARY:Winter Concert Mandatory Rehearsal
DESCRIPTION:All choirs will have a rehearsal time in the morning or early afternoon.  Times TBD
URL:https://ynschoirs.org/calendar/winter-concert-mandatory-rehearsal/
LOCATION:Neuqua Valley High School\, 2360 95th Street\, Naperville\, IL\, 60564
CATEGORIES:Aria,Bella Cantare,Bella Voce,Brillante,Brio,Cantabile,Canto Vivo,Dolce,Parents,Primo,Ragazzi
END:VEVENT
BEGIN:VEVENT
DTSTART;VALUE=DATE:20221218
DTEND;VALUE=DATE:20221219
DTSTAMP:20260424T020239
CREATED:20220801T210806Z
LAST-MODIFIED:20221017T150040Z
UID:10001337-1671321600-1671407999@ynschoirs.org
SUMMARY:Winter Concerts
DESCRIPTION:Concert One 2:00pm: Brio\, Dolce\, Aria\, Cantabile (Bella Cantare & Canto Vivo – limited repertoire) \nConcert Two 4:00pm: Primo\, Ragazzi\, Bella Voce (Bella Cantare & Canto Vivo – limited repertoire) \nConcert Three 6:30pm: Brillate\, Canto Vivo\, Bella Cantare (Bella Voce – limited repertoire) \n 
URL:https://ynschoirs.org/calendar/winter-concerts/
LOCATION:Neuqua Valley High School\, 2360 95th Street\, Naperville\, IL\, 60564
CATEGORIES:Aria,Bella Cantare,Bella Voce,Brillante,Brio,Cantabile,Canto Vivo,Dolce,Parents,Primo,Ragazzi
END:VEVENT
BEGIN:VEVENT
DTSTART;TZID=America/Chicago:20221221T164500
DTEND;TZID=America/Chicago:20221221T174500
DTSTAMP:20260424T020239
CREATED:20220804T182750Z
LAST-MODIFIED:20220901T024655Z
UID:10001761-1671641100-1671644700@ynschoirs.org
SUMMARY:Primo Wednesday Rehearsal
DESCRIPTION:Community Concert Center
URL:https://ynschoirs.org/calendar/primo-1-rehearsal/2022-12-21/
LOCATION:Community Concert Center\, 55 Concert Lane\, Naperville\, IL\, 60540
CATEGORIES:Parents,Primo
END:VEVENT
BEGIN:VEVENT
DTSTART;TZID=America/Chicago:20221222T164500
DTEND;TZID=America/Chicago:20221222T174500
DTSTAMP:20260424T020239
CREATED:20220804T183138Z
LAST-MODIFIED:20220901T024524Z
UID:10001776-1671727500-1671731100@ynschoirs.org
SUMMARY:Primo Thursday Rehearsal
DESCRIPTION:Our Saviour’s Church
URL:https://ynschoirs.org/calendar/primo-2-rehearsal/2022-12-22/
LOCATION:Our Saviour’s Lutheran Church\, 815 S. Washington Street\, Naperville\, IL\, 60540
CATEGORIES:Parents,Primo
END:VEVENT
BEGIN:VEVENT
DTSTART;VALUE=DATE:20221226
DTEND;VALUE=DATE:20230107
DTSTAMP:20260424T020239
CREATED:20220804T185411Z
LAST-MODIFIED:20220804T185411Z
UID:10001815-1672012800-1673049599@ynschoirs.org
SUMMARY:No Rehearsals - Winter Break
DESCRIPTION:
URL:https://ynschoirs.org/calendar/no-rehearsals-winter-break/
CATEGORIES:Aria,Bella Cantare,Bella Voce,Brillante,Brio,Cantabile,Canto Vivo,Dolce,Parents,Primo,Ragazzi
END:VEVENT
END:VCALENDAR