BEGIN:VCALENDAR
VERSION:2.0
PRODID:-//Young Naperville Singers - ECPv6.8.0//NONSGML v1.0//EN
CALSCALE:GREGORIAN
METHOD:PUBLISH
X-ORIGINAL-URL:https://ynschoirs.org
X-WR-CALDESC:Events for Young Naperville Singers
REFRESH-INTERVAL;VALUE=DURATION:PT1H
X-Robots-Tag:noindex
X-PUBLISHED-TTL:PT1H
BEGIN:VTIMEZONE
TZID:America/Chicago
BEGIN:DAYLIGHT
TZOFFSETFROM:-0600
TZOFFSETTO:-0500
TZNAME:CDT
DTSTART:20230312T080000
END:DAYLIGHT
BEGIN:STANDARD
TZOFFSETFROM:-0500
TZOFFSETTO:-0600
TZNAME:CST
DTSTART:20231105T070000
END:STANDARD
END:VTIMEZONE
BEGIN:VEVENT
DTSTART;TZID=America/Chicago:20230906T164500
DTEND;TZID=America/Chicago:20230906T174500
DTSTAMP:20260423T103257
CREATED:20230918T154230Z
LAST-MODIFIED:20231018T175700Z
UID:10002158-1694018700-1694022300@ynschoirs.org
SUMMARY:Primo Wed Rehearsal
DESCRIPTION:
URL:https://ynschoirs.org/calendar/primo-wed-rehearsal-2/2023-09-06/
LOCATION:Community Concert Center\, 55 Concert Lane\, Naperville\, IL\, 60540
CATEGORIES:Parents,Primo
END:VEVENT
BEGIN:VEVENT
DTSTART;TZID=America/Chicago:20230907T164500
DTEND;TZID=America/Chicago:20230907T174500
DTSTAMP:20260423T103257
CREATED:20230918T154151Z
LAST-MODIFIED:20231018T174814Z
UID:10002143-1694105100-1694108700@ynschoirs.org
SUMMARY:Primo Thursday Rehearsal
DESCRIPTION:
URL:https://ynschoirs.org/calendar/primo-thursday-rehearsal-2/2023-09-07/
LOCATION:Community Concert Center\, 55 Concert Lane\, Naperville\, IL\, 60540
CATEGORIES:Parents,Primo
END:VEVENT
BEGIN:VEVENT
DTSTART;TZID=America/Chicago:20230913T164500
DTEND;TZID=America/Chicago:20230913T174500
DTSTAMP:20260423T103257
CREATED:20230918T154230Z
LAST-MODIFIED:20231018T175700Z
UID:10002159-1694623500-1694627100@ynschoirs.org
SUMMARY:Primo Wed Rehearsal
DESCRIPTION:
URL:https://ynschoirs.org/calendar/primo-wed-rehearsal-2/2023-09-13/
LOCATION:Community Concert Center\, 55 Concert Lane\, Naperville\, IL\, 60540
CATEGORIES:Parents,Primo
END:VEVENT
BEGIN:VEVENT
DTSTART;TZID=America/Chicago:20230914T164500
DTEND;TZID=America/Chicago:20230914T174500
DTSTAMP:20260423T103257
CREATED:20230918T154151Z
LAST-MODIFIED:20231018T174814Z
UID:10002144-1694709900-1694713500@ynschoirs.org
SUMMARY:Primo Thursday Rehearsal
DESCRIPTION:
URL:https://ynschoirs.org/calendar/primo-thursday-rehearsal-2/2023-09-14/
LOCATION:Community Concert Center\, 55 Concert Lane\, Naperville\, IL\, 60540
CATEGORIES:Parents,Primo
END:VEVENT
BEGIN:VEVENT
DTSTART;TZID=America/Chicago:20230920T164500
DTEND;TZID=America/Chicago:20230920T174500
DTSTAMP:20260423T103257
CREATED:20230918T154230Z
LAST-MODIFIED:20231018T175700Z
UID:10002129-1695228300-1695231900@ynschoirs.org
SUMMARY:Primo Wed Rehearsal
DESCRIPTION:
URL:https://ynschoirs.org/calendar/primo-wed-rehearsal-2/2023-09-20/
LOCATION:Community Concert Center\, 55 Concert Lane\, Naperville\, IL\, 60540
CATEGORIES:Parents,Primo
END:VEVENT
BEGIN:VEVENT
DTSTART;TZID=America/Chicago:20230921T164500
DTEND;TZID=America/Chicago:20230921T174500
DTSTAMP:20260423T103257
CREATED:20230918T154151Z
LAST-MODIFIED:20231018T174814Z
UID:10002145-1695314700-1695318300@ynschoirs.org
SUMMARY:Primo Thursday Rehearsal
DESCRIPTION:
URL:https://ynschoirs.org/calendar/primo-thursday-rehearsal-2/2023-09-21/
LOCATION:Community Concert Center\, 55 Concert Lane\, Naperville\, IL\, 60540
CATEGORIES:Parents,Primo
END:VEVENT
BEGIN:VEVENT
DTSTART;TZID=America/Chicago:20230927T164500
DTEND;TZID=America/Chicago:20230927T174500
DTSTAMP:20260423T103257
CREATED:20230918T154230Z
LAST-MODIFIED:20231018T175700Z
UID:10002130-1695833100-1695836700@ynschoirs.org
SUMMARY:Primo Wed Rehearsal
DESCRIPTION:
URL:https://ynschoirs.org/calendar/primo-wed-rehearsal-2/2023-09-27/
LOCATION:Community Concert Center\, 55 Concert Lane\, Naperville\, IL\, 60540
CATEGORIES:Parents,Primo
END:VEVENT
BEGIN:VEVENT
DTSTART;TZID=America/Chicago:20230928T164500
DTEND;TZID=America/Chicago:20230928T174500
DTSTAMP:20260423T103257
CREATED:20230918T154151Z
LAST-MODIFIED:20231018T174814Z
UID:10002146-1695919500-1695923100@ynschoirs.org
SUMMARY:Primo Thursday Rehearsal
DESCRIPTION:
URL:https://ynschoirs.org/calendar/primo-thursday-rehearsal-2/2023-09-28/
LOCATION:Community Concert Center\, 55 Concert Lane\, Naperville\, IL\, 60540
CATEGORIES:Parents,Primo
END:VEVENT
BEGIN:VEVENT
DTSTART;TZID=America/Chicago:20230930T093000
DTEND;TZID=America/Chicago:20230930T130000
DTSTAMP:20260423T103257
CREATED:20230928T160428Z
LAST-MODIFIED:20230928T160505Z
UID:10002249-1696066200-1696078800@ynschoirs.org
SUMMARY:YNS Family Fest
DESCRIPTION:Schedule for the day:\n\nAria: Line Up 9:15am\, Perform 9:30am\nBella Voce: Line Up 9:45am\, Perform 10am\nBrillante: Line Up 10:15am\, Perform 10:30am\nRagazzi: Line Up 10:45am\, Perform 11am\nCantabile Line Up 11:15am\, Perform 11:30am\nDolce: Line Up 11:45am\, Perform 12pm\nPrimo: Line Up 12:15pm\, Perform 12:30pm\n\n*Brio & Voci – please come and join in the fun anytime between 10:00am and 12:30pm! \nYNS Family Fest Information and Schedule \n*YNS Family Fest activities will be held from 10:00am-12:30pm. There will be musical activities\, a craft\, and YNS info tables for the singers and their families to enjoy before or after their performance. \n 
URL:https://ynschoirs.org/calendar/yns-family-fest/
LOCATION:St. John’s Episcopal Church\, 750 Aurora Ave\, Naperville\, IL\, 60540
CATEGORIES:Aria,Bella Voce,Brillante,Brio,Cantabile,Dolce,Parents,Primo,Ragazzi,Voci
END:VEVENT
END:VCALENDAR