BEGIN:VCALENDAR
VERSION:2.0
PRODID:-//Young Naperville Singers - ECPv6.8.0//NONSGML v1.0//EN
CALSCALE:GREGORIAN
METHOD:PUBLISH
X-WR-CALNAME:Young Naperville Singers
X-ORIGINAL-URL:https://ynschoirs.org
X-WR-CALDESC:Events for Young Naperville Singers
REFRESH-INTERVAL;VALUE=DURATION:PT1H
X-Robots-Tag:noindex
X-PUBLISHED-TTL:PT1H
BEGIN:VTIMEZONE
TZID:America/Chicago
BEGIN:DAYLIGHT
TZOFFSETFROM:-0600
TZOFFSETTO:-0500
TZNAME:CDT
DTSTART:20230312T080000
END:DAYLIGHT
BEGIN:STANDARD
TZOFFSETFROM:-0500
TZOFFSETTO:-0600
TZNAME:CST
DTSTART:20231105T070000
END:STANDARD
END:VTIMEZONE
BEGIN:VEVENT
DTSTART;TZID=America/Chicago:20231004T164500
DTEND;TZID=America/Chicago:20231004T174500
DTSTAMP:20260423T085801
CREATED:20230918T154230Z
LAST-MODIFIED:20231018T175700Z
UID:10002131-1696437900-1696441500@ynschoirs.org
SUMMARY:Primo Wed Rehearsal
DESCRIPTION:
URL:https://ynschoirs.org/calendar/primo-wed-rehearsal-2/2023-10-04/
LOCATION:Community Concert Center\, 55 Concert Lane\, Naperville\, IL\, 60540
CATEGORIES:Parents,Primo
END:VEVENT
BEGIN:VEVENT
DTSTART;TZID=America/Chicago:20231005T164500
DTEND;TZID=America/Chicago:20231005T174500
DTSTAMP:20260423T085801
CREATED:20230918T154151Z
LAST-MODIFIED:20231018T174814Z
UID:10002147-1696524300-1696527900@ynschoirs.org
SUMMARY:Primo Thursday Rehearsal
DESCRIPTION:
URL:https://ynschoirs.org/calendar/primo-thursday-rehearsal-2/2023-10-05/
LOCATION:Community Concert Center\, 55 Concert Lane\, Naperville\, IL\, 60540
CATEGORIES:Parents,Primo
END:VEVENT
BEGIN:VEVENT
DTSTART;TZID=America/Chicago:20231011T164500
DTEND;TZID=America/Chicago:20231011T174500
DTSTAMP:20260423T085801
CREATED:20230918T154230Z
LAST-MODIFIED:20231018T175700Z
UID:10002132-1697042700-1697046300@ynschoirs.org
SUMMARY:Primo Wed Rehearsal
DESCRIPTION:
URL:https://ynschoirs.org/calendar/primo-wed-rehearsal-2/2023-10-11/
LOCATION:Community Concert Center\, 55 Concert Lane\, Naperville\, IL\, 60540
CATEGORIES:Parents,Primo
END:VEVENT
BEGIN:VEVENT
DTSTART;TZID=America/Chicago:20231012T164500
DTEND;TZID=America/Chicago:20231012T174500
DTSTAMP:20260423T085801
CREATED:20230918T154151Z
LAST-MODIFIED:20231018T174814Z
UID:10002148-1697129100-1697132700@ynschoirs.org
SUMMARY:Primo Thursday Rehearsal
DESCRIPTION:
URL:https://ynschoirs.org/calendar/primo-thursday-rehearsal-2/2023-10-12/
LOCATION:Community Concert Center\, 55 Concert Lane\, Naperville\, IL\, 60540
CATEGORIES:Parents,Primo
END:VEVENT
BEGIN:VEVENT
DTSTART;VALUE=DATE:20231016
DTEND;VALUE=DATE:20231017
DTSTAMP:20260423T085801
CREATED:20230918T155652Z
LAST-MODIFIED:20230918T155652Z
UID:10002212-1697414400-1697500799@ynschoirs.org
SUMMARY:YNS Butter Braid Fundraiser Begins
DESCRIPTION:Information will be coming to rehearsals and via email.
URL:https://ynschoirs.org/calendar/yns-butter-braid-fundraiser-begins/
CATEGORIES:Aria,Bella Cantare,Bella Voce,Brillante,Brio,Cantabile,Canto Vivo,Dolce,Parents,Primo,Ragazzi
END:VEVENT
BEGIN:VEVENT
DTSTART;TZID=America/Chicago:20231018T164500
DTEND;TZID=America/Chicago:20231018T174500
DTSTAMP:20260423T085801
CREATED:20230918T154230Z
LAST-MODIFIED:20231018T175700Z
UID:10002133-1697647500-1697651100@ynschoirs.org
SUMMARY:Primo Wed Rehearsal
DESCRIPTION:
URL:https://ynschoirs.org/calendar/primo-wed-rehearsal-2/2023-10-18/
LOCATION:Community Concert Center\, 55 Concert Lane\, Naperville\, IL\, 60540
CATEGORIES:Parents,Primo
END:VEVENT
BEGIN:VEVENT
DTSTART;TZID=America/Chicago:20231019T164500
DTEND;TZID=America/Chicago:20231019T174500
DTSTAMP:20260423T085801
CREATED:20230918T154151Z
LAST-MODIFIED:20231018T174814Z
UID:10002149-1697733900-1697737500@ynschoirs.org
SUMMARY:Primo Thursday Rehearsal
DESCRIPTION:
URL:https://ynschoirs.org/calendar/primo-thursday-rehearsal-2/2023-10-19/
LOCATION:Community Concert Center\, 55 Concert Lane\, Naperville\, IL\, 60540
CATEGORIES:Parents,Primo
END:VEVENT
BEGIN:VEVENT
DTSTART;TZID=America/Chicago:20231025T164500
DTEND;TZID=America/Chicago:20231025T174500
DTSTAMP:20260423T085801
CREATED:20230918T154230Z
LAST-MODIFIED:20231018T175700Z
UID:10002134-1698252300-1698255900@ynschoirs.org
SUMMARY:Primo Wed Rehearsal
DESCRIPTION:
URL:https://ynschoirs.org/calendar/primo-wed-rehearsal-2/2023-10-25/
LOCATION:Community Concert Center\, 55 Concert Lane\, Naperville\, IL\, 60540
CATEGORIES:Parents,Primo
END:VEVENT
BEGIN:VEVENT
DTSTART;TZID=America/Chicago:20231026T164500
DTEND;TZID=America/Chicago:20231026T174500
DTSTAMP:20260423T085801
CREATED:20230918T154151Z
LAST-MODIFIED:20231018T174814Z
UID:10002150-1698338700-1698342300@ynschoirs.org
SUMMARY:Primo Thursday Rehearsal
DESCRIPTION:
URL:https://ynschoirs.org/calendar/primo-thursday-rehearsal-2/2023-10-26/
LOCATION:Community Concert Center\, 55 Concert Lane\, Naperville\, IL\, 60540
CATEGORIES:Parents,Primo
END:VEVENT
END:VCALENDAR