BEGIN:VCALENDAR
VERSION:2.0
PRODID:-//Young Naperville Singers - ECPv6.8.0//NONSGML v1.0//EN
CALSCALE:GREGORIAN
METHOD:PUBLISH
X-WR-CALNAME:Young Naperville Singers
X-ORIGINAL-URL:https://ynschoirs.org
X-WR-CALDESC:Events for Young Naperville Singers
REFRESH-INTERVAL;VALUE=DURATION:PT1H
X-Robots-Tag:noindex
X-PUBLISHED-TTL:PT1H
BEGIN:VTIMEZONE
TZID:America/Chicago
BEGIN:DAYLIGHT
TZOFFSETFROM:-0600
TZOFFSETTO:-0500
TZNAME:CDT
DTSTART:20230312T080000
END:DAYLIGHT
BEGIN:STANDARD
TZOFFSETFROM:-0500
TZOFFSETTO:-0600
TZNAME:CST
DTSTART:20231105T070000
END:STANDARD
END:VTIMEZONE
BEGIN:VEVENT
DTSTART;TZID=America/Chicago:20231101T164500
DTEND;TZID=America/Chicago:20231101T174500
DTSTAMP:20260423T060111
CREATED:20230918T154230Z
LAST-MODIFIED:20231018T175700Z
UID:10002135-1698857100-1698860700@ynschoirs.org
SUMMARY:Primo Wed Rehearsal
DESCRIPTION:
URL:https://ynschoirs.org/calendar/primo-wed-rehearsal-2/2023-11-01/
LOCATION:Community Concert Center\, 55 Concert Lane\, Naperville\, IL\, 60540
CATEGORIES:Parents,Primo
END:VEVENT
BEGIN:VEVENT
DTSTART;TZID=America/Chicago:20231102T164500
DTEND;TZID=America/Chicago:20231102T174500
DTSTAMP:20260423T060111
CREATED:20230918T154151Z
LAST-MODIFIED:20231018T174814Z
UID:10002151-1698943500-1698947100@ynschoirs.org
SUMMARY:Primo Thursday Rehearsal
DESCRIPTION:
URL:https://ynschoirs.org/calendar/primo-thursday-rehearsal-2/2023-11-02/
LOCATION:Community Concert Center\, 55 Concert Lane\, Naperville\, IL\, 60540
CATEGORIES:Parents,Primo
END:VEVENT
BEGIN:VEVENT
DTSTART;VALUE=DATE:20231103
DTEND;VALUE=DATE:20231104
DTSTAMP:20260423T060111
CREATED:20230918T155751Z
LAST-MODIFIED:20230918T155751Z
UID:10002213-1698969600-1699055999@ynschoirs.org
SUMMARY:YNS Butter Braid Fundraiser Ends
DESCRIPTION:All orders and payments are due online/to the YNS office.
URL:https://ynschoirs.org/calendar/yns-butter-braid-fundraiser-ends/
CATEGORIES:Aria,Bella Cantare,Bella Voce,Brillante,Brio,Cantabile,Canto Vivo,Dolce,Parents,Primo,Ragazzi
END:VEVENT
BEGIN:VEVENT
DTSTART;TZID=America/Chicago:20231105T153000
DTEND;TZID=America/Chicago:20231105T163000
DTSTAMP:20260423T060111
CREATED:20231023T151420Z
LAST-MODIFIED:20231023T151420Z
UID:10002252-1699198200-1699201800@ynschoirs.org
SUMMARY:Photo for the 40th!
DESCRIPTION:Be a part of a HISTORIC 40th Anniversary photo!  Have your singer wear their 40th Anniversary choir t-shirt they received in September and meet us in the gym at Naperville Central High School.  Enter through Door 9 (the athletic door).   We can’t wait to have you be a part of this photo!  There will of course be some singing too!
URL:https://ynschoirs.org/calendar/photo-for-the-40th/
LOCATION:Naperville Central High School\, 440 Aurora Ave (Door 9)\, Naperville\, IL\, 60540
CATEGORIES:Aria,Bella Cantare,Bella Voce,Brillante,Brio,Cantabile,Canto Vivo,Dolce,Parents,Primo,Ragazzi,Voci
END:VEVENT
BEGIN:VEVENT
DTSTART;TZID=America/Chicago:20231108T164500
DTEND;TZID=America/Chicago:20231108T174500
DTSTAMP:20260423T060111
CREATED:20230918T154230Z
LAST-MODIFIED:20231018T175700Z
UID:10002136-1699461900-1699465500@ynschoirs.org
SUMMARY:Primo Wed Rehearsal
DESCRIPTION:
URL:https://ynschoirs.org/calendar/primo-wed-rehearsal-2/2023-11-08/
LOCATION:Community Concert Center\, 55 Concert Lane\, Naperville\, IL\, 60540
CATEGORIES:Parents,Primo
END:VEVENT
BEGIN:VEVENT
DTSTART;TZID=America/Chicago:20231109T164500
DTEND;TZID=America/Chicago:20231109T174500
DTSTAMP:20260423T060111
CREATED:20230918T154151Z
LAST-MODIFIED:20231018T174814Z
UID:10002152-1699548300-1699551900@ynschoirs.org
SUMMARY:Primo Thursday Rehearsal
DESCRIPTION:
URL:https://ynschoirs.org/calendar/primo-thursday-rehearsal-2/2023-11-09/
LOCATION:Community Concert Center\, 55 Concert Lane\, Naperville\, IL\, 60540
CATEGORIES:Parents,Primo
END:VEVENT
BEGIN:VEVENT
DTSTART;TZID=America/Chicago:20231111T090000
DTEND;TZID=America/Chicago:20231111T110000
DTSTAMP:20260423T060111
CREATED:20230918T155925Z
LAST-MODIFIED:20230918T155925Z
UID:10002214-1699693200-1699700400@ynschoirs.org
SUMMARY:Butter Braid Pick-Up
DESCRIPTION:All families who participated in the Butter Braid Fundraiser must pick up their orders at the Community Concert Center.
URL:https://ynschoirs.org/calendar/butter-braid-pick-up-3/
LOCATION:Community Concert Center\, 55 Concert Lane\, Naperville\, IL\, 60540
CATEGORIES:Aria,Bella Cantare,Bella Voce,Brillante,Brio,Cantabile,Canto Vivo,Dolce,Parents,Primo,Ragazzi
END:VEVENT
BEGIN:VEVENT
DTSTART;TZID=America/Chicago:20231115T164500
DTEND;TZID=America/Chicago:20231115T174500
DTSTAMP:20260423T060111
CREATED:20230918T154230Z
LAST-MODIFIED:20231018T175700Z
UID:10002137-1700066700-1700070300@ynschoirs.org
SUMMARY:Primo Wed Rehearsal
DESCRIPTION:
URL:https://ynschoirs.org/calendar/primo-wed-rehearsal-2/2023-11-15/
LOCATION:Community Concert Center\, 55 Concert Lane\, Naperville\, IL\, 60540
CATEGORIES:Parents,Primo
END:VEVENT
BEGIN:VEVENT
DTSTART;TZID=America/Chicago:20231116T164500
DTEND;TZID=America/Chicago:20231116T174500
DTSTAMP:20260423T060111
CREATED:20230918T154151Z
LAST-MODIFIED:20231018T174814Z
UID:10002153-1700153100-1700156700@ynschoirs.org
SUMMARY:Primo Thursday Rehearsal
DESCRIPTION:
URL:https://ynschoirs.org/calendar/primo-thursday-rehearsal-2/2023-11-16/
LOCATION:Community Concert Center\, 55 Concert Lane\, Naperville\, IL\, 60540
CATEGORIES:Parents,Primo
END:VEVENT
BEGIN:VEVENT
DTSTART;VALUE=DATE:20231121
DTEND;VALUE=DATE:20231124
DTSTAMP:20260423T060111
CREATED:20230918T155416Z
LAST-MODIFIED:20230918T155416Z
UID:10002210-1700524800-1700783999@ynschoirs.org
SUMMARY:No Rehersals
DESCRIPTION:Thanksgiving Break – Voci\, Brio\, Ragazzi\, Cantabile\, Bella Voce\, Primo\, Aria & Brillante
URL:https://ynschoirs.org/calendar/no-rehersals/
CATEGORIES:Aria,Bella Voce,Brillante,Brio,Cantabile,Canto Vivo,Parents,Primo,Ragazzi
END:VEVENT
BEGIN:VEVENT
DTSTART;TZID=America/Chicago:20231129T164500
DTEND;TZID=America/Chicago:20231129T174500
DTSTAMP:20260423T060111
CREATED:20230918T154230Z
LAST-MODIFIED:20231018T175700Z
UID:10002139-1701276300-1701279900@ynschoirs.org
SUMMARY:Primo Wed Rehearsal
DESCRIPTION:
URL:https://ynschoirs.org/calendar/primo-wed-rehearsal-2/2023-11-29/
LOCATION:Community Concert Center\, 55 Concert Lane\, Naperville\, IL\, 60540
CATEGORIES:Parents,Primo
END:VEVENT
BEGIN:VEVENT
DTSTART;TZID=America/Chicago:20231130T164500
DTEND;TZID=America/Chicago:20231130T174500
DTSTAMP:20260423T060111
CREATED:20230918T154151Z
LAST-MODIFIED:20231018T174814Z
UID:10002154-1701362700-1701366300@ynschoirs.org
SUMMARY:Primo Thursday Rehearsal
DESCRIPTION:
URL:https://ynschoirs.org/calendar/primo-thursday-rehearsal-2/2023-11-30/
LOCATION:Community Concert Center\, 55 Concert Lane\, Naperville\, IL\, 60540
CATEGORIES:Parents,Primo
END:VEVENT
END:VCALENDAR