BEGIN:VCALENDAR
VERSION:2.0
PRODID:-//Young Naperville Singers - ECPv6.8.0//NONSGML v1.0//EN
CALSCALE:GREGORIAN
METHOD:PUBLISH
X-ORIGINAL-URL:https://ynschoirs.org
X-WR-CALDESC:Events for Young Naperville Singers
REFRESH-INTERVAL;VALUE=DURATION:PT1H
X-Robots-Tag:noindex
X-PUBLISHED-TTL:PT1H
BEGIN:VTIMEZONE
TZID:America/Chicago
BEGIN:DAYLIGHT
TZOFFSETFROM:-0600
TZOFFSETTO:-0500
TZNAME:CDT
DTSTART:20240310T080000
END:DAYLIGHT
BEGIN:STANDARD
TZOFFSETFROM:-0500
TZOFFSETTO:-0600
TZNAME:CST
DTSTART:20241103T070000
END:STANDARD
END:VTIMEZONE
BEGIN:VEVENT
DTSTART;TZID=America/Chicago:20240201T164500
DTEND;TZID=America/Chicago:20240201T174500
DTSTAMP:20260423T020614
CREATED:20240105T181151Z
LAST-MODIFIED:20240105T181226Z
UID:10002412-1706805900-1706809500@ynschoirs.org
SUMMARY:Primo Thursday Rehearsal
DESCRIPTION:
URL:https://ynschoirs.org/calendar/primo-thursday-rehearsal-3/2024-02-01/
LOCATION:Community Concert Center\, 55 Concert Lane\, Naperville\, IL\, 60540
CATEGORIES:Parents,Primo
END:VEVENT
BEGIN:VEVENT
DTSTART;TZID=America/Chicago:20240207T164500
DTEND;TZID=America/Chicago:20240207T174500
DTSTAMP:20260423T020614
CREATED:20240105T180957Z
LAST-MODIFIED:20240105T181554Z
UID:10002442-1707324300-1707327900@ynschoirs.org
SUMMARY:Primo Wednesday Rehearsal
DESCRIPTION:
URL:https://ynschoirs.org/calendar/primo-rehearsal-5/2024-02-07/
LOCATION:Community Concert Center\, 55 Concert Lane\, Naperville\, IL\, 60540
CATEGORIES:Parents,Primo
END:VEVENT
BEGIN:VEVENT
DTSTART;TZID=America/Chicago:20240208T164500
DTEND;TZID=America/Chicago:20240208T174500
DTSTAMP:20260423T020614
CREATED:20240105T181151Z
LAST-MODIFIED:20240105T181226Z
UID:10002413-1707410700-1707414300@ynschoirs.org
SUMMARY:Primo Thursday Rehearsal
DESCRIPTION:
URL:https://ynschoirs.org/calendar/primo-thursday-rehearsal-3/2024-02-08/
LOCATION:Community Concert Center\, 55 Concert Lane\, Naperville\, IL\, 60540
CATEGORIES:Parents,Primo
END:VEVENT
BEGIN:VEVENT
DTSTART;TZID=America/Chicago:20240214T164500
DTEND;TZID=America/Chicago:20240214T174500
DTSTAMP:20260423T020614
CREATED:20240105T180957Z
LAST-MODIFIED:20240105T181554Z
UID:10002443-1707929100-1707932700@ynschoirs.org
SUMMARY:Primo Wednesday Rehearsal
DESCRIPTION:
URL:https://ynschoirs.org/calendar/primo-rehearsal-5/2024-02-14/
LOCATION:Community Concert Center\, 55 Concert Lane\, Naperville\, IL\, 60540
CATEGORIES:Parents,Primo
END:VEVENT
BEGIN:VEVENT
DTSTART;TZID=America/Chicago:20240215T164500
DTEND;TZID=America/Chicago:20240215T174500
DTSTAMP:20260423T020614
CREATED:20240105T181151Z
LAST-MODIFIED:20240105T181226Z
UID:10002414-1708015500-1708019100@ynschoirs.org
SUMMARY:Primo Thursday Rehearsal
DESCRIPTION:
URL:https://ynschoirs.org/calendar/primo-thursday-rehearsal-3/2024-02-15/
LOCATION:Community Concert Center\, 55 Concert Lane\, Naperville\, IL\, 60540
CATEGORIES:Parents,Primo
END:VEVENT
BEGIN:VEVENT
DTSTART;TZID=America/Chicago:20240221T164500
DTEND;TZID=America/Chicago:20240221T174500
DTSTAMP:20260423T020614
CREATED:20240105T180957Z
LAST-MODIFIED:20240105T181554Z
UID:10002444-1708533900-1708537500@ynschoirs.org
SUMMARY:Primo Wednesday Rehearsal
DESCRIPTION:
URL:https://ynschoirs.org/calendar/primo-rehearsal-5/2024-02-21/
LOCATION:Community Concert Center\, 55 Concert Lane\, Naperville\, IL\, 60540
CATEGORIES:Parents,Primo
END:VEVENT
BEGIN:VEVENT
DTSTART;TZID=America/Chicago:20240222T164500
DTEND;TZID=America/Chicago:20240222T174500
DTSTAMP:20260423T020614
CREATED:20240105T181151Z
LAST-MODIFIED:20240105T181226Z
UID:10002415-1708620300-1708623900@ynschoirs.org
SUMMARY:Primo Thursday Rehearsal
DESCRIPTION:
URL:https://ynschoirs.org/calendar/primo-thursday-rehearsal-3/2024-02-22/
LOCATION:Community Concert Center\, 55 Concert Lane\, Naperville\, IL\, 60540
CATEGORIES:Parents,Primo
END:VEVENT
BEGIN:VEVENT
DTSTART;TZID=America/Chicago:20240228T164500
DTEND;TZID=America/Chicago:20240228T174500
DTSTAMP:20260423T020614
CREATED:20240105T180957Z
LAST-MODIFIED:20240105T181554Z
UID:10002445-1709138700-1709142300@ynschoirs.org
SUMMARY:Primo Wednesday Rehearsal
DESCRIPTION:
URL:https://ynschoirs.org/calendar/primo-rehearsal-5/2024-02-28/
LOCATION:Community Concert Center\, 55 Concert Lane\, Naperville\, IL\, 60540
CATEGORIES:Parents,Primo
END:VEVENT
BEGIN:VEVENT
DTSTART;TZID=America/Chicago:20240229T164500
DTEND;TZID=America/Chicago:20240229T174500
DTSTAMP:20260423T020614
CREATED:20240105T181151Z
LAST-MODIFIED:20240105T181226Z
UID:10002416-1709225100-1709228700@ynschoirs.org
SUMMARY:Primo Thursday Rehearsal
DESCRIPTION:
URL:https://ynschoirs.org/calendar/primo-thursday-rehearsal-3/2024-02-29/
LOCATION:Community Concert Center\, 55 Concert Lane\, Naperville\, IL\, 60540
CATEGORIES:Parents,Primo
END:VEVENT
END:VCALENDAR