BEGIN:VCALENDAR
VERSION:2.0
PRODID:-//Young Naperville Singers - ECPv6.8.0//NONSGML v1.0//EN
CALSCALE:GREGORIAN
METHOD:PUBLISH
X-ORIGINAL-URL:https://ynschoirs.org
X-WR-CALDESC:Events for Young Naperville Singers
REFRESH-INTERVAL;VALUE=DURATION:PT1H
X-Robots-Tag:noindex
X-PUBLISHED-TTL:PT1H
BEGIN:VTIMEZONE
TZID:America/Chicago
BEGIN:DAYLIGHT
TZOFFSETFROM:-0600
TZOFFSETTO:-0500
TZNAME:CDT
DTSTART:20240310T080000
END:DAYLIGHT
BEGIN:STANDARD
TZOFFSETFROM:-0500
TZOFFSETTO:-0600
TZNAME:CST
DTSTART:20241103T070000
END:STANDARD
END:VTIMEZONE
BEGIN:VEVENT
DTSTART;TZID=America/Chicago:20240306T164500
DTEND;TZID=America/Chicago:20240306T174500
DTSTAMP:20260423T003849
CREATED:20240105T180957Z
LAST-MODIFIED:20240105T181554Z
UID:10002446-1709743500-1709747100@ynschoirs.org
SUMMARY:Primo Wednesday Rehearsal
DESCRIPTION:
URL:https://ynschoirs.org/calendar/primo-rehearsal-5/2024-03-06/
LOCATION:Community Concert Center\, 55 Concert Lane\, Naperville\, IL\, 60540
CATEGORIES:Parents,Primo
END:VEVENT
BEGIN:VEVENT
DTSTART;TZID=America/Chicago:20240307T164500
DTEND;TZID=America/Chicago:20240307T174500
DTSTAMP:20260423T003849
CREATED:20240105T181151Z
LAST-MODIFIED:20240105T181226Z
UID:10002417-1709829900-1709833500@ynschoirs.org
SUMMARY:Primo Thursday Rehearsal
DESCRIPTION:
URL:https://ynschoirs.org/calendar/primo-thursday-rehearsal-3/2024-03-07/
LOCATION:Community Concert Center\, 55 Concert Lane\, Naperville\, IL\, 60540
CATEGORIES:Parents,Primo
END:VEVENT
BEGIN:VEVENT
DTSTART;TZID=America/Chicago:20240313T164500
DTEND;TZID=America/Chicago:20240313T174500
DTSTAMP:20260423T003849
CREATED:20240105T180957Z
LAST-MODIFIED:20240105T181554Z
UID:10002447-1710348300-1710351900@ynschoirs.org
SUMMARY:Primo Wednesday Rehearsal
DESCRIPTION:
URL:https://ynschoirs.org/calendar/primo-rehearsal-5/2024-03-13/
LOCATION:Community Concert Center\, 55 Concert Lane\, Naperville\, IL\, 60540
CATEGORIES:Parents,Primo
END:VEVENT
BEGIN:VEVENT
DTSTART;TZID=America/Chicago:20240314T164500
DTEND;TZID=America/Chicago:20240314T174500
DTSTAMP:20260423T003849
CREATED:20240105T181151Z
LAST-MODIFIED:20240105T181226Z
UID:10002418-1710434700-1710438300@ynschoirs.org
SUMMARY:Primo Thursday Rehearsal
DESCRIPTION:
URL:https://ynschoirs.org/calendar/primo-thursday-rehearsal-3/2024-03-14/
LOCATION:Community Concert Center\, 55 Concert Lane\, Naperville\, IL\, 60540
CATEGORIES:Parents,Primo
END:VEVENT
BEGIN:VEVENT
DTSTART;TZID=America/Chicago:20240320T164500
DTEND;TZID=America/Chicago:20240320T174500
DTSTAMP:20260423T003849
CREATED:20240105T180957Z
LAST-MODIFIED:20240105T181554Z
UID:10002448-1710953100-1710956700@ynschoirs.org
SUMMARY:Primo Wednesday Rehearsal
DESCRIPTION:
URL:https://ynschoirs.org/calendar/primo-rehearsal-5/2024-03-20/
LOCATION:Community Concert Center\, 55 Concert Lane\, Naperville\, IL\, 60540
CATEGORIES:Parents,Primo
END:VEVENT
BEGIN:VEVENT
DTSTART;TZID=America/Chicago:20240321T164500
DTEND;TZID=America/Chicago:20240321T174500
DTSTAMP:20260423T003849
CREATED:20240105T181151Z
LAST-MODIFIED:20240105T181226Z
UID:10002419-1711039500-1711043100@ynschoirs.org
SUMMARY:Primo Thursday Rehearsal
DESCRIPTION:
URL:https://ynschoirs.org/calendar/primo-thursday-rehearsal-3/2024-03-21/
LOCATION:Community Concert Center\, 55 Concert Lane\, Naperville\, IL\, 60540
CATEGORIES:Parents,Primo
END:VEVENT
BEGIN:VEVENT
DTSTART;VALUE=DATE:20240325
DTEND;VALUE=DATE:20240330
DTSTAMP:20260423T003849
CREATED:20240105T172904Z
LAST-MODIFIED:20240105T172904Z
UID:10002260-1711324800-1711756799@ynschoirs.org
SUMMARY:Spring Break - No Rehearsals
DESCRIPTION:Spring Break for all Choirs – No Rehearsals
URL:https://ynschoirs.org/calendar/spring-break-no-rehearsals-2/
CATEGORIES:Aria,Bella Cantare,Bella Voce,Brillante,Brio,Cantabile,Canto Vivo,Dolce,Parents,Primo,Ragazzi,Voci
END:VEVENT
END:VCALENDAR