BEGIN:VCALENDAR
VERSION:2.0
PRODID:-//Young Naperville Singers - ECPv6.8.0//NONSGML v1.0//EN
CALSCALE:GREGORIAN
METHOD:PUBLISH
X-WR-CALNAME:Young Naperville Singers
X-ORIGINAL-URL:https://ynschoirs.org
X-WR-CALDESC:Events for Young Naperville Singers
REFRESH-INTERVAL;VALUE=DURATION:PT1H
X-Robots-Tag:noindex
X-PUBLISHED-TTL:PT1H
BEGIN:VTIMEZONE
TZID:America/Chicago
BEGIN:DAYLIGHT
TZOFFSETFROM:-0600
TZOFFSETTO:-0500
TZNAME:CDT
DTSTART:20250309T080000
END:DAYLIGHT
BEGIN:STANDARD
TZOFFSETFROM:-0500
TZOFFSETTO:-0600
TZNAME:CST
DTSTART:20251102T070000
END:STANDARD
END:VTIMEZONE
BEGIN:VEVENT
DTSTART;TZID=America/Chicago:20250305T164500
DTEND;TZID=America/Chicago:20250305T174500
DTSTAMP:20260421T195908
CREATED:20250127T211559Z
LAST-MODIFIED:20250319T155614Z
UID:10003028-1741193100-1741196700@ynschoirs.org
SUMMARY:Primo Wednesday Rehearsal
DESCRIPTION:
URL:https://ynschoirs.org/calendar/primo-wednesday-rehearsal-2/2025-03-05/
LOCATION:Community Concert Center\, 55 Concert Lane\, Naperville\, IL\, 60540
CATEGORIES:Parents,Primo
END:VEVENT
BEGIN:VEVENT
DTSTART;TZID=America/Chicago:20250306T164500
DTEND;TZID=America/Chicago:20250306T174500
DTSTAMP:20260421T195908
CREATED:20250127T211720Z
LAST-MODIFIED:20250319T153758Z
UID:10003044-1741279500-1741283100@ynschoirs.org
SUMMARY:Primo Thursday Rehearsal
DESCRIPTION:
URL:https://ynschoirs.org/calendar/primo-wednesday-rehearsal-2-2/2025-03-06/
LOCATION:Community Concert Center\, 55 Concert Lane\, Naperville\, IL\, 60540
CATEGORIES:Parents,Primo
END:VEVENT
BEGIN:VEVENT
DTSTART;TZID=America/Chicago:20250312T164500
DTEND;TZID=America/Chicago:20250312T174500
DTSTAMP:20260421T195908
CREATED:20250127T211559Z
LAST-MODIFIED:20250319T155614Z
UID:10003029-1741797900-1741801500@ynschoirs.org
SUMMARY:Primo Wednesday Rehearsal
DESCRIPTION:
URL:https://ynschoirs.org/calendar/primo-wednesday-rehearsal-2/2025-03-12/
LOCATION:Community Concert Center\, 55 Concert Lane\, Naperville\, IL\, 60540
CATEGORIES:Parents,Primo
END:VEVENT
BEGIN:VEVENT
DTSTART;TZID=America/Chicago:20250313T164500
DTEND;TZID=America/Chicago:20250313T174500
DTSTAMP:20260421T195909
CREATED:20250127T211720Z
LAST-MODIFIED:20250319T153758Z
UID:10003045-1741884300-1741887900@ynschoirs.org
SUMMARY:Primo Thursday Rehearsal
DESCRIPTION:
URL:https://ynschoirs.org/calendar/primo-wednesday-rehearsal-2-2/2025-03-13/
LOCATION:Community Concert Center\, 55 Concert Lane\, Naperville\, IL\, 60540
CATEGORIES:Parents,Primo
END:VEVENT
BEGIN:VEVENT
DTSTART;TZID=America/Chicago:20250319T164500
DTEND;TZID=America/Chicago:20250319T174500
DTSTAMP:20260421T195909
CREATED:20250127T211559Z
LAST-MODIFIED:20250319T155614Z
UID:10003030-1742402700-1742406300@ynschoirs.org
SUMMARY:Primo Wednesday Rehearsal
DESCRIPTION:
URL:https://ynschoirs.org/calendar/primo-wednesday-rehearsal-2/2025-03-19/
LOCATION:Community Concert Center\, 55 Concert Lane\, Naperville\, IL\, 60540
CATEGORIES:Parents,Primo
END:VEVENT
BEGIN:VEVENT
DTSTART;TZID=America/Chicago:20250320T164500
DTEND;TZID=America/Chicago:20250320T174500
DTSTAMP:20260421T195909
CREATED:20250127T211720Z
LAST-MODIFIED:20250319T153758Z
UID:10003046-1742489100-1742492700@ynschoirs.org
SUMMARY:Primo Thursday Rehearsal
DESCRIPTION:
URL:https://ynschoirs.org/calendar/primo-wednesday-rehearsal-2-2/2025-03-20/
LOCATION:Community Concert Center\, 55 Concert Lane\, Naperville\, IL\, 60540
CATEGORIES:Parents,Primo
END:VEVENT
BEGIN:VEVENT
DTSTART;TZID=America/Chicago:20250326T164500
DTEND;TZID=America/Chicago:20250326T174500
DTSTAMP:20260421T195909
CREATED:20250127T211559Z
LAST-MODIFIED:20250319T155614Z
UID:10003031-1743007500-1743011100@ynschoirs.org
SUMMARY:Primo Wednesday Rehearsal
DESCRIPTION:
URL:https://ynschoirs.org/calendar/primo-wednesday-rehearsal-2/2025-03-26/
LOCATION:Community Concert Center\, 55 Concert Lane\, Naperville\, IL\, 60540
CATEGORIES:Parents,Primo
END:VEVENT
BEGIN:VEVENT
DTSTART;TZID=America/Chicago:20250327T164500
DTEND;TZID=America/Chicago:20250327T174500
DTSTAMP:20260421T195909
CREATED:20250127T211720Z
LAST-MODIFIED:20250319T153758Z
UID:10003047-1743093900-1743097500@ynschoirs.org
SUMMARY:Primo Thursday Rehearsal
DESCRIPTION:
URL:https://ynschoirs.org/calendar/primo-wednesday-rehearsal-2-2/2025-03-27/
LOCATION:Community Concert Center\, 55 Concert Lane\, Naperville\, IL\, 60540
CATEGORIES:Parents,Primo
END:VEVENT
BEGIN:VEVENT
DTSTART;VALUE=DATE:20250331
DTEND;VALUE=DATE:20250405
DTSTAMP:20260421T195909
CREATED:20250127T195421Z
LAST-MODIFIED:20250127T195421Z
UID:10002595-1743379200-1743811199@ynschoirs.org
SUMMARY:No Rehearsals - Spring Break
DESCRIPTION:
URL:https://ynschoirs.org/calendar/no-rehearsals-spring-break/
CATEGORIES:Aria,Bella Cantare,Bella Voce,Brillante,Brio,Cantabile,Canto Vivo,Dolce,Parents,Primo,Ragazzi,Voci
END:VEVENT
END:VCALENDAR