BEGIN:VCALENDAR
VERSION:2.0
PRODID:-//Young Naperville Singers - ECPv6.8.0//NONSGML v1.0//EN
CALSCALE:GREGORIAN
METHOD:PUBLISH
X-WR-CALNAME:Young Naperville Singers
X-ORIGINAL-URL:https://ynschoirs.org
X-WR-CALDESC:Events for Young Naperville Singers
REFRESH-INTERVAL;VALUE=DURATION:PT1H
X-Robots-Tag:noindex
X-PUBLISHED-TTL:PT1H
BEGIN:VTIMEZONE
TZID:America/Chicago
BEGIN:DAYLIGHT
TZOFFSETFROM:-0600
TZOFFSETTO:-0500
TZNAME:CDT
DTSTART:20250309T080000
END:DAYLIGHT
BEGIN:STANDARD
TZOFFSETFROM:-0500
TZOFFSETTO:-0600
TZNAME:CST
DTSTART:20251102T070000
END:STANDARD
END:VTIMEZONE
BEGIN:VEVENT
DTSTART;VALUE=DATE:20250331
DTEND;VALUE=DATE:20250405
DTSTAMP:20260421T183600
CREATED:20250127T195421Z
LAST-MODIFIED:20250127T195421Z
UID:10002595-1743379200-1743811199@ynschoirs.org
SUMMARY:No Rehearsals - Spring Break
DESCRIPTION:
URL:https://ynschoirs.org/calendar/no-rehearsals-spring-break/
CATEGORIES:Aria,Bella Cantare,Bella Voce,Brillante,Brio,Cantabile,Canto Vivo,Dolce,Parents,Primo,Ragazzi,Voci
END:VEVENT
BEGIN:VEVENT
DTSTART;TZID=America/Chicago:20250409T164500
DTEND;TZID=America/Chicago:20250409T174500
DTSTAMP:20260421T183600
CREATED:20250127T211559Z
LAST-MODIFIED:20250319T155614Z
UID:10003032-1744217100-1744220700@ynschoirs.org
SUMMARY:Primo Wednesday Rehearsal
DESCRIPTION:
URL:https://ynschoirs.org/calendar/primo-wednesday-rehearsal-2/2025-04-09/
LOCATION:Community Concert Center\, 55 Concert Lane\, Naperville\, IL\, 60540
CATEGORIES:Parents,Primo
END:VEVENT
BEGIN:VEVENT
DTSTART;TZID=America/Chicago:20250410T164500
DTEND;TZID=America/Chicago:20250410T174500
DTSTAMP:20260421T183600
CREATED:20250127T211720Z
LAST-MODIFIED:20250319T153758Z
UID:10003048-1744303500-1744307100@ynschoirs.org
SUMMARY:Primo Thursday Rehearsal
DESCRIPTION:
URL:https://ynschoirs.org/calendar/primo-wednesday-rehearsal-2-2/2025-04-10/
LOCATION:Community Concert Center\, 55 Concert Lane\, Naperville\, IL\, 60540
CATEGORIES:Parents,Primo
END:VEVENT
BEGIN:VEVENT
DTSTART;TZID=America/Chicago:20250416T164500
DTEND;TZID=America/Chicago:20250416T174500
DTSTAMP:20260421T183600
CREATED:20250319T155316Z
LAST-MODIFIED:20250319T155316Z
UID:10003086-1744821900-1744825500@ynschoirs.org
SUMMARY:Primo COMBINED Rehearsal
DESCRIPTION:Both Primo choirs will have their rehearsal on Wednesday 4/16 from 4:45-5:45pm at the CCC.
URL:https://ynschoirs.org/calendar/primo-combined-rehearsal/
CATEGORIES:Parents,Primo
END:VEVENT
BEGIN:VEVENT
DTSTART;VALUE=DATE:20250417
DTEND;VALUE=DATE:20250418
DTSTAMP:20260421T183600
CREATED:20250319T154204Z
LAST-MODIFIED:20250319T155450Z
UID:10003085-1744848000-1744934399@ynschoirs.org
SUMMARY:No Primo Thurs Rehearsal
DESCRIPTION:There is no Primo Thursday rehearsal…Primo Wednesday is a combined rehearsal at the normal time.
URL:https://ynschoirs.org/calendar/no-primo-thurs-rehearsal-2/
CATEGORIES:Parents,Primo
END:VEVENT
BEGIN:VEVENT
DTSTART;TZID=America/Chicago:20250423T164500
DTEND;TZID=America/Chicago:20250423T174500
DTSTAMP:20260421T183600
CREATED:20250127T211559Z
LAST-MODIFIED:20250319T155614Z
UID:10003034-1745426700-1745430300@ynschoirs.org
SUMMARY:Primo Wednesday Rehearsal
DESCRIPTION:
URL:https://ynschoirs.org/calendar/primo-wednesday-rehearsal-2/2025-04-23/
LOCATION:Community Concert Center\, 55 Concert Lane\, Naperville\, IL\, 60540
CATEGORIES:Parents,Primo
END:VEVENT
BEGIN:VEVENT
DTSTART;TZID=America/Chicago:20250424T164500
DTEND;TZID=America/Chicago:20250424T174500
DTSTAMP:20260421T183600
CREATED:20250127T211720Z
LAST-MODIFIED:20250319T153758Z
UID:10003050-1745513100-1745516700@ynschoirs.org
SUMMARY:Primo Thursday Rehearsal
DESCRIPTION:
URL:https://ynschoirs.org/calendar/primo-wednesday-rehearsal-2-2/2025-04-24/
LOCATION:Community Concert Center\, 55 Concert Lane\, Naperville\, IL\, 60540
CATEGORIES:Parents,Primo
END:VEVENT
BEGIN:VEVENT
DTSTART;VALUE=DATE:20250430
DTEND;VALUE=DATE:20250501
DTSTAMP:20260421T183600
CREATED:20250210T190425Z
LAST-MODIFIED:20250210T190425Z
UID:10003072-1745971200-1746057599@ynschoirs.org
SUMMARY:No Primo Wed Rehearsal
DESCRIPTION:No Primo rehearsal today…the showcase performance is Thurs. 5/1
URL:https://ynschoirs.org/calendar/no-primo-wed-rehearsal/
CATEGORIES:Parents,Primo
END:VEVENT
END:VCALENDAR