BEGIN:VCALENDAR
VERSION:2.0
PRODID:-//Young Naperville Singers - ECPv6.8.0//NONSGML v1.0//EN
CALSCALE:GREGORIAN
METHOD:PUBLISH
X-WR-CALNAME:Young Naperville Singers
X-ORIGINAL-URL:https://ynschoirs.org
X-WR-CALDESC:Events for Young Naperville Singers
REFRESH-INTERVAL;VALUE=DURATION:PT1H
X-Robots-Tag:noindex
X-PUBLISHED-TTL:PT1H
BEGIN:VTIMEZONE
TZID:America/Chicago
BEGIN:DAYLIGHT
TZOFFSETFROM:-0600
TZOFFSETTO:-0500
TZNAME:CDT
DTSTART:20240310T080000
END:DAYLIGHT
BEGIN:STANDARD
TZOFFSETFROM:-0500
TZOFFSETTO:-0600
TZNAME:CST
DTSTART:20241103T070000
END:STANDARD
END:VTIMEZONE
BEGIN:VEVENT
DTSTART;TZID=America/Chicago:20240429T080000
DTEND;TZID=America/Chicago:20240502T183000
DTSTAMP:20260422T215639
CREATED:20240213T203442Z
LAST-MODIFIED:20240213T203442Z
UID:10002496-1714377600-1714674600@ynschoirs.org
SUMMARY:Last Rehearsals/Evaluations
DESCRIPTION:Voci\, Primo\, Aria\, Brio\, Dolce & Brillante will have their last rehearsals/evaluations the week of April 29th.
URL:https://ynschoirs.org/calendar/last-rehearsals-evaluations/
CATEGORIES:Aria,Brillante,Brio,Dolce,Parents,Primo,Voci
END:VEVENT
BEGIN:VEVENT
DTSTART;TZID=America/Chicago:20240501T164500
DTEND;TZID=America/Chicago:20240501T174500
DTSTAMP:20260422T215639
CREATED:20240105T180957Z
LAST-MODIFIED:20240105T181554Z
UID:10002453-1714581900-1714585500@ynschoirs.org
SUMMARY:Primo Wednesday Rehearsal
DESCRIPTION:
URL:https://ynschoirs.org/calendar/primo-rehearsal-5/2024-05-01/
LOCATION:Community Concert Center\, 55 Concert Lane\, Naperville\, IL\, 60540
CATEGORIES:Parents,Primo
END:VEVENT
END:VCALENDAR