BEGIN:VCALENDAR
VERSION:2.0
PRODID:-//Young Naperville Singers - ECPv6.8.0//NONSGML v1.0//EN
CALSCALE:GREGORIAN
METHOD:PUBLISH
X-WR-CALNAME:Young Naperville Singers
X-ORIGINAL-URL:https://ynschoirs.org
X-WR-CALDESC:Events for Young Naperville Singers
REFRESH-INTERVAL;VALUE=DURATION:PT1H
X-Robots-Tag:noindex
X-PUBLISHED-TTL:PT1H
BEGIN:VTIMEZONE
TZID:America/Chicago
BEGIN:DAYLIGHT
TZOFFSETFROM:-0600
TZOFFSETTO:-0500
TZNAME:CDT
DTSTART:20250309T080000
END:DAYLIGHT
BEGIN:STANDARD
TZOFFSETFROM:-0500
TZOFFSETTO:-0600
TZNAME:CST
DTSTART:20251102T070000
END:STANDARD
END:VTIMEZONE
BEGIN:VEVENT
DTSTART;VALUE=DATE:20250417
DTEND;VALUE=DATE:20250418
DTSTAMP:20260421T195931
CREATED:20250319T154204Z
LAST-MODIFIED:20250319T155450Z
UID:10003085-1744848000-1744934399@ynschoirs.org
SUMMARY:No Primo Thurs Rehearsal
DESCRIPTION:There is no Primo Thursday rehearsal…Primo Wednesday is a combined rehearsal at the normal time.
URL:https://ynschoirs.org/calendar/no-primo-thurs-rehearsal-2/
CATEGORIES:Parents,Primo
END:VEVENT
END:VCALENDAR