BEGIN:VCALENDAR
VERSION:2.0
PRODID:-//Young Naperville Singers - ECPv6.8.0//NONSGML v1.0//EN
CALSCALE:GREGORIAN
METHOD:PUBLISH
X-ORIGINAL-URL:https://ynschoirs.org
X-WR-CALDESC:Events for Young Naperville Singers
REFRESH-INTERVAL;VALUE=DURATION:PT1H
X-Robots-Tag:noindex
X-PUBLISHED-TTL:PT1H
BEGIN:VTIMEZONE
TZID:America/Chicago
BEGIN:DAYLIGHT
TZOFFSETFROM:-0600
TZOFFSETTO:-0500
TZNAME:CDT
DTSTART:20240310T080000
END:DAYLIGHT
BEGIN:STANDARD
TZOFFSETFROM:-0500
TZOFFSETTO:-0600
TZNAME:CST
DTSTART:20241103T070000
END:STANDARD
END:VTIMEZONE
BEGIN:VEVENT
DTSTART;TZID=America/Chicago:20240402T164500
DTEND;TZID=America/Chicago:20240402T181500
DTSTAMP:20260422T145731
CREATED:20240105T175745Z
LAST-MODIFIED:20240304T200701Z
UID:10002339-1712076300-1712081700@ynschoirs.org
SUMMARY:Ragazzi Rehearsal
DESCRIPTION:
URL:https://ynschoirs.org/calendar/ragazzi-rehearsal-7/2024-04-02/
LOCATION:Community Concert Center\, 55 Concert Lane\, Naperville\, IL\, 60540
CATEGORIES:Ragazzi
END:VEVENT
BEGIN:VEVENT
DTSTART;TZID=America/Chicago:20240409T164500
DTEND;TZID=America/Chicago:20240409T181500
DTSTAMP:20260422T145731
CREATED:20240105T175745Z
LAST-MODIFIED:20240304T200701Z
UID:10002340-1712681100-1712686500@ynschoirs.org
SUMMARY:Ragazzi Rehearsal
DESCRIPTION:
URL:https://ynschoirs.org/calendar/ragazzi-rehearsal-7/2024-04-09/
LOCATION:Community Concert Center\, 55 Concert Lane\, Naperville\, IL\, 60540
CATEGORIES:Ragazzi
END:VEVENT
BEGIN:VEVENT
DTSTART;TZID=America/Chicago:20240416T164500
DTEND;TZID=America/Chicago:20240416T190000
DTSTAMP:20260422T145731
CREATED:20240304T200925Z
LAST-MODIFIED:20240304T200925Z
UID:10002502-1713285900-1713294000@ynschoirs.org
SUMMARY:Ragazzi Rehearsal
DESCRIPTION:Special Rehearsal Time: 4:45-7:00pm (please pack a small snack to eat between Ragazzi and the combined rehearsal)
URL:https://ynschoirs.org/calendar/ragazzi-rehearsal-8/2024-04-16/
LOCATION:Community Concert Center\, 55 Concert Lane\, Naperville\, IL\, 60540
CATEGORIES:Parents,Ragazzi
END:VEVENT
BEGIN:VEVENT
DTSTART;TZID=America/Chicago:20240420T153000
DTEND;TZID=America/Chicago:20240420T173000
DTSTAMP:20260422T145731
CREATED:20240213T200937Z
LAST-MODIFIED:20240213T200937Z
UID:10002490-1713627000-1713634200@ynschoirs.org
SUMMARY:Choirs Connect - Brio & Ragazzi
DESCRIPTION:Choirs Connect – Brio & Ragazzi \nSt. Timothy Church; 3:30-5:30pm \n 
URL:https://ynschoirs.org/calendar/choirs-connect-brio-ragazzi/
LOCATION:St. Timothy Church\, 1313 N. Mill Street\, Naperville\, IL\, 60563
CATEGORIES:Brio,Parents,Ragazzi
END:VEVENT
BEGIN:VEVENT
DTSTART;TZID=America/Chicago:20240423T164500
DTEND;TZID=America/Chicago:20240423T190000
DTSTAMP:20260422T145731
CREATED:20240304T200925Z
LAST-MODIFIED:20240304T200925Z
UID:10002503-1713890700-1713898800@ynschoirs.org
SUMMARY:Ragazzi Rehearsal
DESCRIPTION:Special Rehearsal Time: 4:45-7:00pm (please pack a small snack to eat between Ragazzi and the combined rehearsal)
URL:https://ynschoirs.org/calendar/ragazzi-rehearsal-8/2024-04-23/
LOCATION:Community Concert Center\, 55 Concert Lane\, Naperville\, IL\, 60540
CATEGORIES:Parents,Ragazzi
END:VEVENT
BEGIN:VEVENT
DTSTART;TZID=America/Chicago:20240430T164500
DTEND;TZID=America/Chicago:20240430T190000
DTSTAMP:20260422T145731
CREATED:20240304T200925Z
LAST-MODIFIED:20240304T200925Z
UID:10002504-1714495500-1714503600@ynschoirs.org
SUMMARY:Ragazzi Rehearsal
DESCRIPTION:Special Rehearsal Time: 4:45-7:00pm (please pack a small snack to eat between Ragazzi and the combined rehearsal)
URL:https://ynschoirs.org/calendar/ragazzi-rehearsal-8/2024-04-30/
LOCATION:Community Concert Center\, 55 Concert Lane\, Naperville\, IL\, 60540
CATEGORIES:Parents,Ragazzi
END:VEVENT
END:VCALENDAR