BEGIN:VCALENDAR
VERSION:2.0
PRODID:-//Young Naperville Singers - ECPv6.8.0//NONSGML v1.0//EN
CALSCALE:GREGORIAN
METHOD:PUBLISH
X-WR-CALNAME:Young Naperville Singers
X-ORIGINAL-URL:https://ynschoirs.org
X-WR-CALDESC:Events for Young Naperville Singers
REFRESH-INTERVAL;VALUE=DURATION:PT1H
X-Robots-Tag:noindex
X-PUBLISHED-TTL:PT1H
BEGIN:VTIMEZONE
TZID:America/Chicago
BEGIN:DAYLIGHT
TZOFFSETFROM:-0600
TZOFFSETTO:-0500
TZNAME:CDT
DTSTART:20250309T080000
END:DAYLIGHT
BEGIN:STANDARD
TZOFFSETFROM:-0500
TZOFFSETTO:-0600
TZNAME:CST
DTSTART:20251102T070000
END:STANDARD
END:VTIMEZONE
BEGIN:VEVENT
DTSTART;VALUE=DATE:20250331
DTEND;VALUE=DATE:20250405
DTSTAMP:20260421T185950
CREATED:20250127T195421Z
LAST-MODIFIED:20250127T195421Z
UID:10002595-1743379200-1743811199@ynschoirs.org
SUMMARY:No Rehearsals - Spring Break
DESCRIPTION:
URL:https://ynschoirs.org/calendar/no-rehearsals-spring-break/
LOCATION:IL
CATEGORIES:Aria,Bella Cantare,Bella Voce,Brillante,Brio,Cantabile,Canto Vivo,Dolce,Parents,Primo,Ragazzi,Voci
END:VEVENT
BEGIN:VEVENT
DTSTART;TZID=America/Chicago:20250408T164500
DTEND;TZID=America/Chicago:20250408T173000
DTSTAMP:20260421T185950
CREATED:20250127T211022Z
LAST-MODIFIED:20250319T003353Z
UID:10003016-1744130700-1744133400@ynschoirs.org
SUMMARY:Voci Rehearsal
DESCRIPTION:
URL:https://ynschoirs.org/calendar/voci-rehearsal-3/2025-04-08/
LOCATION:St. John’s Episcopal Church\, 750 Aurora Ave\, Naperville\, IL\, 60540
CATEGORIES:Parents,Voci
END:VEVENT
BEGIN:VEVENT
DTSTART;TZID=America/Chicago:20250415T164500
DTEND;TZID=America/Chicago:20250415T173000
DTSTAMP:20260421T185950
CREATED:20250127T211022Z
LAST-MODIFIED:20250319T003353Z
UID:10003017-1744735500-1744738200@ynschoirs.org
SUMMARY:Voci Rehearsal
DESCRIPTION:
URL:https://ynschoirs.org/calendar/voci-rehearsal-3/2025-04-15/
LOCATION:St. John’s Episcopal Church\, 750 Aurora Ave\, Naperville\, IL\, 60540
CATEGORIES:Parents,Voci
END:VEVENT
BEGIN:VEVENT
DTSTART;TZID=America/Chicago:20250422T164500
DTEND;TZID=America/Chicago:20250422T173000
DTSTAMP:20260421T185950
CREATED:20250127T211022Z
LAST-MODIFIED:20250319T003353Z
UID:10003018-1745340300-1745343000@ynschoirs.org
SUMMARY:Voci Rehearsal
DESCRIPTION:
URL:https://ynschoirs.org/calendar/voci-rehearsal-3/2025-04-22/
LOCATION:St. John’s Episcopal Church\, 750 Aurora Ave\, Naperville\, IL\, 60540
CATEGORIES:Parents,Voci
END:VEVENT
BEGIN:VEVENT
DTSTART;TZID=America/Chicago:20250429T080000
DTEND;TZID=America/Chicago:20250429T170000
DTSTAMP:20260421T185950
CREATED:20250319T003548Z
LAST-MODIFIED:20250319T003548Z
UID:10003081-1745913600-1745946000@ynschoirs.org
SUMMARY:Voci Parent Preview
DESCRIPTION:Voci will be performing their parent preview today in the Sanctuary at St. John’s.  They should wear their Voci t-shirts\, jeans and sneakers.  They should arrive at their normal time or 4:45pm and the preview will begin at 5:00pm.
URL:https://ynschoirs.org/calendar/voci-parent-preview/
LOCATION:St. John’s Episcopal Church\, 750 Aurora Ave\, Naperville\, IL\, 60540
CATEGORIES:Parents,Voci
END:VEVENT
END:VCALENDAR