BEGIN:VCALENDAR
VERSION:2.0
PRODID:-//Young Naperville Singers - ECPv6.8.0//NONSGML v1.0//EN
CALSCALE:GREGORIAN
METHOD:PUBLISH
X-ORIGINAL-URL:https://ynschoirs.org
X-WR-CALDESC:Events for Young Naperville Singers
REFRESH-INTERVAL;VALUE=DURATION:PT1H
X-Robots-Tag:noindex
X-PUBLISHED-TTL:PT1H
BEGIN:VTIMEZONE
TZID:America/Chicago
BEGIN:DAYLIGHT
TZOFFSETFROM:-0600
TZOFFSETTO:-0500
TZNAME:CDT
DTSTART:20210314T080000
END:DAYLIGHT
BEGIN:STANDARD
TZOFFSETFROM:-0500
TZOFFSETTO:-0600
TZNAME:CST
DTSTART:20211107T070000
END:STANDARD
END:VTIMEZONE
BEGIN:VEVENT
DTSTART;TZID=America/Chicago:20210127T190000
DTEND;TZID=America/Chicago:20210127T200000
DTSTAMP:20260425T091843
CREATED:20210119T210547Z
LAST-MODIFIED:20210119T210547Z
UID:10001072-1611774000-1611777600@ynschoirs.org
SUMMARY:Leading Edge
DESCRIPTION:Leading Edge – 7pm on Zoom\nClick the link under Leading Edge on your choir page.
URL:https://ynschoirs.org/calendar/leading-edge-4/
LOCATION:Zoom
CATEGORIES:Bella Cantare,Bella Voce,Brillante,Cantabile,Canto Vivo,Parents,Ragazzi
END:VEVENT
BEGIN:VEVENT
DTSTART;TZID=America/Chicago:20210208T164500
DTEND;TZID=America/Chicago:20210208T174500
DTSTAMP:20260425T091844
CREATED:20210211T155957Z
LAST-MODIFIED:20210211T160136Z
UID:10001185-1612802700-1612806300@ynschoirs.org
SUMMARY:Dolce - In-Person Rehearsal
DESCRIPTION:Dolce – In-Person Rehearsal\n4:45-5:45pm Allied First Bank \n 
URL:https://ynschoirs.org/calendar/dolce-in-person-rehearsal/
LOCATION:ServBank\, 3201 Orchard Road\, Oswego\, IL\, 60543
CATEGORIES:Dolce,Parents
END:VEVENT
BEGIN:VEVENT
DTSTART;TZID=America/Chicago:20210209T163000
DTEND;TZID=America/Chicago:20210209T174500
DTSTAMP:20260425T091844
CREATED:20210211T155804Z
LAST-MODIFIED:20210211T155804Z
UID:10001179-1612888200-1612892700@ynschoirs.org
SUMMARY:Brio - Virtual Rehearsal
DESCRIPTION:Brio – Virtual Rehearsal\nZoom – 4:30pm-5:45pm
URL:https://ynschoirs.org/calendar/brio-virtual-rehearsal-2/2021-02-09/
CATEGORIES:Brio,Parents
END:VEVENT
BEGIN:VEVENT
DTSTART;TZID=America/Chicago:20210210T164500
DTEND;TZID=America/Chicago:20210210T174500
DTSTAMP:20260425T091844
CREATED:20210211T155242Z
LAST-MODIFIED:20210211T155242Z
UID:10001166-1612975500-1612979100@ynschoirs.org
SUMMARY:Primo - Virtual Rehearsal
DESCRIPTION:Primo – Virtual Rehearsal\nZoom – 4:45pm-5:45pm
URL:https://ynschoirs.org/calendar/primo-virtual-rehearsal-2/2021-02-10/
LOCATION:Zoom
CATEGORIES:Parents,Primo
END:VEVENT
BEGIN:VEVENT
DTSTART;TZID=America/Chicago:20210211T163000
DTEND;TZID=America/Chicago:20210211T174500
DTSTAMP:20260425T091844
CREATED:20210211T155529Z
LAST-MODIFIED:20210211T155529Z
UID:10001173-1613061000-1613065500@ynschoirs.org
SUMMARY:Aria - Virtual Rehearsal
DESCRIPTION:Aria – Virtual Rehearsal\nZoom – 4:30pm-5:45pm
URL:https://ynschoirs.org/calendar/aria-virtual-rehearsal-2/2021-02-11/
LOCATION:Zoom
CATEGORIES:Aria,Parents
END:VEVENT
BEGIN:VEVENT
DTSTART;VALUE=DATE:20210215
DTEND;VALUE=DATE:20210216
DTSTAMP:20260425T091844
CREATED:20210211T160215Z
LAST-MODIFIED:20210211T160215Z
UID:10001191-1613347200-1613433599@ynschoirs.org
SUMMARY:Dolce - No Rehearsal
DESCRIPTION:Dolce – No Rehearsal
URL:https://ynschoirs.org/calendar/dolce-no-rehearsal-3/
CATEGORIES:Dolce,Parents
END:VEVENT
BEGIN:VEVENT
DTSTART;VALUE=DATE:20210215
DTEND;VALUE=DATE:20210216
DTSTAMP:20260425T091844
CREATED:20210211T160249Z
LAST-MODIFIED:20210211T162232Z
UID:10001192-1613347200-1613433599@ynschoirs.org
SUMMARY:BC - No Rehearsal
DESCRIPTION:Bella Cantare – No Rehearsal
URL:https://ynschoirs.org/calendar/bc-no-rehearsal/
CATEGORIES:Bella Cantare,Parents
END:VEVENT
BEGIN:VEVENT
DTSTART;TZID=America/Chicago:20210216T163000
DTEND;TZID=America/Chicago:20210216T174500
DTSTAMP:20260425T091844
CREATED:20210211T155804Z
LAST-MODIFIED:20210211T155804Z
UID:10001180-1613493000-1613497500@ynschoirs.org
SUMMARY:Brio - Virtual Rehearsal
DESCRIPTION:Brio – Virtual Rehearsal\nZoom – 4:30pm-5:45pm
URL:https://ynschoirs.org/calendar/brio-virtual-rehearsal-2/2021-02-16/
CATEGORIES:Brio,Parents
END:VEVENT
BEGIN:VEVENT
DTSTART;TZID=America/Chicago:20210216T164500
DTEND;TZID=America/Chicago:20210216T181500
DTSTAMP:20260425T091844
CREATED:20210211T202748Z
LAST-MODIFIED:20210211T203018Z
UID:10001203-1613493900-1613499300@ynschoirs.org
SUMMARY:Ragazzi - Virtual Rehearsal
DESCRIPTION:Ragazzi – Virtual Rehearsal\nZoom 4:45pm-6:15pm \nGuest Artist – Ethan Burck
URL:https://ynschoirs.org/calendar/3725/
CATEGORIES:Parents,Ragazzi
END:VEVENT
BEGIN:VEVENT
DTSTART;TZID=America/Chicago:20210216T171500
DTEND;TZID=America/Chicago:20210216T193000
DTSTAMP:20260425T091844
CREATED:20210212T013225Z
LAST-MODIFIED:20210212T013225Z
UID:10001267-1613495700-1613503800@ynschoirs.org
SUMMARY:Cantabile - In-Person Rehearsal
DESCRIPTION:Cantabile – In-Person Rehearsal\nCalvary Church \nGroup One: 5:15pm-6:15pm    Group Two: 6:30-7:30pm
URL:https://ynschoirs.org/calendar/cantabile-in-person-rehearsal/
LOCATION:Calvary Church\, 9S200 Illinois Route 59\, Naperville\, IL\, 60564
CATEGORIES:Cantabile,Parents
END:VEVENT
BEGIN:VEVENT
DTSTART;TZID=America/Chicago:20210216T181500
DTEND;TZID=America/Chicago:20210216T201500
DTSTAMP:20260425T091844
CREATED:20210211T200718Z
LAST-MODIFIED:20210211T200718Z
UID:10001194-1613499300-1613506500@ynschoirs.org
SUMMARY:BV - Virtual Rehearsal
DESCRIPTION:Bella Voce – Virtual Rehearsal \nZoom – 6:15pm-8:15pm \nGuest Artist: Tracy Wong
URL:https://ynschoirs.org/calendar/bv-virtual-rehearsal-4/
LOCATION:Zoom
CATEGORIES:Bella Voce,Parents
END:VEVENT
BEGIN:VEVENT
DTSTART;TZID=America/Chicago:20210216T183000
DTEND;TZID=America/Chicago:20210216T200000
DTSTAMP:20260425T091844
CREATED:20210211T203411Z
LAST-MODIFIED:20210211T203411Z
UID:10001210-1613500200-1613505600@ynschoirs.org
SUMMARY:Canto Vivo - Virtual Rehearsal
DESCRIPTION:Canto Vivo – Virtual Rehearsal\nZoom 6:30pm-8:00pm \nGuest Artist – Ethan Burck
URL:https://ynschoirs.org/calendar/canto-vivo-virtual-rehearsal/
LOCATION:Zoom
CATEGORIES:Canto Vivo,Parents
END:VEVENT
BEGIN:VEVENT
DTSTART;TZID=America/Chicago:20210217T164500
DTEND;TZID=America/Chicago:20210217T174500
DTSTAMP:20260425T091844
CREATED:20210211T155242Z
LAST-MODIFIED:20210211T155242Z
UID:10001167-1613580300-1613583900@ynschoirs.org
SUMMARY:Primo - Virtual Rehearsal
DESCRIPTION:Primo – Virtual Rehearsal\nZoom – 4:45pm-5:45pm
URL:https://ynschoirs.org/calendar/primo-virtual-rehearsal-2/2021-02-17/
LOCATION:Zoom
CATEGORIES:Parents,Primo
END:VEVENT
BEGIN:VEVENT
DTSTART;TZID=America/Chicago:20210218T163000
DTEND;TZID=America/Chicago:20210218T174500
DTSTAMP:20260425T091844
CREATED:20210211T155529Z
LAST-MODIFIED:20210211T155529Z
UID:10001174-1613665800-1613670300@ynschoirs.org
SUMMARY:Aria - Virtual Rehearsal
DESCRIPTION:Aria – Virtual Rehearsal\nZoom – 4:30pm-5:45pm
URL:https://ynschoirs.org/calendar/aria-virtual-rehearsal-2/2021-02-18/
LOCATION:Zoom
CATEGORIES:Aria,Parents
END:VEVENT
BEGIN:VEVENT
DTSTART;TZID=America/Chicago:20210218T164500
DTEND;TZID=America/Chicago:20210218T183000
DTSTAMP:20260425T091844
CREATED:20210211T204903Z
LAST-MODIFIED:20210211T204903Z
UID:10001246-1613666700-1613673000@ynschoirs.org
SUMMARY:Brillante - In-Person Rehearsal
DESCRIPTION:Brillante – In-Person Rehearsal\nFaith Lutheran Church \nGroup One: 4:45pm-5:30pm    Group Two: 5:45pm-6:30pm
URL:https://ynschoirs.org/calendar/brillante-in-person-rehearsal/
LOCATION:Faith Lutheran Church\, 3000 Liberty Street\, Aurora\, IL\, 60502
CATEGORIES:Brillante,Parents
END:VEVENT
BEGIN:VEVENT
DTSTART;TZID=America/Chicago:20210222T164500
DTEND;TZID=America/Chicago:20210222T174500
DTSTAMP:20260425T091844
CREATED:20210211T160049Z
LAST-MODIFIED:20210211T160049Z
UID:10001186-1614012300-1614015900@ynschoirs.org
SUMMARY:Dolce - In-Person Rehearsal
DESCRIPTION:Dolce – In-Person Rehearsal\n4:45-5:45pm Allied First Bank
URL:https://ynschoirs.org/calendar/dolce-in-person-rehearsal-2/2021-02-22/
LOCATION:ServBank\, 3201 Orchard Road\, Oswego\, IL\, 60543
CATEGORIES:Dolce,Parents
END:VEVENT
BEGIN:VEVENT
DTSTART;TZID=America/Chicago:20210222T174500
DTEND;TZID=America/Chicago:20210222T203000
DTSTAMP:20260425T091844
CREATED:20210210T185408Z
LAST-MODIFIED:20210210T185526Z
UID:10001162-1614015900-1614025800@ynschoirs.org
SUMMARY:BC In-Person Rehearsal
DESCRIPTION:Bella Cantare In-Person Rehearsal\nCalvary Church \nGroup 1: 5:45pm-7:00pm    Group 2: 7:15pm-8:30pm
URL:https://ynschoirs.org/calendar/bc-in-person-rehearsal/2021-02-22/
LOCATION:Calvary Church\, 9S200 Illinois Route 59\, Naperville\, IL\, 60564
CATEGORIES:Bella Cantare,Parents
END:VEVENT
BEGIN:VEVENT
DTSTART;TZID=America/Chicago:20210223T163000
DTEND;TZID=America/Chicago:20210223T174500
DTSTAMP:20260425T091844
CREATED:20210211T155804Z
LAST-MODIFIED:20210211T155804Z
UID:10001181-1614097800-1614102300@ynschoirs.org
SUMMARY:Brio - Virtual Rehearsal
DESCRIPTION:Brio – Virtual Rehearsal\nZoom – 4:30pm-5:45pm
URL:https://ynschoirs.org/calendar/brio-virtual-rehearsal-2/2021-02-23/
CATEGORIES:Brio,Parents
END:VEVENT
BEGIN:VEVENT
DTSTART;TZID=America/Chicago:20210223T164500
DTEND;TZID=America/Chicago:20210223T180000
DTSTAMP:20260425T091844
CREATED:20210211T202357Z
LAST-MODIFIED:20210211T202357Z
UID:10001200-1614098700-1614103200@ynschoirs.org
SUMMARY:Ragazzi - In-Person Rehearsal
DESCRIPTION:Ragazzi – In-Person Rehearsal\nFaith Lutheran Church \n4:45pm-6:00pm
URL:https://ynschoirs.org/calendar/ragazzi-in-person-rehearsal/
LOCATION:Faith Lutheran Church\, 3000 Liberty Street\, Aurora\, IL\, 60502
CATEGORIES:Parents,Ragazzi
END:VEVENT
BEGIN:VEVENT
DTSTART;TZID=America/Chicago:20210223T174500
DTEND;TZID=America/Chicago:20210223T203000
DTSTAMP:20260425T091844
CREATED:20210211T201133Z
LAST-MODIFIED:20210211T201414Z
UID:10001197-1614102300-1614112200@ynschoirs.org
SUMMARY:BV - In-Person Rehearsal
DESCRIPTION:Bella Voce – In-Person Rehearsal\nCalvary Church \nGroup One: 5:45-7:00pm    Group Two: 7:15pm-8:30pm
URL:https://ynschoirs.org/calendar/bv-in-person-rehearsal/
LOCATION:Calvary Church\, 9S200 Illinois Route 59\, Naperville\, IL\, 60564
CATEGORIES:Bella Voce,Parents
END:VEVENT
BEGIN:VEVENT
DTSTART;TZID=America/Chicago:20210223T183000
DTEND;TZID=America/Chicago:20210223T194500
DTSTAMP:20260425T091844
CREATED:20210211T203745Z
LAST-MODIFIED:20210211T203749Z
UID:10001229-1614105000-1614109500@ynschoirs.org
SUMMARY:Canto Vivo - In-Person Rehearsal
DESCRIPTION:Canto Vivo – In-Person Rehearsal\nFaith Lutheran Church \n6:30pm-7:45pm
URL:https://ynschoirs.org/calendar/canto-vivo-in-person-rehearsal/
LOCATION:Faith Lutheran Church\, 3000 Liberty Street\, Aurora\, IL\, 60502
CATEGORIES:Canto Vivo,Parents
END:VEVENT
BEGIN:VEVENT
DTSTART;TZID=America/Chicago:20210223T183000
DTEND;TZID=America/Chicago:20210223T200000
DTSTAMP:20260425T091844
CREATED:20210212T013555Z
LAST-MODIFIED:20210212T013555Z
UID:10001273-1614105000-1614110400@ynschoirs.org
SUMMARY:Cantabile - Virtual Rehearsal
DESCRIPTION:Cantabile – Virtual Rehearsal\nZoom 6:30pm-8:00pm \n 
URL:https://ynschoirs.org/calendar/cantabile-virtual-rehearsal-5/
LOCATION:Zoom
CATEGORIES:Cantabile,Parents
END:VEVENT
BEGIN:VEVENT
DTSTART;TZID=America/Chicago:20210224T164500
DTEND;TZID=America/Chicago:20210224T174500
DTSTAMP:20260425T091844
CREATED:20210211T155242Z
LAST-MODIFIED:20210211T155242Z
UID:10001168-1614185100-1614188700@ynschoirs.org
SUMMARY:Primo - Virtual Rehearsal
DESCRIPTION:Primo – Virtual Rehearsal\nZoom – 4:45pm-5:45pm
URL:https://ynschoirs.org/calendar/primo-virtual-rehearsal-2/2021-02-24/
LOCATION:Zoom
CATEGORIES:Parents,Primo
END:VEVENT
BEGIN:VEVENT
DTSTART;TZID=America/Chicago:20210225T163000
DTEND;TZID=America/Chicago:20210225T174500
DTSTAMP:20260425T091844
CREATED:20210211T155529Z
LAST-MODIFIED:20210211T155529Z
UID:10001175-1614270600-1614275100@ynschoirs.org
SUMMARY:Aria - Virtual Rehearsal
DESCRIPTION:Aria – Virtual Rehearsal\nZoom – 4:30pm-5:45pm
URL:https://ynschoirs.org/calendar/aria-virtual-rehearsal-2/2021-02-25/
LOCATION:Zoom
CATEGORIES:Aria,Parents
END:VEVENT
BEGIN:VEVENT
DTSTART;TZID=America/Chicago:20210225T163000
DTEND;TZID=America/Chicago:20210225T180000
DTSTAMP:20260425T091844
CREATED:20210212T003845Z
LAST-MODIFIED:20210212T003845Z
UID:10001264-1614270600-1614276000@ynschoirs.org
SUMMARY:Brillante - Virtual Rehearsal
DESCRIPTION:Brillante – Virtual Rehearsal\nZoom – 4:30pm-6:00pm
URL:https://ynschoirs.org/calendar/brillante-virtual-rehearsal-2/
LOCATION:Zoom
CATEGORIES:Brillante,Parents
END:VEVENT
BEGIN:VEVENT
DTSTART;TZID=America/Chicago:20210301T164500
DTEND;TZID=America/Chicago:20210301T174500
DTSTAMP:20260425T091844
CREATED:20210211T160049Z
LAST-MODIFIED:20210211T160049Z
UID:10001187-1614617100-1614620700@ynschoirs.org
SUMMARY:Dolce - In-Person Rehearsal
DESCRIPTION:Dolce – In-Person Rehearsal\n4:45-5:45pm Allied First Bank
URL:https://ynschoirs.org/calendar/dolce-in-person-rehearsal-2/2021-03-01/
LOCATION:ServBank\, 3201 Orchard Road\, Oswego\, IL\, 60543
CATEGORIES:Dolce,Parents
END:VEVENT
BEGIN:VEVENT
DTSTART;TZID=America/Chicago:20210301T174500
DTEND;TZID=America/Chicago:20210301T203000
DTSTAMP:20260425T091844
CREATED:20210210T185408Z
LAST-MODIFIED:20210210T185526Z
UID:10001163-1614620700-1614630600@ynschoirs.org
SUMMARY:BC In-Person Rehearsal
DESCRIPTION:Bella Cantare In-Person Rehearsal\nCalvary Church \nGroup 1: 5:45pm-7:00pm    Group 2: 7:15pm-8:30pm
URL:https://ynschoirs.org/calendar/bc-in-person-rehearsal/2021-03-01/
LOCATION:Calvary Church\, 9S200 Illinois Route 59\, Naperville\, IL\, 60564
CATEGORIES:Bella Cantare,Parents
END:VEVENT
BEGIN:VEVENT
DTSTART;TZID=America/Chicago:20210302T163000
DTEND;TZID=America/Chicago:20210302T174500
DTSTAMP:20260425T091844
CREATED:20210211T155804Z
LAST-MODIFIED:20210211T155804Z
UID:10001182-1614702600-1614707100@ynschoirs.org
SUMMARY:Brio - Virtual Rehearsal
DESCRIPTION:Brio – Virtual Rehearsal\nZoom – 4:30pm-5:45pm
URL:https://ynschoirs.org/calendar/brio-virtual-rehearsal-2/2021-03-02/
CATEGORIES:Brio,Parents
END:VEVENT
BEGIN:VEVENT
DTSTART;TZID=America/Chicago:20210302T164500
DTEND;TZID=America/Chicago:20210302T181500
DTSTAMP:20260425T091844
CREATED:20210211T202830Z
LAST-MODIFIED:20210211T202830Z
UID:10001207-1614703500-1614708900@ynschoirs.org
SUMMARY:Ragazzi - Virtual Rehearsal
DESCRIPTION:Ragazzi – Virtual Rehearsal\nZoom 4:45pm-6:15pm
URL:https://ynschoirs.org/calendar/ragazzi-virtual-rehearsal-6/
LOCATION:Zoom
CATEGORIES:Parents,Ragazzi
END:VEVENT
BEGIN:VEVENT
DTSTART;TZID=America/Chicago:20210302T171500
DTEND;TZID=America/Chicago:20210302T193000
DTSTAMP:20260425T091844
CREATED:20210212T013353Z
LAST-MODIFIED:20210212T013353Z
UID:10001269-1614705300-1614713400@ynschoirs.org
SUMMARY:Cantabile - In-Person Rehearsal
DESCRIPTION:Cantabile – In-Person Rehearsal\nCalvary Church \nGroup One: 5:15pm-6:15pm    Group Two: 6:30-7:30pm
URL:https://ynschoirs.org/calendar/cantabile-in-person-rehearsal-2/
LOCATION:Calvary Church\, 9S200 Illinois Route 59\, Naperville\, IL\, 60564
CATEGORIES:Cantabile,Parents
END:VEVENT
END:VCALENDAR