BEGIN:VCALENDAR
VERSION:2.0
PRODID:-//Young Naperville Singers - ECPv6.8.0//NONSGML v1.0//EN
CALSCALE:GREGORIAN
METHOD:PUBLISH
X-WR-CALNAME:Young Naperville Singers
X-ORIGINAL-URL:https://ynschoirs.org
X-WR-CALDESC:Events for Young Naperville Singers
REFRESH-INTERVAL;VALUE=DURATION:PT1H
X-Robots-Tag:noindex
X-PUBLISHED-TTL:PT1H
BEGIN:VTIMEZONE
TZID:America/Chicago
BEGIN:DAYLIGHT
TZOFFSETFROM:-0600
TZOFFSETTO:-0500
TZNAME:CDT
DTSTART:20200308T080000
END:DAYLIGHT
BEGIN:STANDARD
TZOFFSETFROM:-0500
TZOFFSETTO:-0600
TZNAME:CST
DTSTART:20201101T070000
END:STANDARD
END:VTIMEZONE
BEGIN:VEVENT
DTSTART;TZID=America/Chicago:20201007T164500
DTEND;TZID=America/Chicago:20201007T174500
DTSTAMP:20260425T194206
CREATED:20200923T132547Z
LAST-MODIFIED:20200923T132547Z
UID:10001100-1602089100-1602092700@ynschoirs.org
SUMMARY:Primo Virtual Rehearsal
DESCRIPTION:Primo Virtual Rehearsal\n4:45pm-5:45pm Zoom
URL:https://ynschoirs.org/calendar/primo-virtual-rehearsal/2020-10-07/
LOCATION:Zoom
CATEGORIES:Parents,Primo
END:VEVENT
BEGIN:VEVENT
DTSTART;TZID=America/Chicago:20201006T183000
DTEND;TZID=America/Chicago:20201006T201500
DTSTAMP:20260425T194206
CREATED:20200922T172626Z
LAST-MODIFIED:20200922T172626Z
UID:10001021-1602009000-1602015300@ynschoirs.org
SUMMARY:CV Virtual Rehearsal
DESCRIPTION:CV Virtual Rehearsal\n6:30pm-8:15pm Zoom
URL:https://ynschoirs.org/calendar/cv-virtual-rehearsal-2/2020-10-06/
LOCATION:Zoom
CATEGORIES:Canto Vivo,Parents
END:VEVENT
BEGIN:VEVENT
DTSTART;TZID=America/Chicago:20201006T174500
DTEND;TZID=America/Chicago:20201006T200500
DTSTAMP:20260425T194206
CREATED:20200922T160158Z
LAST-MODIFIED:20200922T160207Z
UID:10001017-1602006300-1602014700@ynschoirs.org
SUMMARY:BV Live Rehearsal
DESCRIPTION:BV Live Rehearsal\nGroup One: 5:45pm-6:45pm   Group Two: 7:05pm-8:05pm \n 
URL:https://ynschoirs.org/calendar/bv-live-rehearsal/2020-10-06/
LOCATION:Riverwalk Grand Pavilion\, 912 Honaray Sindt Memorial Court\, Naperville\, IL
CATEGORIES:Bella Voce,Parents
END:VEVENT
BEGIN:VEVENT
DTSTART;TZID=America/Chicago:20201006T173000
DTEND;TZID=America/Chicago:20201006T192000
DTSTAMP:20260425T194206
CREATED:20200929T151952Z
LAST-MODIFIED:20200929T151952Z
UID:10001123-1602005400-1602012000@ynschoirs.org
SUMMARY:Cantabile Live Rehearsal
DESCRIPTION:Cantabile Live Rehearsal\nGroup 1 – 5:30-6:15pm    Group 2 – 6:35-7:20pm 
URL:https://ynschoirs.org/calendar/cantabile-live-rehearsal-4/
LOCATION:Community Concert Center\, 55 Concert Lane\, Naperville\, IL\, 60540
CATEGORIES:Cantabile,Parents
END:VEVENT
BEGIN:VEVENT
DTSTART;TZID=America/Chicago:20201006T164500
DTEND;TZID=America/Chicago:20201006T181500
DTSTAMP:20260425T194206
CREATED:20200922T205716Z
LAST-MODIFIED:20200922T205716Z
UID:10001053-1602002700-1602008100@ynschoirs.org
SUMMARY:Ragazzi Virtual Rehearsal
DESCRIPTION:Ragazzi Virtual Rehearsal\n4:45pm-6:15pm Zoom
URL:https://ynschoirs.org/calendar/ragazzi-virtual-rehearsal-2/2020-10-06/
LOCATION:Zoom
CATEGORIES:Parents,Ragazzi
END:VEVENT
BEGIN:VEVENT
DTSTART;TZID=America/Chicago:20201006T163000
DTEND;TZID=America/Chicago:20201006T171500
DTSTAMP:20260425T194206
CREATED:20200929T152142Z
LAST-MODIFIED:20200930T143220Z
UID:10001124-1602001800-1602004500@ynschoirs.org
SUMMARY:Brio Live Rehearsal
DESCRIPTION:Brio Live Rehearsal\n4:30pm-5:15pm Riverwalk Grand Pavilion
URL:https://ynschoirs.org/calendar/brio-live-rehearsal/
LOCATION:Riverwalk Grand Pavilion\, 912 Honaray Sindt Memorial Court\, Naperville\, IL
CATEGORIES:Brio,Parents
END:VEVENT
BEGIN:VEVENT
DTSTART;TZID=America/Chicago:20201005T181500
DTEND;TZID=America/Chicago:20201005T201500
DTSTAMP:20260425T194206
CREATED:20200922T155834Z
LAST-MODIFIED:20200922T155834Z
UID:10001014-1601921700-1601928900@ynschoirs.org
SUMMARY:BC Virtual Rehearsal
DESCRIPTION:BC Virtual Rehearsal\n6:15pm-8:15pm Zoom Reharsal
URL:https://ynschoirs.org/calendar/bc-virtual-rehearsal/
LOCATION:Zoom
CATEGORIES:Bella Cantare,Parents
END:VEVENT
BEGIN:VEVENT
DTSTART;TZID=America/Chicago:20201005T164500
DTEND;TZID=America/Chicago:20201005T174500
DTSTAMP:20260425T194206
CREATED:20200923T124536Z
LAST-MODIFIED:20200923T124536Z
UID:10001075-1601916300-1601919900@ynschoirs.org
SUMMARY:Dolce Live Rehearsal
DESCRIPTION:Dolce Live Rehearsal\n4:45pm-5:45pm  Allied Bank
URL:https://ynschoirs.org/calendar/dolce-live-rehearsal/2020-10-05/
LOCATION:ServBank\, 3201 Orchard Road\, Oswego\, IL\, 60543
CATEGORIES:Dolce,Parents
END:VEVENT
BEGIN:VEVENT
DTSTART;TZID=America/Chicago:20201005T164500
DTEND;TZID=America/Chicago:20201005T174500
DTSTAMP:20260425T194206
CREATED:20200922T200616Z
LAST-MODIFIED:20200922T200616Z
UID:10001038-1601916300-1601919900@ynschoirs.org
SUMMARY:Songwiters Ignite
DESCRIPTION:Songwriters Ignite\n4:45pm-5:45pm Zoom
URL:https://ynschoirs.org/calendar/songwiters-ignite/2020-10-05/
LOCATION:Zoom
CATEGORIES:Parents
END:VEVENT
BEGIN:VEVENT
DTSTART;TZID=America/Chicago:20201001T163000
DTEND;TZID=America/Chicago:20201001T182000
DTSTAMP:20260425T194206
CREATED:20200923T122844Z
LAST-MODIFIED:20200923T122844Z
UID:10001069-1601569800-1601576400@ynschoirs.org
SUMMARY:Brillante Live Rehearsal
DESCRIPTION:Brillante Live Rehearsal\nGroup 1:  4:30pm-5:15pm   Group 2:  5:35pm-6:20pm
URL:https://ynschoirs.org/calendar/brillante-live-rehearsal/
LOCATION:Community Concert Center\, 55 Concert Lane\, Naperville\, IL\, 60540
CATEGORIES:Brillante,Parents
END:VEVENT
BEGIN:VEVENT
DTSTART;TZID=America/Chicago:20201001T163000
DTEND;TZID=America/Chicago:20201001T180000
DTSTAMP:20260425T194206
CREATED:20200923T121453Z
LAST-MODIFIED:20200923T133201Z
UID:10001061-1601569800-1601575200@ynschoirs.org
SUMMARY:Brillante Virtual Rehearsal
DESCRIPTION:Brillante Virtual Rehearsal\n4:30pm-6:00pm Zoom
URL:https://ynschoirs.org/calendar/brillante-virtual-rehearsal/2020-10-01/
LOCATION:Zoom
CATEGORIES:Brillante,Parents
END:VEVENT
BEGIN:VEVENT
DTSTART;TZID=America/Chicago:20201001T163000
DTEND;TZID=America/Chicago:20201001T174500
DTSTAMP:20260425T194206
CREATED:20200923T130322Z
LAST-MODIFIED:20200923T132902Z
UID:10001082-1601569800-1601574300@ynschoirs.org
SUMMARY:Aria Virtual Rehearsal
DESCRIPTION:Aria Virtual Rehearsal\n4:30pm-5:45pm Zoom
URL:https://ynschoirs.org/calendar/aria-virtual-rehearsal/2020-10-01/
LOCATION:Zoom
CATEGORIES:Aria,Parents
END:VEVENT
BEGIN:VEVENT
DTSTART;TZID=America/Chicago:20200930T190000
DTEND;TZID=America/Chicago:20200930T200000
DTSTAMP:20260425T194206
CREATED:20200928T031532Z
LAST-MODIFIED:20200928T031532Z
UID:10001122-1601492400-1601496000@ynschoirs.org
SUMMARY:Artists and Answers
DESCRIPTION:Artists and Answers\nGreg Woods and Phillip Armstrong – Brillante\, Ragazzi\, Cantabile\, CV\, BV\, & BC \n7pm Zoom – Go to your choir page for link
URL:https://ynschoirs.org/calendar/artists-and-answers/
LOCATION:Zoom
CATEGORIES:Bella Cantare,Bella Voce,Brillante,Cantabile,Canto Vivo,Parents,Ragazzi
END:VEVENT
BEGIN:VEVENT
DTSTART;TZID=America/Chicago:20200930T164500
DTEND;TZID=America/Chicago:20200930T174500
DTSTAMP:20260425T194206
CREATED:20200923T132547Z
LAST-MODIFIED:20200923T132547Z
UID:10001099-1601484300-1601487900@ynschoirs.org
SUMMARY:Primo Virtual Rehearsal
DESCRIPTION:Primo Virtual Rehearsal\n4:45pm-5:45pm Zoom
URL:https://ynschoirs.org/calendar/primo-virtual-rehearsal/2020-09-30/
LOCATION:Zoom
CATEGORIES:Parents,Primo
END:VEVENT
BEGIN:VEVENT
DTSTART;TZID=America/Chicago:20200929T184500
DTEND;TZID=America/Chicago:20200929T201500
DTSTAMP:20260425T194206
CREATED:20200922T193852Z
LAST-MODIFIED:20200922T193852Z
UID:10001029-1601405100-1601410500@ynschoirs.org
SUMMARY:Cantabile Virtual Rehearsal
DESCRIPTION:Cantabile Virtual Rehearsal\n6:45pm-8:15pm Zoom
URL:https://ynschoirs.org/calendar/cantabile-virtual-rehearsal/2020-09-29/
LOCATION:IL
CATEGORIES:Cantabile,Parents
END:VEVENT
BEGIN:VEVENT
DTSTART;TZID=America/Chicago:20200929T180000
DTEND;TZID=America/Chicago:20200929T184500
DTSTAMP:20260425T194206
CREATED:20200922T172856Z
LAST-MODIFIED:20200922T172856Z
UID:10001023-1601402400-1601405100@ynschoirs.org
SUMMARY:CV Live Rehearsal
DESCRIPTION:CV Live Rehearsal\n6:00pm-6:45pm at the Community Concert Center (in the grassy area)
URL:https://ynschoirs.org/calendar/cv-live-rehearsal/
LOCATION:Community Concert Center\, 55 Concert Lane\, Naperville\, IL\, 60540
CATEGORIES:Canto Vivo,Parents
END:VEVENT
BEGIN:VEVENT
DTSTART;TZID=America/Chicago:20200929T174500
DTEND;TZID=America/Chicago:20200929T200500
DTSTAMP:20260425T194206
CREATED:20200922T160158Z
LAST-MODIFIED:20200922T160207Z
UID:10001016-1601401500-1601409900@ynschoirs.org
SUMMARY:BV Live Rehearsal
DESCRIPTION:BV Live Rehearsal\nGroup One: 5:45pm-6:45pm   Group Two: 7:05pm-8:05pm \n 
URL:https://ynschoirs.org/calendar/bv-live-rehearsal/2020-09-29/
LOCATION:Riverwalk Grand Pavilion\, 912 Honaray Sindt Memorial Court\, Naperville\, IL
CATEGORIES:Bella Voce,Parents
END:VEVENT
BEGIN:VEVENT
DTSTART;TZID=America/Chicago:20200929T164500
DTEND;TZID=America/Chicago:20200929T173000
DTSTAMP:20260425T194206
CREATED:20200922T205240Z
LAST-MODIFIED:20200922T205240Z
UID:10001047-1601397900-1601400600@ynschoirs.org
SUMMARY:Ragazzi Live Rehearsal
DESCRIPTION:Ragazzi Live Rehearsal\n4:45pm-5:30pm Community Concert Center (in the grassy area)
URL:https://ynschoirs.org/calendar/ragazzi-live-rehearsal/
LOCATION:Community Concert Center\, 55 Concert Lane\, Naperville\, IL\, 60540
CATEGORIES:Parents,Ragazzi
END:VEVENT
BEGIN:VEVENT
DTSTART;TZID=America/Chicago:20200929T163000
DTEND;TZID=America/Chicago:20200929T174500
DTSTAMP:20260425T194206
CREATED:20200923T131445Z
LAST-MODIFIED:20200923T133002Z
UID:10001091-1601397000-1601401500@ynschoirs.org
SUMMARY:Brio Virtual Rehearsal
DESCRIPTION:Brio Virtual Rehearsal\n4:30pm-5:45pm Zoom
URL:https://ynschoirs.org/calendar/brio-virtual-rehearsal/2020-09-29/
LOCATION:Zoom
CATEGORIES:Brio,Parents
END:VEVENT
BEGIN:VEVENT
DTSTART;TZID=America/Chicago:20200928T174500
DTEND;TZID=America/Chicago:20200928T200500
DTSTAMP:20260425T194206
CREATED:20200922T154735Z
LAST-MODIFIED:20200922T155043Z
UID:10001010-1601315100-1601323500@ynschoirs.org
SUMMARY:BC Live Rehearsal
DESCRIPTION:BC Live Rehearsal\nGroup One: 5:45pm-6:45pm   Group Two: 7:05pm-8:05pm
URL:https://ynschoirs.org/calendar/bc-live-rehearsal/2020-09-28/
LOCATION:Riverwalk Grand Pavilion\, 912 Honaray Sindt Memorial Court\, Naperville\, IL
CATEGORIES:Bella Cantare,Parents
END:VEVENT
BEGIN:VEVENT
DTSTART;TZID=America/Chicago:20200928T164500
DTEND;TZID=America/Chicago:20200928T174500
DTSTAMP:20260425T194206
CREATED:20200923T124536Z
LAST-MODIFIED:20200923T124536Z
UID:10001074-1601311500-1601315100@ynschoirs.org
SUMMARY:Dolce Live Rehearsal
DESCRIPTION:Dolce Live Rehearsal\n4:45pm-5:45pm  Allied Bank
URL:https://ynschoirs.org/calendar/dolce-live-rehearsal/2020-09-28/
LOCATION:ServBank\, 3201 Orchard Road\, Oswego\, IL\, 60543
CATEGORIES:Dolce,Parents
END:VEVENT
BEGIN:VEVENT
DTSTART;TZID=America/Chicago:20200928T164500
DTEND;TZID=America/Chicago:20200928T174500
DTSTAMP:20260425T194206
CREATED:20200922T200616Z
LAST-MODIFIED:20200922T200616Z
UID:10001037-1601311500-1601315100@ynschoirs.org
SUMMARY:Songwiters Ignite
DESCRIPTION:Songwriters Ignite\n4:45pm-5:45pm Zoom
URL:https://ynschoirs.org/calendar/songwiters-ignite/2020-09-28/
LOCATION:Zoom
CATEGORIES:Parents
END:VEVENT
BEGIN:VEVENT
DTSTART;TZID=America/Chicago:20200924T163000
DTEND;TZID=America/Chicago:20200924T180000
DTSTAMP:20260425T194206
CREATED:20200923T121453Z
LAST-MODIFIED:20200923T133201Z
UID:10001060-1600965000-1600970400@ynschoirs.org
SUMMARY:Brillante Virtual Rehearsal
DESCRIPTION:Brillante Virtual Rehearsal\n4:30pm-6:00pm Zoom
URL:https://ynschoirs.org/calendar/brillante-virtual-rehearsal/2020-09-24/
LOCATION:Zoom
CATEGORIES:Brillante,Parents
END:VEVENT
BEGIN:VEVENT
DTSTART;TZID=America/Chicago:20200924T163000
DTEND;TZID=America/Chicago:20200924T174500
DTSTAMP:20260425T194206
CREATED:20200923T130322Z
LAST-MODIFIED:20200923T132902Z
UID:10001081-1600965000-1600969500@ynschoirs.org
SUMMARY:Aria Virtual Rehearsal
DESCRIPTION:Aria Virtual Rehearsal\n4:30pm-5:45pm Zoom
URL:https://ynschoirs.org/calendar/aria-virtual-rehearsal/2020-09-24/
LOCATION:Zoom
CATEGORIES:Aria,Parents
END:VEVENT
BEGIN:VEVENT
DTSTART;TZID=America/Chicago:20200923T164500
DTEND;TZID=America/Chicago:20200923T174500
DTSTAMP:20260425T194206
CREATED:20200923T132547Z
LAST-MODIFIED:20200923T132547Z
UID:10001098-1600879500-1600883100@ynschoirs.org
SUMMARY:Primo Virtual Rehearsal
DESCRIPTION:Primo Virtual Rehearsal\n4:45pm-5:45pm Zoom
URL:https://ynschoirs.org/calendar/primo-virtual-rehearsal/2020-09-23/
LOCATION:Zoom
CATEGORIES:Parents,Primo
END:VEVENT
BEGIN:VEVENT
DTSTART;TZID=America/Chicago:20200922T183000
DTEND;TZID=America/Chicago:20200922T201500
DTSTAMP:20260425T194206
CREATED:20200922T172413Z
LAST-MODIFIED:20200922T172413Z
UID:10001020-1600799400-1600805700@ynschoirs.org
SUMMARY:CV Virtual Rehearsal
DESCRIPTION:CV Virtual Rehearsal\n6:30pm-8:15pm Zoom
URL:https://ynschoirs.org/calendar/cv-virtual-rehearsal/
LOCATION:Zoom
CATEGORIES:Canto Vivo,Parents
END:VEVENT
BEGIN:VEVENT
DTSTART;TZID=America/Chicago:20200922T174500
DTEND;TZID=America/Chicago:20200922T200500
DTSTAMP:20260425T194206
CREATED:20200922T160158Z
LAST-MODIFIED:20200922T160207Z
UID:10001015-1600796700-1600805100@ynschoirs.org
SUMMARY:BV Live Rehearsal
DESCRIPTION:BV Live Rehearsal\nGroup One: 5:45pm-6:45pm   Group Two: 7:05pm-8:05pm \n 
URL:https://ynschoirs.org/calendar/bv-live-rehearsal/2020-09-22/
LOCATION:Riverwalk Grand Pavilion\, 912 Honaray Sindt Memorial Court\, Naperville\, IL
CATEGORIES:Bella Voce,Parents
END:VEVENT
BEGIN:VEVENT
DTSTART;TZID=America/Chicago:20200922T173000
DTEND;TZID=America/Chicago:20200922T192000
DTSTAMP:20260425T194206
CREATED:20200922T192834Z
LAST-MODIFIED:20200922T192834Z
UID:10001028-1600795800-1600802400@ynschoirs.org
SUMMARY:Cantabile Live Rehearsal
DESCRIPTION:Cantabile Live Rehearsal\nGroup 1 – 5:30pm-6:15pm     Group Two 6:35pm-7:20pm
URL:https://ynschoirs.org/calendar/cantabile-live-rehearsal/
LOCATION:Community Concert Center\, 55 Concert Lane\, Naperville\, IL\, 60540
CATEGORIES:Cantabile,Parents
END:VEVENT
BEGIN:VEVENT
DTSTART;TZID=America/Chicago:20200922T164500
DTEND;TZID=America/Chicago:20200922T181500
DTSTAMP:20260425T194206
CREATED:20200922T202617Z
LAST-MODIFIED:20200922T203739Z
UID:10001046-1600793100-1600798500@ynschoirs.org
SUMMARY:Ragazzi Virtual Rehearsal
DESCRIPTION:Ragazzi Virtual Rehearsal\n4:45pm-6:15pm Zoom
URL:https://ynschoirs.org/calendar/ragazzi-virtual-rehearsal/
LOCATION:Zoom
CATEGORIES:Parents,Ragazzi
END:VEVENT
BEGIN:VEVENT
DTSTART;TZID=America/Chicago:20200922T163000
DTEND;TZID=America/Chicago:20200922T174500
DTSTAMP:20260425T194206
CREATED:20200923T131445Z
LAST-MODIFIED:20200923T133002Z
UID:10001090-1600792200-1600796700@ynschoirs.org
SUMMARY:Brio Virtual Rehearsal
DESCRIPTION:Brio Virtual Rehearsal\n4:30pm-5:45pm Zoom
URL:https://ynschoirs.org/calendar/brio-virtual-rehearsal/2020-09-22/
LOCATION:Zoom
CATEGORIES:Brio,Parents
END:VEVENT
END:VCALENDAR