BEGIN:VCALENDAR
VERSION:2.0
PRODID:-//Young Naperville Singers - ECPv6.8.0//NONSGML v1.0//EN
CALSCALE:GREGORIAN
METHOD:PUBLISH
X-WR-CALNAME:Young Naperville Singers
X-ORIGINAL-URL:https://ynschoirs.org
X-WR-CALDESC:Events for Young Naperville Singers
REFRESH-INTERVAL;VALUE=DURATION:PT1H
X-Robots-Tag:noindex
X-PUBLISHED-TTL:PT1H
BEGIN:VTIMEZONE
TZID:America/Chicago
BEGIN:DAYLIGHT
TZOFFSETFROM:-0600
TZOFFSETTO:-0500
TZNAME:CDT
DTSTART:20210314T080000
END:DAYLIGHT
BEGIN:STANDARD
TZOFFSETFROM:-0500
TZOFFSETTO:-0600
TZNAME:CST
DTSTART:20211107T070000
END:STANDARD
END:VTIMEZONE
BEGIN:VEVENT
DTSTART;VALUE=DATE:20210401
DTEND;VALUE=DATE:20210402
DTSTAMP:20260423T061142
CREATED:20210323T170426Z
LAST-MODIFIED:20210323T170458Z
UID:10001152-1617235200-1617321599@ynschoirs.org
SUMMARY:Brillante - No rehearsal
DESCRIPTION:Brillante – No rehearsal\nSpring Break
URL:https://ynschoirs.org/calendar/brillante-no-rehearsal-2/
LOCATION:IL
CATEGORIES:Brillante,Parents
END:VEVENT
BEGIN:VEVENT
DTSTART;VALUE=DATE:20210401
DTEND;VALUE=DATE:20210402
DTSTAMP:20260423T061142
CREATED:20210323T170341Z
LAST-MODIFIED:20210323T170618Z
UID:10001150-1617235200-1617321599@ynschoirs.org
SUMMARY:Aria - No rehearsal
DESCRIPTION:Aria – No rehearsal\nSpring Break
URL:https://ynschoirs.org/calendar/3828/
LOCATION:IL
CATEGORIES:Aria,Parents
END:VEVENT
BEGIN:VEVENT
DTSTART;VALUE=DATE:20210331
DTEND;VALUE=DATE:20210401
DTSTAMP:20260423T061142
CREATED:20210323T170312Z
LAST-MODIFIED:20210323T170532Z
UID:10001148-1617148800-1617235199@ynschoirs.org
SUMMARY:Primo - No rehearsal
DESCRIPTION:Primo – No rehearsal\nSpring Break
URL:https://ynschoirs.org/calendar/primo-no-rehearsal-2/
LOCATION:IL
CATEGORIES:Parents,Primo
END:VEVENT
BEGIN:VEVENT
DTSTART;VALUE=DATE:20210330
DTEND;VALUE=DATE:20210331
DTSTAMP:20260423T061142
CREATED:20210323T170148Z
LAST-MODIFIED:20210323T170148Z
UID:10001146-1617062400-1617148799@ynschoirs.org
SUMMARY:Brio - No rehearsal
DESCRIPTION:Brio – No rehearsal\nSpring Break
URL:https://ynschoirs.org/calendar/brio-no-rehearsal-3/
LOCATION:IL
CATEGORIES:Brio,Parents
END:VEVENT
BEGIN:VEVENT
DTSTART;VALUE=DATE:20210330
DTEND;VALUE=DATE:20210331
DTSTAMP:20260423T061142
CREATED:20210323T170120Z
LAST-MODIFIED:20210323T170120Z
UID:10001144-1617062400-1617148799@ynschoirs.org
SUMMARY:Cantabile - No rehearsal
DESCRIPTION:Cantabile – No rehearsal\nSpring Break
URL:https://ynschoirs.org/calendar/cantabile-no-rehearsal-3/
LOCATION:IL
CATEGORIES:Cantabile,Parents
END:VEVENT
BEGIN:VEVENT
DTSTART;VALUE=DATE:20210330
DTEND;VALUE=DATE:20210331
DTSTAMP:20260423T061142
CREATED:20210323T170050Z
LAST-MODIFIED:20210323T170234Z
UID:10001142-1617062400-1617148799@ynschoirs.org
SUMMARY:Ragazzi - No rehearsal
DESCRIPTION:Ragazzi – No rehearsal\nSpring Break
URL:https://ynschoirs.org/calendar/ragazzi-no-rehearsal-2/
LOCATION:IL
CATEGORIES:Parents,Ragazzi
END:VEVENT
BEGIN:VEVENT
DTSTART;VALUE=DATE:20210330
DTEND;VALUE=DATE:20210331
DTSTAMP:20260423T061142
CREATED:20210323T170018Z
LAST-MODIFIED:20210323T170018Z
UID:10001140-1617062400-1617148799@ynschoirs.org
SUMMARY:CV - No rehearsal
DESCRIPTION:CV – No rehearsal\nSpring Break
URL:https://ynschoirs.org/calendar/cv-no-rehearsal/
LOCATION:IL
CATEGORIES:Canto Vivo,Parents
END:VEVENT
BEGIN:VEVENT
DTSTART;VALUE=DATE:20210330
DTEND;VALUE=DATE:20210331
DTSTAMP:20260423T061142
CREATED:20210323T165948Z
LAST-MODIFIED:20210323T165948Z
UID:10001138-1617062400-1617148799@ynschoirs.org
SUMMARY:BV - No rehearsal
DESCRIPTION:BV – No rehearsal\nSpring Break
URL:https://ynschoirs.org/calendar/bv-no-rehearsal/
LOCATION:IL
CATEGORIES:Bella Voce,Parents
END:VEVENT
BEGIN:VEVENT
DTSTART;VALUE=DATE:20210329
DTEND;VALUE=DATE:20210330
DTSTAMP:20260423T061142
CREATED:20210323T163736Z
LAST-MODIFIED:20210323T163736Z
UID:10001135-1616976000-1617062399@ynschoirs.org
SUMMARY:Dolce - No rehearsal
DESCRIPTION:Dolce – No rehearsal\nSpring Break
URL:https://ynschoirs.org/calendar/dolce-no-rehearsal-5/
LOCATION:IL
CATEGORIES:Dolce,Parents
END:VEVENT
BEGIN:VEVENT
DTSTART;VALUE=DATE:20210329
DTEND;VALUE=DATE:20210330
DTSTAMP:20260423T061142
CREATED:20210323T163527Z
LAST-MODIFIED:20210323T163527Z
UID:10001283-1616976000-1617062399@ynschoirs.org
SUMMARY:BC - No Rehearsal
DESCRIPTION:BC – No rehearsal\nSpring Break
URL:https://ynschoirs.org/calendar/bc-no-rehearsal-2/
LOCATION:IL
CATEGORIES:Bella Cantare,Parents
END:VEVENT
BEGIN:VEVENT
DTSTART;TZID=America/Chicago:20210325T163000
DTEND;TZID=America/Chicago:20210325T180000
DTSTAMP:20260423T061142
CREATED:20210212T004024Z
LAST-MODIFIED:20210212T004024Z
UID:10001266-1616689800-1616695200@ynschoirs.org
SUMMARY:Brillante - Virtual Rehearsal
DESCRIPTION:Brillante – Virtual Rehearsal \nZoom – 4:30pm-6:00pm
URL:https://ynschoirs.org/calendar/brillante-virtual-rehearsal-4/
LOCATION:Zoom
CATEGORIES:Brillante,Parents
END:VEVENT
BEGIN:VEVENT
DTSTART;TZID=America/Chicago:20210325T163000
DTEND;TZID=America/Chicago:20210325T174500
DTSTAMP:20260423T061142
CREATED:20210211T155529Z
LAST-MODIFIED:20210211T155529Z
UID:10001178-1616689800-1616694300@ynschoirs.org
SUMMARY:Aria - Virtual Rehearsal
DESCRIPTION:Aria – Virtual Rehearsal\nZoom – 4:30pm-5:45pm
URL:https://ynschoirs.org/calendar/aria-virtual-rehearsal-2/2021-03-25/
LOCATION:Zoom
CATEGORIES:Aria,Parents
END:VEVENT
BEGIN:VEVENT
DTSTART;TZID=America/Chicago:20210324T164500
DTEND;TZID=America/Chicago:20210324T174500
DTSTAMP:20260423T061142
CREATED:20210211T155242Z
LAST-MODIFIED:20210211T155242Z
UID:10001172-1616604300-1616607900@ynschoirs.org
SUMMARY:Primo - Virtual Rehearsal
DESCRIPTION:Primo – Virtual Rehearsal\nZoom – 4:45pm-5:45pm
URL:https://ynschoirs.org/calendar/primo-virtual-rehearsal-2/2021-03-24/
LOCATION:Zoom
CATEGORIES:Parents,Primo
END:VEVENT
BEGIN:VEVENT
DTSTART;TZID=America/Chicago:20210323T183000
DTEND;TZID=America/Chicago:20210323T194500
DTSTAMP:20260423T061142
CREATED:20210211T204045Z
LAST-MODIFIED:20210211T204045Z
UID:10001242-1616524200-1616528700@ynschoirs.org
SUMMARY:Canto Vivo - In-Person Rehearsal
DESCRIPTION:Canto Vivo – In-Person Rehearsal\nFaith Lutheran Church \n6:30pm-7:45pm
URL:https://ynschoirs.org/calendar/canto-vivo-in-person-rehearsal-3/
LOCATION:Faith Lutheran Church\, 3000 Liberty Street\, Aurora\, IL\, 60502
CATEGORIES:Canto Vivo,Parents
END:VEVENT
BEGIN:VEVENT
DTSTART;TZID=America/Chicago:20210323T183000
DTEND;TZID=America/Chicago:20210323T193000
DTSTAMP:20260423T061142
CREATED:20210212T013435Z
LAST-MODIFIED:20210301T181859Z
UID:10001271-1616524200-1616527800@ynschoirs.org
SUMMARY:Cantabile - Virtual Rehearsal
DESCRIPTION:Cantabile – Virtual Rehearsal\nZoom with Guest Artist Ta-Tynisa Wilson 6:30pm-7:30pm
URL:https://ynschoirs.org/calendar/cantabile-in-person-rehearsal-3/
LOCATION:Zoom
CATEGORIES:Cantabile,Parents
END:VEVENT
BEGIN:VEVENT
DTSTART;TZID=America/Chicago:20210323T181500
DTEND;TZID=America/Chicago:20210323T201500
DTSTAMP:20260423T061142
CREATED:20210211T201009Z
LAST-MODIFIED:20210211T201009Z
UID:10001196-1616523300-1616530500@ynschoirs.org
SUMMARY:BV - Virtual Rehearsal
DESCRIPTION:Bella Voce – Virtual Rehearsal\nZoom – 6:15pm-8:15pm
URL:https://ynschoirs.org/calendar/bv-virtual-rehearsal-6/
LOCATION:Zoom
CATEGORIES:Bella Voce,Parents
END:VEVENT
BEGIN:VEVENT
DTSTART;TZID=America/Chicago:20210323T164500
DTEND;TZID=America/Chicago:20210323T180000
DTSTAMP:20260423T061142
CREATED:20210211T202548Z
LAST-MODIFIED:20210211T202548Z
UID:10001202-1616517900-1616522400@ynschoirs.org
SUMMARY:Ragazzi - In-Person Rehearsal
DESCRIPTION:Ragazzi – In-Person Rehearsal\nFaith Lutheran Church \n4:45pm-6:00pm
URL:https://ynschoirs.org/calendar/ragazzi-in-person-rehearsal-3/
LOCATION:Faith Lutheran Church\, 3000 Liberty Street\, Aurora\, IL\, 60502
CATEGORIES:Parents,Ragazzi
END:VEVENT
BEGIN:VEVENT
DTSTART;TZID=America/Chicago:20210323T163000
DTEND;TZID=America/Chicago:20210323T174500
DTSTAMP:20260423T061142
CREATED:20210211T155804Z
LAST-MODIFIED:20210211T155804Z
UID:10001184-1616517000-1616521500@ynschoirs.org
SUMMARY:Brio - Virtual Rehearsal
DESCRIPTION:Brio – Virtual Rehearsal\nZoom – 4:30pm-5:45pm
URL:https://ynschoirs.org/calendar/brio-virtual-rehearsal-2/2021-03-23/
LOCATION:IL
CATEGORIES:Brio,Parents
END:VEVENT
BEGIN:VEVENT
DTSTART;TZID=America/Chicago:20210322T181500
DTEND;TZID=America/Chicago:20210322T201500
DTSTAMP:20260423T061142
CREATED:20210211T200515Z
LAST-MODIFIED:20210211T200515Z
UID:10001193-1616436900-1616444100@ynschoirs.org
SUMMARY:BC - Virtual Rehearsal
DESCRIPTION:BC – Virtual Rehearsal\nZoom – 6:15pm-8:15pm \nGuest Artist: Tracy Wong
URL:https://ynschoirs.org/calendar/bc-virtual-rehearsal-3/
LOCATION:Zoom
CATEGORIES:Bella Cantare,Parents
END:VEVENT
BEGIN:VEVENT
DTSTART;TZID=America/Chicago:20210322T164500
DTEND;TZID=America/Chicago:20210322T174500
DTSTAMP:20260423T061142
CREATED:20210211T160049Z
LAST-MODIFIED:20210211T160049Z
UID:10001190-1616431500-1616435100@ynschoirs.org
SUMMARY:Dolce - In-Person Rehearsal
DESCRIPTION:Dolce – In-Person Rehearsal\n4:45-5:45pm Allied First Bank
URL:https://ynschoirs.org/calendar/dolce-in-person-rehearsal-2/2021-03-22/
LOCATION:ServBank\, 3201 Orchard Road\, Oswego\, IL\, 60543
CATEGORIES:Dolce,Parents
END:VEVENT
BEGIN:VEVENT
DTSTART;TZID=America/Chicago:20210318T164500
DTEND;TZID=America/Chicago:20210318T183000
DTSTAMP:20260423T061142
CREATED:20210211T205025Z
LAST-MODIFIED:20210211T205025Z
UID:10001260-1616085900-1616092200@ynschoirs.org
SUMMARY:Brillante - In-Person Rehearsal
DESCRIPTION:Brillante – In-Person Rehearsal\nFaith Lutheran Church \nGroup One: 4:45pm-5:30pm    Group Two: 5:45pm-6:30pm
URL:https://ynschoirs.org/calendar/brillante-in-person-rehearsal-3/
LOCATION:Faith Lutheran Church\, 3000 Liberty Street\, Aurora\, IL\, 60502
CATEGORIES:Brillante,Parents
END:VEVENT
BEGIN:VEVENT
DTSTART;TZID=America/Chicago:20210318T163000
DTEND;TZID=America/Chicago:20210318T174500
DTSTAMP:20260423T061142
CREATED:20210211T155529Z
LAST-MODIFIED:20210211T155529Z
UID:10001177-1616085000-1616089500@ynschoirs.org
SUMMARY:Aria - Virtual Rehearsal
DESCRIPTION:Aria – Virtual Rehearsal\nZoom – 4:30pm-5:45pm
URL:https://ynschoirs.org/calendar/aria-virtual-rehearsal-2/2021-03-18/
LOCATION:Zoom
CATEGORIES:Aria,Parents
END:VEVENT
BEGIN:VEVENT
DTSTART;TZID=America/Chicago:20210317T164500
DTEND;TZID=America/Chicago:20210317T174500
DTSTAMP:20260423T061142
CREATED:20210211T155242Z
LAST-MODIFIED:20210211T155242Z
UID:10001171-1615999500-1616003100@ynschoirs.org
SUMMARY:Primo - Virtual Rehearsal
DESCRIPTION:Primo – Virtual Rehearsal\nZoom – 4:45pm-5:45pm
URL:https://ynschoirs.org/calendar/primo-virtual-rehearsal-2/2021-03-17/
LOCATION:Zoom
CATEGORIES:Parents,Primo
END:VEVENT
BEGIN:VEVENT
DTSTART;TZID=America/Chicago:20210316T183000
DTEND;TZID=America/Chicago:20210316T200000
DTSTAMP:20260423T061142
CREATED:20210211T203529Z
LAST-MODIFIED:20210211T203529Z
UID:10001227-1615919400-1615924800@ynschoirs.org
SUMMARY:Canto Vivo - Virtual Rehearsal
DESCRIPTION:Canto Vivo – Virtual Rehearsal\nZoom 6:30pm-8:00pm
URL:https://ynschoirs.org/calendar/canto-vivo-virtual-rehearsal-3/
LOCATION:Zoom
CATEGORIES:Canto Vivo,Parents
END:VEVENT
BEGIN:VEVENT
DTSTART;TZID=America/Chicago:20210316T174500
DTEND;TZID=America/Chicago:20210316T203000
DTSTAMP:20260423T061142
CREATED:20210211T201314Z
LAST-MODIFIED:20210211T201314Z
UID:10001199-1615916700-1615926600@ynschoirs.org
SUMMARY:BV - In-Person Rehearsal
DESCRIPTION:Bella Voce – In-Person Rehearsal\nCalvary Church \nGroup One: 5:45-7:00pm    Group Two: 7:15pm-8:30pm
URL:https://ynschoirs.org/calendar/bv-in-person-rehearsal-2/
LOCATION:IL
CATEGORIES:Bella Voce,Parents
END:VEVENT
BEGIN:VEVENT
DTSTART;TZID=America/Chicago:20210316T173000
DTEND;TZID=America/Chicago:20210316T193000
DTSTAMP:20260423T061142
CREATED:20210212T013740Z
LAST-MODIFIED:20210301T182821Z
UID:10001277-1615915800-1615923000@ynschoirs.org
SUMMARY:Cantabile - In-Person Rehearsal
DESCRIPTION:Cantabile – In-Person Rehearsal\nNEW LOCATION! Faith Lutheran Church \nGROUP ONE: 5:30-6:45pm   GROUP TWO: 6:15-7:30pm \n 
URL:https://ynschoirs.org/calendar/cantabile-virtual-rehearsal-7/
LOCATION:Faith Lutheran Church\, 3000 Liberty Street\, Aurora\, IL\, 60502
CATEGORIES:Cantabile,Parents
END:VEVENT
BEGIN:VEVENT
DTSTART;TZID=America/Chicago:20210316T164500
DTEND;TZID=America/Chicago:20210316T181500
DTSTAMP:20260423T061142
CREATED:20210211T202916Z
LAST-MODIFIED:20210211T202916Z
UID:10001208-1615913100-1615918500@ynschoirs.org
SUMMARY:Ragazzi - Virtual Rehearsal
DESCRIPTION:Ragazzi – Virtual Rehearsal\nZoom 4:45pm-6:15pm
URL:https://ynschoirs.org/calendar/ragazzi-virtual-rehearsal-7/
LOCATION:Zoom
CATEGORIES:Parents,Ragazzi
END:VEVENT
BEGIN:VEVENT
DTSTART;TZID=America/Chicago:20210316T164500
DTEND;TZID=America/Chicago:20210316T173000
DTSTAMP:20260423T061142
CREATED:20210301T183420Z
LAST-MODIFIED:20210301T183420Z
UID:10001279-1615913100-1615915800@ynschoirs.org
SUMMARY:Primo/Brio Combined In-Person Rehearsal
DESCRIPTION:Primo/Brio Combined In-Person Rehearsal\nCalvary Church 4:45pm-5:30pm  Enter at Door 7.
URL:https://ynschoirs.org/calendar/primo-brio-combined-in-person-rehearsal/
LOCATION:Calvary Church\, 9S200 Illinois Route 59\, Naperville\, IL\, 60564
CATEGORIES:Brio,Parents,Primo
END:VEVENT
BEGIN:VEVENT
DTSTART;TZID=America/Chicago:20210315T174500
DTEND;TZID=America/Chicago:20210315T203000
DTSTAMP:20260423T061142
CREATED:20210210T185408Z
LAST-MODIFIED:20210210T185526Z
UID:10001165-1615830300-1615840200@ynschoirs.org
SUMMARY:BC In-Person Rehearsal
DESCRIPTION:Bella Cantare In-Person Rehearsal\nCalvary Church \nGroup 1: 5:45pm-7:00pm    Group 2: 7:15pm-8:30pm
URL:https://ynschoirs.org/calendar/bc-in-person-rehearsal/2021-03-15/
LOCATION:Calvary Church\, 9S200 Illinois Route 59\, Naperville\, IL\, 60564
CATEGORIES:Bella Cantare,Parents
END:VEVENT
BEGIN:VEVENT
DTSTART;TZID=America/Chicago:20210315T164500
DTEND;TZID=America/Chicago:20210315T174500
DTSTAMP:20260423T061142
CREATED:20210211T160049Z
LAST-MODIFIED:20210211T160049Z
UID:10001189-1615826700-1615830300@ynschoirs.org
SUMMARY:Dolce - In-Person Rehearsal
DESCRIPTION:Dolce – In-Person Rehearsal\n4:45-5:45pm Allied First Bank
URL:https://ynschoirs.org/calendar/dolce-in-person-rehearsal-2/2021-03-15/
LOCATION:ServBank\, 3201 Orchard Road\, Oswego\, IL\, 60543
CATEGORIES:Dolce,Parents
END:VEVENT
END:VCALENDAR