BEGIN:VCALENDAR
VERSION:2.0
PRODID:-//Young Naperville Singers - ECPv6.8.0//NONSGML v1.0//EN
CALSCALE:GREGORIAN
METHOD:PUBLISH
X-WR-CALNAME:Young Naperville Singers
X-ORIGINAL-URL:https://ynschoirs.org
X-WR-CALDESC:Events for Young Naperville Singers
REFRESH-INTERVAL;VALUE=DURATION:PT1H
X-Robots-Tag:noindex
X-PUBLISHED-TTL:PT1H
BEGIN:VTIMEZONE
TZID:America/Chicago
BEGIN:DAYLIGHT
TZOFFSETFROM:-0600
TZOFFSETTO:-0500
TZNAME:CDT
DTSTART:20200308T080000
END:DAYLIGHT
BEGIN:STANDARD
TZOFFSETFROM:-0500
TZOFFSETTO:-0600
TZNAME:CST
DTSTART:20201101T070000
END:STANDARD
END:VTIMEZONE
BEGIN:VEVENT
DTSTART;TZID=America/Chicago:20201201T183000
DTEND;TZID=America/Chicago:20201201T201500
DTSTAMP:20260425T115359
CREATED:20200923T135200Z
LAST-MODIFIED:20201022T145350Z
UID:10001113-1606847400-1606853700@ynschoirs.org
SUMMARY:CV Virtual Rehearsal
DESCRIPTION:CV Virtual Rehearsal\n6:30pm-8:15pm Zoom
URL:https://ynschoirs.org/calendar/cv-virtual-rehearsal-4/2020-12-01/
LOCATION:Zoom
CATEGORIES:Canto Vivo,Parents
END:VEVENT
BEGIN:VEVENT
DTSTART;TZID=America/Chicago:20201201T183000
DTEND;TZID=America/Chicago:20201201T200000
DTSTAMP:20260425T115359
CREATED:20200922T195143Z
LAST-MODIFIED:20201110T174355Z
UID:10001033-1606847400-1606852800@ynschoirs.org
SUMMARY:Cantabile Virtual Rehearsal
DESCRIPTION:Cantabile Virtual Rehearsal\n6:30pm-8:00pm Zoom
URL:https://ynschoirs.org/calendar/cantabile-virtual-rehearsal-3/2020-12-01/
LOCATION:Zoom
CATEGORIES:Cantabile,Parents
END:VEVENT
BEGIN:VEVENT
DTSTART;TZID=America/Chicago:20201201T181500
DTEND;TZID=America/Chicago:20201201T201500
DTSTAMP:20260425T115359
CREATED:20201116T221027Z
LAST-MODIFIED:20201116T221027Z
UID:10001160-1606846500-1606853700@ynschoirs.org
SUMMARY:BV Virtual Rehearsal
DESCRIPTION:BV Virtual Rehearsal\n6:15-8:15pm Zoom
URL:https://ynschoirs.org/calendar/bv-virtual-rehearsal-3/2020-12-01/
LOCATION:Zoom
CATEGORIES:Bella Voce,Parents
END:VEVENT
BEGIN:VEVENT
DTSTART;TZID=America/Chicago:20201201T164500
DTEND;TZID=America/Chicago:20201201T181500
DTSTAMP:20260425T115359
CREATED:20200923T134830Z
LAST-MODIFIED:20201022T145545Z
UID:10001111-1606841100-1606846500@ynschoirs.org
SUMMARY:Ragazzi Virtual Rehearsal
DESCRIPTION:Ragazzi Virtual Rehearsal\n4:45pm-6:15pm Zoom
URL:https://ynschoirs.org/calendar/ragazzi-virtual-rehearsal-4/2020-12-01/
LOCATION:Zoom
CATEGORIES:Parents,Ragazzi
END:VEVENT
BEGIN:VEVENT
DTSTART;TZID=America/Chicago:20201201T163000
DTEND;TZID=America/Chicago:20201201T174500
DTSTAMP:20260425T115359
CREATED:20200923T131445Z
LAST-MODIFIED:20200923T133002Z
UID:10001096-1606840200-1606844700@ynschoirs.org
SUMMARY:Brio Virtual Rehearsal
DESCRIPTION:Brio Virtual Rehearsal\n4:30pm-5:45pm Zoom
URL:https://ynschoirs.org/calendar/brio-virtual-rehearsal/2020-12-01/
LOCATION:Zoom
CATEGORIES:Brio,Parents
END:VEVENT
BEGIN:VEVENT
DTSTART;TZID=America/Chicago:20201130T181500
DTEND;TZID=America/Chicago:20201130T201500
DTSTAMP:20260425T115359
CREATED:20200923T140100Z
LAST-MODIFIED:20200923T140100Z
UID:10001117-1606760100-1606767300@ynschoirs.org
SUMMARY:BC Virtual Rehearsal
DESCRIPTION:BC Virtual Rehearsal\n6:15pm-8:15pm Zoom
URL:https://ynschoirs.org/calendar/bc-virtual-rehearsal-2/2020-11-30/
LOCATION:Zoom
CATEGORIES:Bella Cantare,Parents
END:VEVENT
BEGIN:VEVENT
DTSTART;TZID=America/Chicago:20201130T080000
DTEND;TZID=America/Chicago:20201130T170000
DTSTAMP:20260425T115359
CREATED:20200923T133346Z
LAST-MODIFIED:20200923T133346Z
UID:10001109-1606723200-1606755600@ynschoirs.org
SUMMARY:Dolce Virtual Rehearsal
DESCRIPTION:Dolce Virtual Rehearsal\n4:45pm-5:45pm Zoom
URL:https://ynschoirs.org/calendar/dolce-virtual-rehearsal/2020-11-30/
LOCATION:Zoom
CATEGORIES:Dolce,Parents
END:VEVENT
BEGIN:VEVENT
DTSTART;VALUE=DATE:20201126
DTEND;VALUE=DATE:20201127
DTSTAMP:20260425T115359
CREATED:20200923T141241Z
LAST-MODIFIED:20200923T141241Z
UID:10001121-1606348800-1606435199@ynschoirs.org
SUMMARY:Brillante No Rehearsal
DESCRIPTION:Brillante No Rehearsal\nThanksgiving
URL:https://ynschoirs.org/calendar/brillante-no-rehearsal/
LOCATION:IL
CATEGORIES:Brillante,Parents
END:VEVENT
BEGIN:VEVENT
DTSTART;VALUE=DATE:20201126
DTEND;VALUE=DATE:20201127
DTSTAMP:20260425T115359
CREATED:20200923T141134Z
LAST-MODIFIED:20200923T141134Z
UID:10001120-1606348800-1606435199@ynschoirs.org
SUMMARY:Aria No Rehearsal
DESCRIPTION:Aria No Rehearsal\nThanksgiving
URL:https://ynschoirs.org/calendar/aria-no-rehearsal/
LOCATION:IL
CATEGORIES:Aria,Parents
END:VEVENT
BEGIN:VEVENT
DTSTART;VALUE=DATE:20201125
DTEND;VALUE=DATE:20201126
DTSTAMP:20260425T115359
CREATED:20200923T141054Z
LAST-MODIFIED:20200923T141054Z
UID:10001119-1606262400-1606348799@ynschoirs.org
SUMMARY:Primo No Rehearsal
DESCRIPTION:Primo No Rehearsal\nThanksgiving
URL:https://ynschoirs.org/calendar/primo-no-rehearsal/
LOCATION:IL
CATEGORIES:Parents,Primo
END:VEVENT
BEGIN:VEVENT
DTSTART;VALUE=DATE:20201124
DTEND;VALUE=DATE:20201125
DTSTAMP:20260425T115359
CREATED:20201022T150047Z
LAST-MODIFIED:20201022T150047Z
UID:10001141-1606176000-1606262399@ynschoirs.org
SUMMARY:Canto Vivo - No Rehearsal
DESCRIPTION:Canto Vivo – No Rehearsal\nThanksgiving
URL:https://ynschoirs.org/calendar/canto-vivo-no-rehearsal/
LOCATION:IL
CATEGORIES:Canto Vivo,Parents
END:VEVENT
BEGIN:VEVENT
DTSTART;VALUE=DATE:20201124
DTEND;VALUE=DATE:20201125
DTSTAMP:20260425T115359
CREATED:20201022T145959Z
LAST-MODIFIED:20201022T145959Z
UID:10001139-1606176000-1606262399@ynschoirs.org
SUMMARY:Brio - No Rehearsal
DESCRIPTION:Brio – No Rehearsal\nThanksgiving
URL:https://ynschoirs.org/calendar/brio-no-rehearsal/
LOCATION:IL
CATEGORIES:Brio,Parents
END:VEVENT
BEGIN:VEVENT
DTSTART;VALUE=DATE:20201124
DTEND;VALUE=DATE:20201125
DTSTAMP:20260425T115359
CREATED:20201022T145921Z
LAST-MODIFIED:20201022T145921Z
UID:10001136-1606176000-1606262399@ynschoirs.org
SUMMARY:Ragazzi - No Rehearsal
DESCRIPTION:Ragazzi – No Rehearsal\nThanksgiving
URL:https://ynschoirs.org/calendar/ragazzi-no-rehearsal/
LOCATION:IL
CATEGORIES:Parents,Ragazzi
END:VEVENT
BEGIN:VEVENT
DTSTART;VALUE=DATE:20201124
DTEND;VALUE=DATE:20201125
DTSTAMP:20260425T115359
CREATED:20201022T145831Z
LAST-MODIFIED:20201022T145831Z
UID:10001134-1606176000-1606262399@ynschoirs.org
SUMMARY:Cantabile - No Rehearsal
DESCRIPTION:Cantabile – No Rehearsal\nThanksgiving
URL:https://ynschoirs.org/calendar/cantabile-no-rehearsal/
LOCATION:IL
CATEGORIES:Cantabile,Parents
END:VEVENT
BEGIN:VEVENT
DTSTART;VALUE=DATE:20201124
DTEND;VALUE=DATE:20201125
DTSTAMP:20260425T115359
CREATED:20201022T145742Z
LAST-MODIFIED:20201022T145742Z
UID:10001133-1606176000-1606262399@ynschoirs.org
SUMMARY:Bella Voce - No Rehearsal
DESCRIPTION:Bella Voce – No Rehearsal\nThanksgiving
URL:https://ynschoirs.org/calendar/bella-voce-no-rehearsal/
LOCATION:IL
CATEGORIES:Bella Voce,Parents
END:VEVENT
BEGIN:VEVENT
DTSTART;TZID=America/Chicago:20201123T181500
DTEND;TZID=America/Chicago:20201123T201500
DTSTAMP:20260425T115359
CREATED:20200923T140100Z
LAST-MODIFIED:20200923T140100Z
UID:10001116-1606155300-1606162500@ynschoirs.org
SUMMARY:BC Virtual Rehearsal
DESCRIPTION:BC Virtual Rehearsal\n6:15pm-8:15pm Zoom
URL:https://ynschoirs.org/calendar/bc-virtual-rehearsal-2/2020-11-23/
LOCATION:Zoom
CATEGORIES:Bella Cantare,Parents
END:VEVENT
BEGIN:VEVENT
DTSTART;TZID=America/Chicago:20201123T080000
DTEND;TZID=America/Chicago:20201123T170000
DTSTAMP:20260425T115359
CREATED:20200923T133346Z
LAST-MODIFIED:20200923T133346Z
UID:10001108-1606118400-1606150800@ynschoirs.org
SUMMARY:Dolce Virtual Rehearsal
DESCRIPTION:Dolce Virtual Rehearsal\n4:45pm-5:45pm Zoom
URL:https://ynschoirs.org/calendar/dolce-virtual-rehearsal/2020-11-23/
LOCATION:Zoom
CATEGORIES:Dolce,Parents
END:VEVENT
BEGIN:VEVENT
DTSTART;TZID=America/Chicago:20201119T163000
DTEND;TZID=America/Chicago:20201119T180000
DTSTAMP:20260425T115359
CREATED:20200923T121453Z
LAST-MODIFIED:20200923T133201Z
UID:10001065-1605803400-1605808800@ynschoirs.org
SUMMARY:Brillante Virtual Rehearsal
DESCRIPTION:Brillante Virtual Rehearsal\n4:30pm-6:00pm Zoom
URL:https://ynschoirs.org/calendar/brillante-virtual-rehearsal/2020-11-19/
LOCATION:Zoom
CATEGORIES:Brillante,Parents
END:VEVENT
BEGIN:VEVENT
DTSTART;TZID=America/Chicago:20201119T163000
DTEND;TZID=America/Chicago:20201119T174500
DTSTAMP:20260425T115359
CREATED:20200923T130322Z
LAST-MODIFIED:20200923T132902Z
UID:10001087-1605803400-1605807900@ynschoirs.org
SUMMARY:Aria Virtual Rehearsal
DESCRIPTION:Aria Virtual Rehearsal\n4:30pm-5:45pm Zoom
URL:https://ynschoirs.org/calendar/aria-virtual-rehearsal/2020-11-19/
LOCATION:Zoom
CATEGORIES:Aria,Parents
END:VEVENT
BEGIN:VEVENT
DTSTART;TZID=America/Chicago:20201118T190000
DTEND;TZID=America/Chicago:20201118T200000
DTSTAMP:20260425T115359
CREATED:20200922T201115Z
LAST-MODIFIED:20200922T201115Z
UID:10001045-1605726000-1605729600@ynschoirs.org
SUMMARY:Leading Edge
DESCRIPTION:Leading Edge\n7:00pm Zoom (see your choir page in the YNS Portal)
URL:https://ynschoirs.org/calendar/leading-edge-3/
LOCATION:Zoom
CATEGORIES:Parents
END:VEVENT
BEGIN:VEVENT
DTSTART;TZID=America/Chicago:20201118T164500
DTEND;TZID=America/Chicago:20201118T174500
DTSTAMP:20260425T115359
CREATED:20200923T132547Z
LAST-MODIFIED:20200923T132547Z
UID:10001104-1605717900-1605721500@ynschoirs.org
SUMMARY:Primo Virtual Rehearsal
DESCRIPTION:Primo Virtual Rehearsal\n4:45pm-5:45pm Zoom
URL:https://ynschoirs.org/calendar/primo-virtual-rehearsal/2020-11-18/
LOCATION:Zoom
CATEGORIES:Parents,Primo
END:VEVENT
BEGIN:VEVENT
DTSTART;TZID=America/Chicago:20201117T183000
DTEND;TZID=America/Chicago:20201117T201500
DTSTAMP:20260425T115359
CREATED:20200922T173037Z
LAST-MODIFIED:20201116T220534Z
UID:10001025-1605637800-1605644100@ynschoirs.org
SUMMARY:CV Virtual Rehearsal
DESCRIPTION:CV Virtual Rehearsal\n6:30pm-8:00pm Zoom
URL:https://ynschoirs.org/calendar/cv-live-rehearsal-3/
LOCATION:Zoom
CATEGORIES:Canto Vivo,Parents
END:VEVENT
BEGIN:VEVENT
DTSTART;TZID=America/Chicago:20201117T183000
DTEND;TZID=America/Chicago:20201117T200000
DTSTAMP:20260425T115359
CREATED:20200922T195143Z
LAST-MODIFIED:20201110T174355Z
UID:10001032-1605637800-1605643200@ynschoirs.org
SUMMARY:Cantabile Virtual Rehearsal
DESCRIPTION:Cantabile Virtual Rehearsal\n6:30pm-8:00pm Zoom
URL:https://ynschoirs.org/calendar/cantabile-virtual-rehearsal-3/2020-11-17/
LOCATION:Zoom
CATEGORIES:Cantabile,Parents
END:VEVENT
BEGIN:VEVENT
DTSTART;TZID=America/Chicago:20201117T181500
DTEND;TZID=America/Chicago:20201117T201500
DTSTAMP:20260425T115359
CREATED:20200923T135656Z
LAST-MODIFIED:20201116T220727Z
UID:10001115-1605636900-1605644100@ynschoirs.org
SUMMARY:BV Virtual Rehearsal
DESCRIPTION:BV Virtual Rehearsal\n6:15pm-8:15pm Zoom
URL:https://ynschoirs.org/calendar/bv-virtual-rehearsal/
LOCATION:Zoom
CATEGORIES:Bella Voce,Parents
END:VEVENT
BEGIN:VEVENT
DTSTART;TZID=America/Chicago:20201117T164500
DTEND;TZID=America/Chicago:20201117T181500
DTSTAMP:20260425T115359
CREATED:20200922T205501Z
LAST-MODIFIED:20201116T220105Z
UID:10001051-1605631500-1605636900@ynschoirs.org
SUMMARY:Ragazzi Virtual Rehearsal
DESCRIPTION:Ragazzi Virtual Rehearsal\n4:45pm-6:15pm Zoom \n 
URL:https://ynschoirs.org/calendar/ragazzi-live-rehearsal-3/
LOCATION:Zoom
CATEGORIES:Parents,Ragazzi
END:VEVENT
BEGIN:VEVENT
DTSTART;TZID=America/Chicago:20201117T163000
DTEND;TZID=America/Chicago:20201117T174500
DTSTAMP:20260425T115359
CREATED:20200923T131445Z
LAST-MODIFIED:20200923T133002Z
UID:10001095-1605630600-1605635100@ynschoirs.org
SUMMARY:Brio Virtual Rehearsal
DESCRIPTION:Brio Virtual Rehearsal\n4:30pm-5:45pm Zoom
URL:https://ynschoirs.org/calendar/brio-virtual-rehearsal/2020-11-17/
LOCATION:Zoom
CATEGORIES:Brio,Parents
END:VEVENT
BEGIN:VEVENT
DTSTART;TZID=America/Chicago:20201116T181500
DTEND;TZID=America/Chicago:20201116T201500
DTSTAMP:20260425T115359
CREATED:20200922T155722Z
LAST-MODIFIED:20200922T155722Z
UID:10001013-1605550500-1605557700@ynschoirs.org
SUMMARY:BV/BC Elaine Hagenberg Masterclass
DESCRIPTION:BV/BC Elaine Hagenberg Masterclass\nSingers – Use the Bella Cantare Zoom link to enter this Masterclass \nBella Cantare – 6:15pm-8:15pm (normal rehearsal time) \nBella Voce – 6:15pm-7:30pm
URL:https://ynschoirs.org/calendar/bv-bc-elaine-hagenberg-masterclass/
LOCATION:Zoom
CATEGORIES:Bella Cantare,Bella Voce,Parents
END:VEVENT
BEGIN:VEVENT
DTSTART;TZID=America/Chicago:20201116T164500
DTEND;TZID=America/Chicago:20201116T174500
DTSTAMP:20260425T115359
CREATED:20200923T124536Z
LAST-MODIFIED:20200923T124536Z
UID:10001079-1605545100-1605548700@ynschoirs.org
SUMMARY:Dolce Live Rehearsal
DESCRIPTION:Dolce Live Rehearsal\n4:45pm-5:45pm  Allied Bank
URL:https://ynschoirs.org/calendar/dolce-live-rehearsal/2020-11-16/
LOCATION:ServBank\, 3201 Orchard Road\, Oswego\, IL\, 60543
CATEGORIES:Dolce,Parents
END:VEVENT
BEGIN:VEVENT
DTSTART;TZID=America/Chicago:20201112T163000
DTEND;TZID=America/Chicago:20201112T180000
DTSTAMP:20260425T115359
CREATED:20200923T121453Z
LAST-MODIFIED:20200923T133201Z
UID:10001064-1605198600-1605204000@ynschoirs.org
SUMMARY:Brillante Virtual Rehearsal
DESCRIPTION:Brillante Virtual Rehearsal\n4:30pm-6:00pm Zoom
URL:https://ynschoirs.org/calendar/brillante-virtual-rehearsal/2020-11-12/
LOCATION:Zoom
CATEGORIES:Brillante,Parents
END:VEVENT
BEGIN:VEVENT
DTSTART;TZID=America/Chicago:20201112T163000
DTEND;TZID=America/Chicago:20201112T174500
DTSTAMP:20260425T115359
CREATED:20200923T130322Z
LAST-MODIFIED:20200923T132902Z
UID:10001086-1605198600-1605203100@ynschoirs.org
SUMMARY:Aria Virtual Rehearsal
DESCRIPTION:Aria Virtual Rehearsal\n4:30pm-5:45pm Zoom
URL:https://ynschoirs.org/calendar/aria-virtual-rehearsal/2020-11-12/
LOCATION:Zoom
CATEGORIES:Aria,Parents
END:VEVENT
END:VCALENDAR