BEGIN:VCALENDAR
VERSION:2.0
PRODID:-//Young Naperville Singers - ECPv6.8.0//NONSGML v1.0//EN
CALSCALE:GREGORIAN
METHOD:PUBLISH
X-WR-CALNAME:Young Naperville Singers
X-ORIGINAL-URL:https://ynschoirs.org
X-WR-CALDESC:Events for Young Naperville Singers
REFRESH-INTERVAL;VALUE=DURATION:PT1H
X-Robots-Tag:noindex
X-PUBLISHED-TTL:PT1H
BEGIN:VTIMEZONE
TZID:America/Chicago
BEGIN:DAYLIGHT
TZOFFSETFROM:-0600
TZOFFSETTO:-0500
TZNAME:CDT
DTSTART:20230312T080000
END:DAYLIGHT
BEGIN:STANDARD
TZOFFSETFROM:-0500
TZOFFSETTO:-0600
TZNAME:CST
DTSTART:20231105T070000
END:STANDARD
END:VTIMEZONE
BEGIN:VEVENT
DTSTART;TZID=America/Chicago:20230404T164500
DTEND;TZID=America/Chicago:20230404T181500
DTSTAMP:20260419T104222
CREATED:20230110T202301Z
LAST-MODIFIED:20230110T202301Z
UID:10001922-1680626700-1680632100@ynschoirs.org
SUMMARY:Ragazzi Rehearsal
DESCRIPTION:Community Concert Center
URL:https://ynschoirs.org/calendar/ragazzi-rehearsal-5/2023-04-04/
LOCATION:Community Concert Center\, 55 Concert Lane\, Naperville\, IL\, 60540
CATEGORIES:Parents,Ragazzi
END:VEVENT
BEGIN:VEVENT
DTSTART;TZID=America/Chicago:20230404T163000
DTEND;TZID=America/Chicago:20230404T174500
DTSTAMP:20260419T104222
CREATED:20230110T201548Z
LAST-MODIFIED:20230405T174644Z
UID:10001891-1680625800-1680630300@ynschoirs.org
SUMMARY:Brio Rehearsal
DESCRIPTION:Community Concert Center
URL:https://ynschoirs.org/calendar/brio-rehearsal-5/2023-04-04/
LOCATION:Community Concert Center\, 55 Concert Lane\, Naperville\, IL\, 60540
CATEGORIES:Brio,Parents
END:VEVENT
BEGIN:VEVENT
DTSTART;TZID=America/Chicago:20230403T181500
DTEND;TZID=America/Chicago:20230403T201500
DTSTAMP:20260419T104222
CREATED:20230110T191334Z
LAST-MODIFIED:20230110T191334Z
UID:10001826-1680545700-1680552900@ynschoirs.org
SUMMARY:Bella Cantare Rehearsal
DESCRIPTION:Our Saviour’s Lutheran Church
URL:https://ynschoirs.org/calendar/bella-cantare-rehearsal-5/2023-04-03/
LOCATION:Our Saviour’s Lutheran Church\, 815 S. Washington Street\, Naperville\, IL\, 60540
CATEGORIES:Bella Cantare,Parents
END:VEVENT
BEGIN:VEVENT
DTSTART;TZID=America/Chicago:20230403T181500
DTEND;TZID=America/Chicago:20230403T200000
DTSTAMP:20260419T104222
CREATED:20230110T191952Z
LAST-MODIFIED:20230110T191952Z
UID:10001841-1680545700-1680552000@ynschoirs.org
SUMMARY:Canto Vivo Rehearsal
DESCRIPTION:Our Saviour’s Lutheran Church
URL:https://ynschoirs.org/calendar/canto-vivo-rehearsal-4/2023-04-03/
LOCATION:Our Saviour’s Lutheran Church\, 815 S. Washington Street\, Naperville\, IL\, 60540
CATEGORIES:Canto Vivo,Parents
END:VEVENT
BEGIN:VEVENT
DTSTART;TZID=America/Chicago:20230403T164500
DTEND;TZID=America/Chicago:20230403T174500
DTSTAMP:20260419T104222
CREATED:20230110T195652Z
LAST-MODIFIED:20230313T152848Z
UID:10001857-1680540300-1680543900@ynschoirs.org
SUMMARY:Dolce Rehearsal
DESCRIPTION:Allied First Bank – Oswego
URL:https://ynschoirs.org/calendar/dolce-rehearsal-6/2023-04-03/
LOCATION:ServBank\, 3201 Orchard Road\, Oswego\, IL\, 60543
CATEGORIES:Dolce,Parents
END:VEVENT
BEGIN:VEVENT
DTSTART;VALUE=DATE:20230327
DTEND;VALUE=DATE:20230401
DTSTAMP:20260419T104222
CREATED:20230110T202549Z
LAST-MODIFIED:20230110T202549Z
UID:10001929-1679875200-1680307199@ynschoirs.org
SUMMARY:Spring Break - No Rehearsals
DESCRIPTION:No Rehearsals for any choirs this week – Spring Break
URL:https://ynschoirs.org/calendar/spring-break-no-rehearsals/
LOCATION:IL
CATEGORIES:Aria,Bella Cantare,Bella Voce,Brillante,Brio,Cantabile,Canto Vivo,Dolce,Parents,Primo,Ragazzi
END:VEVENT
BEGIN:VEVENT
DTSTART;TZID=America/Chicago:20230323T170000
DTEND;TZID=America/Chicago:20230323T181500
DTSTAMP:20260419T104222
CREATED:20230110T203316Z
LAST-MODIFIED:20230405T174033Z
UID:10001970-1679590800-1679595300@ynschoirs.org
SUMMARY:Aria Rehearsal
DESCRIPTION:Community Concert Center
URL:https://ynschoirs.org/calendar/aria-rehearsal-5/2023-03-23/
LOCATION:Community Concert Center\, 55 Concert Lane\, Naperville\, IL\, 60540
CATEGORIES:Aria,Parents
END:VEVENT
BEGIN:VEVENT
DTSTART;TZID=America/Chicago:20230323T164500
DTEND;TZID=America/Chicago:20230323T174500
DTSTAMP:20260419T104222
CREATED:20230110T203022Z
LAST-MODIFIED:20230405T174125Z
UID:10001939-1679589900-1679593500@ynschoirs.org
SUMMARY:Primo Thursday Rehearsal
DESCRIPTION:Our Saviour’s Lutheran Church
URL:https://ynschoirs.org/calendar/primo-thursday-rehearsal/2023-03-23/
LOCATION:Our Saviour’s Lutheran Church\, 815 S. Washington Street\, Naperville\, IL\, 60540
CATEGORIES:Parents,Primo
END:VEVENT
BEGIN:VEVENT
DTSTART;TZID=America/Chicago:20230323T163000
DTEND;TZID=America/Chicago:20230323T180000
DTSTAMP:20260419T104222
CREATED:20230110T203434Z
LAST-MODIFIED:20230110T203434Z
UID:10001986-1679589000-1679594400@ynschoirs.org
SUMMARY:Brillante Rehearsal
DESCRIPTION:Community Concert Center
URL:https://ynschoirs.org/calendar/brillante-rehearsal-5/2023-03-23/
LOCATION:Community Concert Center\, 55 Concert Lane\, Naperville\, IL\, 60540
CATEGORIES:Brillante,Parents
END:VEVENT
BEGIN:VEVENT
DTSTART;TZID=America/Chicago:20230322T164500
DTEND;TZID=America/Chicago:20230322T174500
DTSTAMP:20260419T104222
CREATED:20230110T202854Z
LAST-MODIFIED:20230405T174223Z
UID:10001954-1679503500-1679507100@ynschoirs.org
SUMMARY:Primo Wednesday Rehearsal
DESCRIPTION:Community Concert Center
URL:https://ynschoirs.org/calendar/primo-wednesday-rehearsal/2023-03-22/
LOCATION:Community Concert Center\, 55 Concert Lane\, Naperville\, IL\, 60540
CATEGORIES:Parents,Primo
END:VEVENT
BEGIN:VEVENT
DTSTART;TZID=America/Chicago:20230321T183000
DTEND;TZID=America/Chicago:20230321T200000
DTSTAMP:20260419T104222
CREATED:20230110T201710Z
LAST-MODIFIED:20230110T201710Z
UID:10001905-1679423400-1679428800@ynschoirs.org
SUMMARY:Cantabile Rehearsal
DESCRIPTION:Community Concert Center
URL:https://ynschoirs.org/calendar/cantabile-rehearsal-5/2023-03-21/
LOCATION:Community Concert Center\, 55 Concert Lane\, Naperville\, IL\, 60540
CATEGORIES:Cantabile,Parents
END:VEVENT
BEGIN:VEVENT
DTSTART;TZID=America/Chicago:20230321T181500
DTEND;TZID=America/Chicago:20230321T201500
DTSTAMP:20260419T104222
CREATED:20230110T200915Z
LAST-MODIFIED:20230110T200915Z
UID:10001874-1679422500-1679429700@ynschoirs.org
SUMMARY:Bella Voce Rehearsal
DESCRIPTION:Community Concert Center
URL:https://ynschoirs.org/calendar/bella-voce-rehearsal-5/2023-03-21/
LOCATION:Community Concert Center\, 55 Concert Lane\, Naperville\, IL\, 60540
CATEGORIES:Bella Voce,Parents
END:VEVENT
BEGIN:VEVENT
DTSTART;TZID=America/Chicago:20230321T164500
DTEND;TZID=America/Chicago:20230321T181500
DTSTAMP:20260419T104222
CREATED:20230110T202301Z
LAST-MODIFIED:20230110T202301Z
UID:10001921-1679417100-1679422500@ynschoirs.org
SUMMARY:Ragazzi Rehearsal
DESCRIPTION:Community Concert Center
URL:https://ynschoirs.org/calendar/ragazzi-rehearsal-5/2023-03-21/
LOCATION:Community Concert Center\, 55 Concert Lane\, Naperville\, IL\, 60540
CATEGORIES:Parents,Ragazzi
END:VEVENT
BEGIN:VEVENT
DTSTART;TZID=America/Chicago:20230321T163000
DTEND;TZID=America/Chicago:20230321T174500
DTSTAMP:20260419T104222
CREATED:20230110T201548Z
LAST-MODIFIED:20230405T174644Z
UID:10001890-1679416200-1679420700@ynschoirs.org
SUMMARY:Brio Rehearsal
DESCRIPTION:Community Concert Center
URL:https://ynschoirs.org/calendar/brio-rehearsal-5/2023-03-21/
LOCATION:Community Concert Center\, 55 Concert Lane\, Naperville\, IL\, 60540
CATEGORIES:Brio,Parents
END:VEVENT
BEGIN:VEVENT
DTSTART;TZID=America/Chicago:20230320T181500
DTEND;TZID=America/Chicago:20230320T201500
DTSTAMP:20260419T104222
CREATED:20230110T191334Z
LAST-MODIFIED:20230110T191334Z
UID:10001825-1679336100-1679343300@ynschoirs.org
SUMMARY:Bella Cantare Rehearsal
DESCRIPTION:Our Saviour’s Lutheran Church
URL:https://ynschoirs.org/calendar/bella-cantare-rehearsal-5/2023-03-20/
LOCATION:Our Saviour’s Lutheran Church\, 815 S. Washington Street\, Naperville\, IL\, 60540
CATEGORIES:Bella Cantare,Parents
END:VEVENT
BEGIN:VEVENT
DTSTART;TZID=America/Chicago:20230320T181500
DTEND;TZID=America/Chicago:20230320T200000
DTSTAMP:20260419T104222
CREATED:20230110T191952Z
LAST-MODIFIED:20230110T191952Z
UID:10001840-1679336100-1679342400@ynschoirs.org
SUMMARY:Canto Vivo Rehearsal
DESCRIPTION:Our Saviour’s Lutheran Church
URL:https://ynschoirs.org/calendar/canto-vivo-rehearsal-4/2023-03-20/
LOCATION:Our Saviour’s Lutheran Church\, 815 S. Washington Street\, Naperville\, IL\, 60540
CATEGORIES:Canto Vivo,Parents
END:VEVENT
BEGIN:VEVENT
DTSTART;TZID=America/Chicago:20230320T164500
DTEND;TZID=America/Chicago:20230320T174500
DTSTAMP:20260419T104222
CREATED:20230110T195652Z
LAST-MODIFIED:20230313T152848Z
UID:10001856-1679330700-1679334300@ynschoirs.org
SUMMARY:Dolce Rehearsal
DESCRIPTION:Allied First Bank – Oswego
URL:https://ynschoirs.org/calendar/dolce-rehearsal-6/2023-03-20/
LOCATION:ServBank\, 3201 Orchard Road\, Oswego\, IL\, 60543
CATEGORIES:Dolce,Parents
END:VEVENT
BEGIN:VEVENT
DTSTART;TZID=America/Chicago:20230316T170000
DTEND;TZID=America/Chicago:20230316T181500
DTSTAMP:20260419T104222
CREATED:20230110T203316Z
LAST-MODIFIED:20230405T174033Z
UID:10001969-1678986000-1678990500@ynschoirs.org
SUMMARY:Aria Rehearsal
DESCRIPTION:Community Concert Center
URL:https://ynschoirs.org/calendar/aria-rehearsal-5/2023-03-16/
LOCATION:Community Concert Center\, 55 Concert Lane\, Naperville\, IL\, 60540
CATEGORIES:Aria,Parents
END:VEVENT
BEGIN:VEVENT
DTSTART;TZID=America/Chicago:20230316T164500
DTEND;TZID=America/Chicago:20230316T174500
DTSTAMP:20260419T104222
CREATED:20230110T203022Z
LAST-MODIFIED:20230405T174125Z
UID:10001938-1678985100-1678988700@ynschoirs.org
SUMMARY:Primo Thursday Rehearsal
DESCRIPTION:Our Saviour’s Lutheran Church
URL:https://ynschoirs.org/calendar/primo-thursday-rehearsal/2023-03-16/
LOCATION:Our Saviour’s Lutheran Church\, 815 S. Washington Street\, Naperville\, IL\, 60540
CATEGORIES:Parents,Primo
END:VEVENT
BEGIN:VEVENT
DTSTART;TZID=America/Chicago:20230316T163000
DTEND;TZID=America/Chicago:20230316T180000
DTSTAMP:20260419T104222
CREATED:20230110T203434Z
LAST-MODIFIED:20230110T203434Z
UID:10001985-1678984200-1678989600@ynschoirs.org
SUMMARY:Brillante Rehearsal
DESCRIPTION:Community Concert Center
URL:https://ynschoirs.org/calendar/brillante-rehearsal-5/2023-03-16/
LOCATION:Community Concert Center\, 55 Concert Lane\, Naperville\, IL\, 60540
CATEGORIES:Brillante,Parents
END:VEVENT
BEGIN:VEVENT
DTSTART;TZID=America/Chicago:20230315T164500
DTEND;TZID=America/Chicago:20230315T174500
DTSTAMP:20260419T104222
CREATED:20230110T202854Z
LAST-MODIFIED:20230405T174223Z
UID:10001953-1678898700-1678902300@ynschoirs.org
SUMMARY:Primo Wednesday Rehearsal
DESCRIPTION:Community Concert Center
URL:https://ynschoirs.org/calendar/primo-wednesday-rehearsal/2023-03-15/
LOCATION:Community Concert Center\, 55 Concert Lane\, Naperville\, IL\, 60540
CATEGORIES:Parents,Primo
END:VEVENT
BEGIN:VEVENT
DTSTART;TZID=America/Chicago:20230314T183000
DTEND;TZID=America/Chicago:20230314T200000
DTSTAMP:20260419T104222
CREATED:20230110T201710Z
LAST-MODIFIED:20230110T201710Z
UID:10001904-1678818600-1678824000@ynschoirs.org
SUMMARY:Cantabile Rehearsal
DESCRIPTION:Community Concert Center
URL:https://ynschoirs.org/calendar/cantabile-rehearsal-5/2023-03-14/
LOCATION:Community Concert Center\, 55 Concert Lane\, Naperville\, IL\, 60540
CATEGORIES:Cantabile,Parents
END:VEVENT
BEGIN:VEVENT
DTSTART;TZID=America/Chicago:20230314T181500
DTEND;TZID=America/Chicago:20230314T201500
DTSTAMP:20260419T104222
CREATED:20230110T200915Z
LAST-MODIFIED:20230110T200915Z
UID:10001873-1678817700-1678824900@ynschoirs.org
SUMMARY:Bella Voce Rehearsal
DESCRIPTION:Community Concert Center
URL:https://ynschoirs.org/calendar/bella-voce-rehearsal-5/2023-03-14/
LOCATION:Community Concert Center\, 55 Concert Lane\, Naperville\, IL\, 60540
CATEGORIES:Bella Voce,Parents
END:VEVENT
BEGIN:VEVENT
DTSTART;TZID=America/Chicago:20230314T164500
DTEND;TZID=America/Chicago:20230314T181500
DTSTAMP:20260419T104222
CREATED:20230110T202301Z
LAST-MODIFIED:20230110T202301Z
UID:10001920-1678812300-1678817700@ynschoirs.org
SUMMARY:Ragazzi Rehearsal
DESCRIPTION:Community Concert Center
URL:https://ynschoirs.org/calendar/ragazzi-rehearsal-5/2023-03-14/
LOCATION:Community Concert Center\, 55 Concert Lane\, Naperville\, IL\, 60540
CATEGORIES:Parents,Ragazzi
END:VEVENT
BEGIN:VEVENT
DTSTART;TZID=America/Chicago:20230314T163000
DTEND;TZID=America/Chicago:20230314T174500
DTSTAMP:20260419T104222
CREATED:20230110T201548Z
LAST-MODIFIED:20230405T174644Z
UID:10001889-1678811400-1678815900@ynschoirs.org
SUMMARY:Brio Rehearsal
DESCRIPTION:Community Concert Center
URL:https://ynschoirs.org/calendar/brio-rehearsal-5/2023-03-14/
LOCATION:Community Concert Center\, 55 Concert Lane\, Naperville\, IL\, 60540
CATEGORIES:Brio,Parents
END:VEVENT
BEGIN:VEVENT
DTSTART;TZID=America/Chicago:20230313T181500
DTEND;TZID=America/Chicago:20230313T201500
DTSTAMP:20260419T104222
CREATED:20230110T191334Z
LAST-MODIFIED:20230110T191334Z
UID:10001824-1678731300-1678738500@ynschoirs.org
SUMMARY:Bella Cantare Rehearsal
DESCRIPTION:Our Saviour’s Lutheran Church
URL:https://ynschoirs.org/calendar/bella-cantare-rehearsal-5/2023-03-13/
LOCATION:Our Saviour’s Lutheran Church\, 815 S. Washington Street\, Naperville\, IL\, 60540
CATEGORIES:Bella Cantare,Parents
END:VEVENT
BEGIN:VEVENT
DTSTART;TZID=America/Chicago:20230313T181500
DTEND;TZID=America/Chicago:20230313T200000
DTSTAMP:20260419T104222
CREATED:20230110T191952Z
LAST-MODIFIED:20230110T191952Z
UID:10001839-1678731300-1678737600@ynschoirs.org
SUMMARY:Canto Vivo Rehearsal
DESCRIPTION:Our Saviour’s Lutheran Church
URL:https://ynschoirs.org/calendar/canto-vivo-rehearsal-4/2023-03-13/
LOCATION:Our Saviour’s Lutheran Church\, 815 S. Washington Street\, Naperville\, IL\, 60540
CATEGORIES:Canto Vivo,Parents
END:VEVENT
BEGIN:VEVENT
DTSTART;TZID=America/Chicago:20230313T164500
DTEND;TZID=America/Chicago:20230313T174500
DTSTAMP:20260419T104222
CREATED:20230110T195652Z
LAST-MODIFIED:20230313T152848Z
UID:10001855-1678725900-1678729500@ynschoirs.org
SUMMARY:Dolce Rehearsal
DESCRIPTION:Allied First Bank – Oswego
URL:https://ynschoirs.org/calendar/dolce-rehearsal-6/2023-03-13/
LOCATION:ServBank\, 3201 Orchard Road\, Oswego\, IL\, 60543
CATEGORIES:Dolce,Parents
END:VEVENT
BEGIN:VEVENT
DTSTART;TZID=America/Chicago:20230309T170000
DTEND;TZID=America/Chicago:20230309T181500
DTSTAMP:20260419T104222
CREATED:20230110T203316Z
LAST-MODIFIED:20230405T174033Z
UID:10001968-1678381200-1678385700@ynschoirs.org
SUMMARY:Aria Rehearsal
DESCRIPTION:Community Concert Center
URL:https://ynschoirs.org/calendar/aria-rehearsal-5/2023-03-09/
LOCATION:Community Concert Center\, 55 Concert Lane\, Naperville\, IL\, 60540
CATEGORIES:Aria,Parents
END:VEVENT
BEGIN:VEVENT
DTSTART;TZID=America/Chicago:20230309T164500
DTEND;TZID=America/Chicago:20230309T174500
DTSTAMP:20260419T104222
CREATED:20230110T203022Z
LAST-MODIFIED:20230405T174125Z
UID:10001937-1678380300-1678383900@ynschoirs.org
SUMMARY:Primo Thursday Rehearsal
DESCRIPTION:Our Saviour’s Lutheran Church
URL:https://ynschoirs.org/calendar/primo-thursday-rehearsal/2023-03-09/
LOCATION:Our Saviour’s Lutheran Church\, 815 S. Washington Street\, Naperville\, IL\, 60540
CATEGORIES:Parents,Primo
END:VEVENT
END:VCALENDAR