BEGIN:VCALENDAR
VERSION:2.0
PRODID:-//Young Naperville Singers - ECPv6.8.0//NONSGML v1.0//EN
CALSCALE:GREGORIAN
METHOD:PUBLISH
X-WR-CALNAME:Young Naperville Singers
X-ORIGINAL-URL:https://ynschoirs.org
X-WR-CALDESC:Events for Young Naperville Singers
REFRESH-INTERVAL;VALUE=DURATION:PT1H
X-Robots-Tag:noindex
X-PUBLISHED-TTL:PT1H
BEGIN:VTIMEZONE
TZID:America/Chicago
BEGIN:DAYLIGHT
TZOFFSETFROM:-0600
TZOFFSETTO:-0500
TZNAME:CDT
DTSTART:20230312T080000
END:DAYLIGHT
BEGIN:STANDARD
TZOFFSETFROM:-0500
TZOFFSETTO:-0600
TZNAME:CST
DTSTART:20231105T070000
END:STANDARD
END:VTIMEZONE
BEGIN:VEVENT
DTSTART;TZID=America/Chicago:20230314T163000
DTEND;TZID=America/Chicago:20230314T174500
DTSTAMP:20260419T135407
CREATED:20230110T201548Z
LAST-MODIFIED:20230405T174644Z
UID:10001889-1678811400-1678815900@ynschoirs.org
SUMMARY:Brio Rehearsal
DESCRIPTION:Community Concert Center
URL:https://ynschoirs.org/calendar/brio-rehearsal-5/2023-03-14/
LOCATION:Community Concert Center\, 55 Concert Lane\, Naperville\, IL\, 60540
CATEGORIES:Brio,Parents
END:VEVENT
BEGIN:VEVENT
DTSTART;TZID=America/Chicago:20230313T181500
DTEND;TZID=America/Chicago:20230313T201500
DTSTAMP:20260419T135407
CREATED:20230110T191334Z
LAST-MODIFIED:20230110T191334Z
UID:10001824-1678731300-1678738500@ynschoirs.org
SUMMARY:Bella Cantare Rehearsal
DESCRIPTION:Our Saviour’s Lutheran Church
URL:https://ynschoirs.org/calendar/bella-cantare-rehearsal-5/2023-03-13/
LOCATION:Our Saviour’s Lutheran Church\, 815 S. Washington Street\, Naperville\, IL\, 60540
CATEGORIES:Bella Cantare,Parents
END:VEVENT
BEGIN:VEVENT
DTSTART;TZID=America/Chicago:20230313T181500
DTEND;TZID=America/Chicago:20230313T200000
DTSTAMP:20260419T135407
CREATED:20230110T191952Z
LAST-MODIFIED:20230110T191952Z
UID:10001839-1678731300-1678737600@ynschoirs.org
SUMMARY:Canto Vivo Rehearsal
DESCRIPTION:Our Saviour’s Lutheran Church
URL:https://ynschoirs.org/calendar/canto-vivo-rehearsal-4/2023-03-13/
LOCATION:Our Saviour’s Lutheran Church\, 815 S. Washington Street\, Naperville\, IL\, 60540
CATEGORIES:Canto Vivo,Parents
END:VEVENT
BEGIN:VEVENT
DTSTART;TZID=America/Chicago:20230313T164500
DTEND;TZID=America/Chicago:20230313T174500
DTSTAMP:20260419T135407
CREATED:20230110T195652Z
LAST-MODIFIED:20230313T152848Z
UID:10001855-1678725900-1678729500@ynschoirs.org
SUMMARY:Dolce Rehearsal
DESCRIPTION:Allied First Bank – Oswego
URL:https://ynschoirs.org/calendar/dolce-rehearsal-6/2023-03-13/
LOCATION:ServBank\, 3201 Orchard Road\, Oswego\, IL\, 60543
CATEGORIES:Dolce,Parents
END:VEVENT
BEGIN:VEVENT
DTSTART;TZID=America/Chicago:20230309T170000
DTEND;TZID=America/Chicago:20230309T181500
DTSTAMP:20260419T135407
CREATED:20230110T203316Z
LAST-MODIFIED:20230405T174033Z
UID:10001968-1678381200-1678385700@ynschoirs.org
SUMMARY:Aria Rehearsal
DESCRIPTION:Community Concert Center
URL:https://ynschoirs.org/calendar/aria-rehearsal-5/2023-03-09/
LOCATION:Community Concert Center\, 55 Concert Lane\, Naperville\, IL\, 60540
CATEGORIES:Aria,Parents
END:VEVENT
BEGIN:VEVENT
DTSTART;TZID=America/Chicago:20230309T164500
DTEND;TZID=America/Chicago:20230309T174500
DTSTAMP:20260419T135407
CREATED:20230110T203022Z
LAST-MODIFIED:20230405T174125Z
UID:10001937-1678380300-1678383900@ynschoirs.org
SUMMARY:Primo Thursday Rehearsal
DESCRIPTION:Our Saviour’s Lutheran Church
URL:https://ynschoirs.org/calendar/primo-thursday-rehearsal/2023-03-09/
LOCATION:Our Saviour’s Lutheran Church\, 815 S. Washington Street\, Naperville\, IL\, 60540
CATEGORIES:Parents,Primo
END:VEVENT
BEGIN:VEVENT
DTSTART;TZID=America/Chicago:20230309T163000
DTEND;TZID=America/Chicago:20230309T180000
DTSTAMP:20260419T135407
CREATED:20230110T203434Z
LAST-MODIFIED:20230110T203434Z
UID:10001984-1678379400-1678384800@ynschoirs.org
SUMMARY:Brillante Rehearsal
DESCRIPTION:Community Concert Center
URL:https://ynschoirs.org/calendar/brillante-rehearsal-5/2023-03-09/
LOCATION:Community Concert Center\, 55 Concert Lane\, Naperville\, IL\, 60540
CATEGORIES:Brillante,Parents
END:VEVENT
BEGIN:VEVENT
DTSTART;TZID=America/Chicago:20230308T164500
DTEND;TZID=America/Chicago:20230308T174500
DTSTAMP:20260419T135407
CREATED:20230110T202854Z
LAST-MODIFIED:20230405T174223Z
UID:10001952-1678293900-1678297500@ynschoirs.org
SUMMARY:Primo Wednesday Rehearsal
DESCRIPTION:Community Concert Center
URL:https://ynschoirs.org/calendar/primo-wednesday-rehearsal/2023-03-08/
LOCATION:Community Concert Center\, 55 Concert Lane\, Naperville\, IL\, 60540
CATEGORIES:Parents,Primo
END:VEVENT
BEGIN:VEVENT
DTSTART;TZID=America/Chicago:20230307T183000
DTEND;TZID=America/Chicago:20230307T200000
DTSTAMP:20260419T135407
CREATED:20230110T201710Z
LAST-MODIFIED:20230110T201710Z
UID:10001903-1678213800-1678219200@ynschoirs.org
SUMMARY:Cantabile Rehearsal
DESCRIPTION:Community Concert Center
URL:https://ynschoirs.org/calendar/cantabile-rehearsal-5/2023-03-07/
LOCATION:Community Concert Center\, 55 Concert Lane\, Naperville\, IL\, 60540
CATEGORIES:Cantabile,Parents
END:VEVENT
BEGIN:VEVENT
DTSTART;TZID=America/Chicago:20230307T181500
DTEND;TZID=America/Chicago:20230307T201500
DTSTAMP:20260419T135407
CREATED:20230110T200915Z
LAST-MODIFIED:20230110T200915Z
UID:10001872-1678212900-1678220100@ynschoirs.org
SUMMARY:Bella Voce Rehearsal
DESCRIPTION:Community Concert Center
URL:https://ynschoirs.org/calendar/bella-voce-rehearsal-5/2023-03-07/
LOCATION:Community Concert Center\, 55 Concert Lane\, Naperville\, IL\, 60540
CATEGORIES:Bella Voce,Parents
END:VEVENT
BEGIN:VEVENT
DTSTART;TZID=America/Chicago:20230307T164500
DTEND;TZID=America/Chicago:20230307T181500
DTSTAMP:20260419T135407
CREATED:20230110T202301Z
LAST-MODIFIED:20230110T202301Z
UID:10001919-1678207500-1678212900@ynschoirs.org
SUMMARY:Ragazzi Rehearsal
DESCRIPTION:Community Concert Center
URL:https://ynschoirs.org/calendar/ragazzi-rehearsal-5/2023-03-07/
LOCATION:Community Concert Center\, 55 Concert Lane\, Naperville\, IL\, 60540
CATEGORIES:Parents,Ragazzi
END:VEVENT
BEGIN:VEVENT
DTSTART;TZID=America/Chicago:20230307T163000
DTEND;TZID=America/Chicago:20230307T174500
DTSTAMP:20260419T135407
CREATED:20230110T201548Z
LAST-MODIFIED:20230405T174644Z
UID:10001888-1678206600-1678211100@ynschoirs.org
SUMMARY:Brio Rehearsal
DESCRIPTION:Community Concert Center
URL:https://ynschoirs.org/calendar/brio-rehearsal-5/2023-03-07/
LOCATION:Community Concert Center\, 55 Concert Lane\, Naperville\, IL\, 60540
CATEGORIES:Brio,Parents
END:VEVENT
BEGIN:VEVENT
DTSTART;TZID=America/Chicago:20230306T181500
DTEND;TZID=America/Chicago:20230306T201500
DTSTAMP:20260419T135407
CREATED:20230110T191334Z
LAST-MODIFIED:20230110T191334Z
UID:10001823-1678126500-1678133700@ynschoirs.org
SUMMARY:Bella Cantare Rehearsal
DESCRIPTION:Our Saviour’s Lutheran Church
URL:https://ynschoirs.org/calendar/bella-cantare-rehearsal-5/2023-03-06/
LOCATION:Our Saviour’s Lutheran Church\, 815 S. Washington Street\, Naperville\, IL\, 60540
CATEGORIES:Bella Cantare,Parents
END:VEVENT
BEGIN:VEVENT
DTSTART;TZID=America/Chicago:20230306T181500
DTEND;TZID=America/Chicago:20230306T200000
DTSTAMP:20260419T135407
CREATED:20230110T191952Z
LAST-MODIFIED:20230110T191952Z
UID:10001838-1678126500-1678132800@ynschoirs.org
SUMMARY:Canto Vivo Rehearsal
DESCRIPTION:Our Saviour’s Lutheran Church
URL:https://ynschoirs.org/calendar/canto-vivo-rehearsal-4/2023-03-06/
LOCATION:Our Saviour’s Lutheran Church\, 815 S. Washington Street\, Naperville\, IL\, 60540
CATEGORIES:Canto Vivo,Parents
END:VEVENT
BEGIN:VEVENT
DTSTART;TZID=America/Chicago:20230306T164500
DTEND;TZID=America/Chicago:20230306T174500
DTSTAMP:20260419T135407
CREATED:20230110T195652Z
LAST-MODIFIED:20230313T152848Z
UID:10001854-1678121100-1678124700@ynschoirs.org
SUMMARY:Dolce Rehearsal
DESCRIPTION:Allied First Bank – Oswego
URL:https://ynschoirs.org/calendar/dolce-rehearsal-6/2023-03-06/
LOCATION:ServBank\, 3201 Orchard Road\, Oswego\, IL\, 60543
CATEGORIES:Dolce,Parents
END:VEVENT
BEGIN:VEVENT
DTSTART;TZID=America/Chicago:20230302T170000
DTEND;TZID=America/Chicago:20230302T181500
DTSTAMP:20260419T135407
CREATED:20230110T203316Z
LAST-MODIFIED:20230405T174033Z
UID:10001967-1677776400-1677780900@ynschoirs.org
SUMMARY:Aria Rehearsal
DESCRIPTION:Community Concert Center
URL:https://ynschoirs.org/calendar/aria-rehearsal-5/2023-03-02/
LOCATION:Community Concert Center\, 55 Concert Lane\, Naperville\, IL\, 60540
CATEGORIES:Aria,Parents
END:VEVENT
BEGIN:VEVENT
DTSTART;TZID=America/Chicago:20230302T164500
DTEND;TZID=America/Chicago:20230302T174500
DTSTAMP:20260419T135407
CREATED:20230110T203022Z
LAST-MODIFIED:20230405T174125Z
UID:10001936-1677775500-1677779100@ynschoirs.org
SUMMARY:Primo Thursday Rehearsal
DESCRIPTION:Our Saviour’s Lutheran Church
URL:https://ynschoirs.org/calendar/primo-thursday-rehearsal/2023-03-02/
LOCATION:Our Saviour’s Lutheran Church\, 815 S. Washington Street\, Naperville\, IL\, 60540
CATEGORIES:Parents,Primo
END:VEVENT
BEGIN:VEVENT
DTSTART;TZID=America/Chicago:20230302T163000
DTEND;TZID=America/Chicago:20230302T180000
DTSTAMP:20260419T135407
CREATED:20230110T203434Z
LAST-MODIFIED:20230110T203434Z
UID:10001983-1677774600-1677780000@ynschoirs.org
SUMMARY:Brillante Rehearsal
DESCRIPTION:Community Concert Center
URL:https://ynschoirs.org/calendar/brillante-rehearsal-5/2023-03-02/
LOCATION:Community Concert Center\, 55 Concert Lane\, Naperville\, IL\, 60540
CATEGORIES:Brillante,Parents
END:VEVENT
BEGIN:VEVENT
DTSTART;TZID=America/Chicago:20230301T164500
DTEND;TZID=America/Chicago:20230301T174500
DTSTAMP:20260419T135407
CREATED:20230110T202854Z
LAST-MODIFIED:20230405T174223Z
UID:10001951-1677689100-1677692700@ynschoirs.org
SUMMARY:Primo Wednesday Rehearsal
DESCRIPTION:Community Concert Center
URL:https://ynschoirs.org/calendar/primo-wednesday-rehearsal/2023-03-01/
LOCATION:Community Concert Center\, 55 Concert Lane\, Naperville\, IL\, 60540
CATEGORIES:Parents,Primo
END:VEVENT
BEGIN:VEVENT
DTSTART;TZID=America/Chicago:20230228T183000
DTEND;TZID=America/Chicago:20230228T200000
DTSTAMP:20260419T135407
CREATED:20230110T201710Z
LAST-MODIFIED:20230110T201710Z
UID:10001902-1677609000-1677614400@ynschoirs.org
SUMMARY:Cantabile Rehearsal
DESCRIPTION:Community Concert Center
URL:https://ynschoirs.org/calendar/cantabile-rehearsal-5/2023-02-28/
LOCATION:Community Concert Center\, 55 Concert Lane\, Naperville\, IL\, 60540
CATEGORIES:Cantabile,Parents
END:VEVENT
BEGIN:VEVENT
DTSTART;TZID=America/Chicago:20230228T181500
DTEND;TZID=America/Chicago:20230228T201500
DTSTAMP:20260419T135407
CREATED:20230110T200915Z
LAST-MODIFIED:20230110T200915Z
UID:10001871-1677608100-1677615300@ynschoirs.org
SUMMARY:Bella Voce Rehearsal
DESCRIPTION:Community Concert Center
URL:https://ynschoirs.org/calendar/bella-voce-rehearsal-5/2023-02-28/
LOCATION:Community Concert Center\, 55 Concert Lane\, Naperville\, IL\, 60540
CATEGORIES:Bella Voce,Parents
END:VEVENT
BEGIN:VEVENT
DTSTART;TZID=America/Chicago:20230228T164500
DTEND;TZID=America/Chicago:20230228T181500
DTSTAMP:20260419T135407
CREATED:20230110T202301Z
LAST-MODIFIED:20230110T202301Z
UID:10001918-1677602700-1677608100@ynschoirs.org
SUMMARY:Ragazzi Rehearsal
DESCRIPTION:Community Concert Center
URL:https://ynschoirs.org/calendar/ragazzi-rehearsal-5/2023-02-28/
LOCATION:Community Concert Center\, 55 Concert Lane\, Naperville\, IL\, 60540
CATEGORIES:Parents,Ragazzi
END:VEVENT
BEGIN:VEVENT
DTSTART;TZID=America/Chicago:20230228T163000
DTEND;TZID=America/Chicago:20230228T174500
DTSTAMP:20260419T135407
CREATED:20230110T201548Z
LAST-MODIFIED:20230405T174644Z
UID:10001887-1677601800-1677606300@ynschoirs.org
SUMMARY:Brio Rehearsal
DESCRIPTION:Community Concert Center
URL:https://ynschoirs.org/calendar/brio-rehearsal-5/2023-02-28/
LOCATION:Community Concert Center\, 55 Concert Lane\, Naperville\, IL\, 60540
CATEGORIES:Brio,Parents
END:VEVENT
BEGIN:VEVENT
DTSTART;TZID=America/Chicago:20230227T181500
DTEND;TZID=America/Chicago:20230227T201500
DTSTAMP:20260419T135407
CREATED:20230110T191334Z
LAST-MODIFIED:20230110T191334Z
UID:10001822-1677521700-1677528900@ynschoirs.org
SUMMARY:Bella Cantare Rehearsal
DESCRIPTION:Our Saviour’s Lutheran Church
URL:https://ynschoirs.org/calendar/bella-cantare-rehearsal-5/2023-02-27/
LOCATION:Our Saviour’s Lutheran Church\, 815 S. Washington Street\, Naperville\, IL\, 60540
CATEGORIES:Bella Cantare,Parents
END:VEVENT
BEGIN:VEVENT
DTSTART;TZID=America/Chicago:20230227T181500
DTEND;TZID=America/Chicago:20230227T200000
DTSTAMP:20260419T135407
CREATED:20230110T191952Z
LAST-MODIFIED:20230110T191952Z
UID:10001837-1677521700-1677528000@ynschoirs.org
SUMMARY:Canto Vivo Rehearsal
DESCRIPTION:Our Saviour’s Lutheran Church
URL:https://ynschoirs.org/calendar/canto-vivo-rehearsal-4/2023-02-27/
LOCATION:Our Saviour’s Lutheran Church\, 815 S. Washington Street\, Naperville\, IL\, 60540
CATEGORIES:Canto Vivo,Parents
END:VEVENT
BEGIN:VEVENT
DTSTART;TZID=America/Chicago:20230227T164500
DTEND;TZID=America/Chicago:20230227T174500
DTSTAMP:20260419T135407
CREATED:20230110T195652Z
LAST-MODIFIED:20230313T152848Z
UID:10001853-1677516300-1677519900@ynschoirs.org
SUMMARY:Dolce Rehearsal
DESCRIPTION:Allied First Bank – Oswego
URL:https://ynschoirs.org/calendar/dolce-rehearsal-6/2023-02-27/
LOCATION:ServBank\, 3201 Orchard Road\, Oswego\, IL\, 60543
CATEGORIES:Dolce,Parents
END:VEVENT
BEGIN:VEVENT
DTSTART;TZID=America/Chicago:20230223T170000
DTEND;TZID=America/Chicago:20230223T181500
DTSTAMP:20260419T135407
CREATED:20230110T203316Z
LAST-MODIFIED:20230405T174033Z
UID:10001966-1677171600-1677176100@ynschoirs.org
SUMMARY:Aria Rehearsal
DESCRIPTION:Community Concert Center
URL:https://ynschoirs.org/calendar/aria-rehearsal-5/2023-02-23/
LOCATION:Community Concert Center\, 55 Concert Lane\, Naperville\, IL\, 60540
CATEGORIES:Aria,Parents
END:VEVENT
BEGIN:VEVENT
DTSTART;TZID=America/Chicago:20230223T164500
DTEND;TZID=America/Chicago:20230223T174500
DTSTAMP:20260419T135407
CREATED:20230110T203022Z
LAST-MODIFIED:20230405T174125Z
UID:10001935-1677170700-1677174300@ynschoirs.org
SUMMARY:Primo Thursday Rehearsal
DESCRIPTION:Our Saviour’s Lutheran Church
URL:https://ynschoirs.org/calendar/primo-thursday-rehearsal/2023-02-23/
LOCATION:Our Saviour’s Lutheran Church\, 815 S. Washington Street\, Naperville\, IL\, 60540
CATEGORIES:Parents,Primo
END:VEVENT
BEGIN:VEVENT
DTSTART;TZID=America/Chicago:20230223T163000
DTEND;TZID=America/Chicago:20230223T180000
DTSTAMP:20260419T135407
CREATED:20230110T203434Z
LAST-MODIFIED:20230110T203434Z
UID:10001982-1677169800-1677175200@ynschoirs.org
SUMMARY:Brillante Rehearsal
DESCRIPTION:Community Concert Center
URL:https://ynschoirs.org/calendar/brillante-rehearsal-5/2023-02-23/
LOCATION:Community Concert Center\, 55 Concert Lane\, Naperville\, IL\, 60540
CATEGORIES:Brillante,Parents
END:VEVENT
BEGIN:VEVENT
DTSTART;TZID=America/Chicago:20230222T164500
DTEND;TZID=America/Chicago:20230222T174500
DTSTAMP:20260419T135407
CREATED:20230110T202854Z
LAST-MODIFIED:20230405T174223Z
UID:10001950-1677084300-1677087900@ynschoirs.org
SUMMARY:Primo Wednesday Rehearsal
DESCRIPTION:Community Concert Center
URL:https://ynschoirs.org/calendar/primo-wednesday-rehearsal/2023-02-22/
LOCATION:Community Concert Center\, 55 Concert Lane\, Naperville\, IL\, 60540
CATEGORIES:Parents,Primo
END:VEVENT
END:VCALENDAR